BEGIN:VCALENDAR
VERSION:2.0
PRODID:-//AZ Veterans - ECPv6.15.20//NONSGML v1.0//EN
CALSCALE:GREGORIAN
METHOD:PUBLISH
X-ORIGINAL-URL:https://azveterans.com
X-WR-CALDESC:Events for AZ Veterans
REFRESH-INTERVAL;VALUE=DURATION:PT1H
X-Robots-Tag:noindex
X-PUBLISHED-TTL:PT1H
BEGIN:VTIMEZONE
TZID:America/Phoenix
BEGIN:STANDARD
TZOFFSETFROM:-0700
TZOFFSETTO:-0700
TZNAME:MST
DTSTART:20240101T000000
END:STANDARD
END:VTIMEZONE
BEGIN:VEVENT
DTSTART;TZID=America/Phoenix:20251016T180000
DTEND;TZID=America/Phoenix:20251016T200000
DTSTAMP:20260422T005915
CREATED:20250917T201926Z
LAST-MODIFIED:20250917T201926Z
UID:10002476-1760637600-1760644800@azveterans.com
SUMMARY:CVA Tucson Community Mixer
DESCRIPTION:Come enjoy some food\, drinks\, camaraderie\, and learn about CVA with your community. Food and a drink are on us!
URL:https://azveterans.com/event/cva-tucson-community-mixer/
LOCATION:Union Public House\, 4340 N Campbell Ave Ste 100\, Tucson\, 85718\, United States
ORGANIZER;CN="Tim Taylor":MAILTO:ttaylor@cv4a.org
END:VEVENT
END:VCALENDAR