BEGIN:VCALENDAR
VERSION:2.0
PRODID:-//AZ Veterans - ECPv6.15.20//NONSGML v1.0//EN
CALSCALE:GREGORIAN
METHOD:PUBLISH
X-ORIGINAL-URL:https://azveterans.com
X-WR-CALDESC:Events for AZ Veterans
REFRESH-INTERVAL;VALUE=DURATION:PT1H
X-Robots-Tag:noindex
X-PUBLISHED-TTL:PT1H
BEGIN:VTIMEZONE
TZID:America/Phoenix
BEGIN:STANDARD
TZOFFSETFROM:-0700
TZOFFSETTO:-0700
TZNAME:MST
DTSTART:20240101T000000
END:STANDARD
END:VTIMEZONE
BEGIN:VEVENT
DTSTART;TZID=America/Phoenix:20250924T080000
DTEND;TZID=America/Phoenix:20250924T160000
DTSTAMP:20260424T024151
CREATED:20250726T185433Z
LAST-MODIFIED:20250726T185433Z
UID:10002135-1758700800-1758729600@azveterans.com
SUMMARY:Reboot - Papago Army National Guard - OWNING A VETERAN-OWNED Small BUSINESS
DESCRIPTION:OWNING A VETERAN-OWNED Small BUSINESS \nBoots to Business Reboot is a two-step training program that provides participants an overview of business ownership as a career vocation\, an outline and knowledge on the components of a business plan\, a practical exercise in opportunity recognition\, and an introduction to available public and private sector resources. \n \n 
URL:https://azveterans.com/event/reboot-papago-army-national-guard-owning-a-veteran-owned-small-business/
LOCATION:Papago Army National Guard\, 5636 E McDowell Rd BLDG M5710\, Phoenix\, AZ\, 85008\, United States
ORGANIZER;CN="Miriam Ortiz":MAILTO:admin@arizonavboc.org
END:VEVENT
BEGIN:VEVENT
DTSTART;TZID=America/Phoenix:20250723T080000
DTEND;TZID=America/Phoenix:20250723T160000
DTSTAMP:20260424T024151
CREATED:20250513T163943Z
LAST-MODIFIED:20250513T163943Z
UID:10000579-1753257600-1753286400@azveterans.com
SUMMARY:Veterans Business Outreach Center- Reboot- Papago Army National Guard
DESCRIPTION:Reboot- Papago Army National Guard\nDate: 7/23/2025\nTime: 8:30 AM – 4:30 PM (MST)\nStatus: Open – Spots filling up quickly!\nRegistration Deadline: 7/23/2025 8:00 AM (MST)\nFee: No Fee \nPoint of Contact: Miriam Ortiz (480) 431-4171\nLocation: 1201 E Thomas Rd\, Phoenix AZ 85014-5734 \nTraining Topics: Boots to Business/Reboot\nDescription: \n\nLocation for Event- \n5636 E McDowell Rd BLDG M5710\, Phoenix\, AZ 85008 \nSOUTH SIDE OF PPMR\, ENTER SOUTH MCDOWELL ENTRANCE LARGE LETTERS ON SIDE OF BUILDING THAT SAYS ‘ID CARDS’ State ID or CAC to enter installation when checking in with security Gate. \nInstructions: \n\nLocation for Event- \n5636 E McDowell Rd BLDG M5710\, Phoenix\, AZ 85008 \nSOUTH SIDE OF PPMR\, ENTER SOUTH MCDOWELL ENTRANCE LARGE LETTERS ON SIDE OF BUILDING THAT SAYS ‘ID CARDS’ State ID or CAC to enter installation when checking in with security Gate.
URL:https://azveterans.com/event/veterans-business-outreach-center-reboot-papago-army-national-guard/
LOCATION:Papago Army National Guard\, 5636 E McDowell Rd BLDG M5710\, Phoenix\, AZ\, 85008\, United States
ORGANIZER;CN="Veterans Business Outreach Center":MAILTO:admin@arizonavboc.org
END:VEVENT
END:VCALENDAR