BEGIN:VCALENDAR
VERSION:2.0
PRODID:-//AZ Veterans - ECPv6.15.20//NONSGML v1.0//EN
CALSCALE:GREGORIAN
METHOD:PUBLISH
X-ORIGINAL-URL:https://azveterans.com
X-WR-CALDESC:Events for AZ Veterans
REFRESH-INTERVAL;VALUE=DURATION:PT1H
X-Robots-Tag:noindex
X-PUBLISHED-TTL:PT1H
BEGIN:VTIMEZONE
TZID:America/Phoenix
BEGIN:STANDARD
TZOFFSETFROM:-0700
TZOFFSETTO:-0700
TZNAME:MST
DTSTART:20240101T000000
END:STANDARD
END:VTIMEZONE
BEGIN:VEVENT
DTSTART;VALUE=DATE:20250423
DTEND;VALUE=DATE:20250425
DTSTAMP:20260421T095439
CREATED:20250409T003041Z
LAST-MODIFIED:20250409T035834Z
UID:10000016-1745366400-1745539199@azveterans.com
SUMMARY:Page Veteran Stand Down
DESCRIPTION:Page Regional Veteran Stand Down – come and find resources and learn about your benefits and receive services. \n9am-3pm each both days!
URL:https://azveterans.com/event/page-veteran-stand-down/
LOCATION:Page Elks Lodge 2498\, 806 Aqua Ave\, Page\, AZ\, 86040\, United States
END:VEVENT
END:VCALENDAR