BEGIN:VCALENDAR
VERSION:2.0
PRODID:-//AZ Veterans - ECPv6.15.20//NONSGML v1.0//EN
CALSCALE:GREGORIAN
METHOD:PUBLISH
X-ORIGINAL-URL:https://azveterans.com
X-WR-CALDESC:Events for AZ Veterans
REFRESH-INTERVAL;VALUE=DURATION:PT1H
X-Robots-Tag:noindex
X-PUBLISHED-TTL:PT1H
BEGIN:VTIMEZONE
TZID:America/Phoenix
BEGIN:STANDARD
TZOFFSETFROM:-0700
TZOFFSETTO:-0700
TZNAME:MST
DTSTART:20240101T000000
END:STANDARD
END:VTIMEZONE
BEGIN:VEVENT
DTSTART;TZID=America/Phoenix:20250814T080000
DTEND;TZID=America/Phoenix:20250814T170000
DTSTAMP:20260424T090530
CREATED:20250730T192150Z
LAST-MODIFIED:20250730T192150Z
UID:10002141-1755158400-1755190800@azveterans.com
SUMMARY:NAVAJO CODE TALKERS DAY Stand Down
DESCRIPTION:NAVAJO CODE TALKERS DAYGourd Dance | Code Talker Recognition | Stand DownThursdayAUGUST 14ᵗʰ\, 2025 \nConnecting Homeless & At-Risk Veterans and their Families with Essential Community Services \n\n\nWounded Warrior Project \n\n\nArizona Work –• Dept Economic Security \n\n\nHonor Health \n\n\nCarry Me – Productions \n\n\nBrain Injury Alliance AZ \n\n\nArizona Complete Health \n\n\nU.S Department of Veteran Affairs \n\n\nThe Voice of Arizona’s Veterans \n\n\nBanner University Health Plans \n\n\nBlue Cross Blue Shield AZ \n\n\nSolari | Crisis & Human Service \n\n\nU.S Vets Phoenix \n\n\nMilitary Onesource \n\n\nMercy Care \n\n\nASU – Thunderbird \n\n\nSoldier’s Best Friend \n\n\nHospice of the Valley \n\n\nAt Navajo Nation Fair GroundsU.S. MARINE CORPS – WWIINAVAJO CODE TALKERS ASSN. \nExtended Information contact the Navajo Nation Veteran Administration928.871.7307 | nnavafortd@navajo-nsn.gov \nNot Responsible for any theft\, injuries or accidents
URL:https://azveterans.com/event/navajo-code-talkers-day-stand-down/
LOCATION:Navajo Nations Fairgrounds – Window Rock\, Window Rock\, United States
ORGANIZER;CN="Navajo Nation Veteran Administration":MAILTO:nnavafortd@navajo-nsn.gov
END:VEVENT
END:VCALENDAR