BEGIN:VCALENDAR
VERSION:2.0
PRODID:-//AZ Veterans - ECPv6.15.20//NONSGML v1.0//EN
CALSCALE:GREGORIAN
METHOD:PUBLISH
X-ORIGINAL-URL:https://azveterans.com
X-WR-CALDESC:Events for AZ Veterans
REFRESH-INTERVAL;VALUE=DURATION:PT1H
X-Robots-Tag:noindex
X-PUBLISHED-TTL:PT1H
BEGIN:VTIMEZONE
TZID:America/Phoenix
BEGIN:STANDARD
TZOFFSETFROM:-0700
TZOFFSETTO:-0700
TZNAME:MST
DTSTART:20240101T000000
END:STANDARD
END:VTIMEZONE
BEGIN:VEVENT
DTSTART;TZID=America/Phoenix:20250412T170000
DTEND;TZID=America/Phoenix:20250412T200000
DTSTAMP:20260424T191157
CREATED:20250401T102706Z
LAST-MODIFIED:20250409T035721Z
UID:10000002-1744477200-1744488000@azveterans.com
SUMMARY:Vet Fest - Surprise
DESCRIPTION:Surprise is excited to offer our community a chance to celebrate and connect at Vet Fest!\n\nThis all-ages\, fun-filled evening is for our entire community. Veterans\, military families and all supporters are encouraged to come out and enjoy music\, food\, vendors\, kid’s zone\, job fair\, volunteer projects & more!\n\nVet Fest is presented by America’s Mighty Warriors and is supported by Arizona Public Service – APS and Arizona at Work Maricopa County.\n\nDetails at surpriseaz.gov/VetFest.\n\nFacebook – https://www.facebook.com/events/1156477492634557/?acontext=%7B%22event_action_history%22%3A[%7B%22surface%22%3A%22search%22%7D%2C%7B%22mechanism%22%3A%22attachment%22%2C%22surface%22%3A%22newsfeed%22%7D]%2C%22ref_notif_type%22%3Anull%7D
URL:https://azveterans.com/event/vet-fest-surprise/
LOCATION:Mark Coronado Park Surprise\, Az\, 15960 N Bullard Ave\, AZ\, United States
END:VEVENT
END:VCALENDAR