BEGIN:VCALENDAR
VERSION:2.0
PRODID:-//AZ Veterans - ECPv6.15.20//NONSGML v1.0//EN
CALSCALE:GREGORIAN
METHOD:PUBLISH
X-ORIGINAL-URL:https://azveterans.com
X-WR-CALDESC:Events for AZ Veterans
REFRESH-INTERVAL;VALUE=DURATION:PT1H
X-Robots-Tag:noindex
X-PUBLISHED-TTL:PT1H
BEGIN:VTIMEZONE
TZID:America/Phoenix
BEGIN:STANDARD
TZOFFSETFROM:-0700
TZOFFSETTO:-0700
TZNAME:MST
DTSTART:20240101T000000
END:STANDARD
END:VTIMEZONE
BEGIN:VEVENT
DTSTART;TZID=America/Phoenix:20250415T100000
DTEND;TZID=America/Phoenix:20250415T120000
DTSTAMP:20260421T153332
CREATED:20250415T044446Z
LAST-MODIFIED:20250415T045027Z
UID:10000035-1744711200-1744718400@azveterans.com
SUMMARY:Building a DREAM Job Fair
DESCRIPTION:Searching for a job? \nFIND YOUR JOB AT THE SPRING 2025 BUILDING A DREAM JOB FAIR AT KINO EVENT CENTER \nDREAM Job Seeker Flyer – Spring 2025
URL:https://azveterans.com/event/building-a-dream-job-fair/
LOCATION:Kino Event Center\, 2805 E. Ajo Way\, Tucson\, AZ\, 85713\, United States
END:VEVENT
END:VCALENDAR