BEGIN:VCALENDAR
VERSION:2.0
PRODID:-//AZ Veterans - ECPv6.15.20//NONSGML v1.0//EN
CALSCALE:GREGORIAN
METHOD:PUBLISH
X-ORIGINAL-URL:https://azveterans.com
X-WR-CALDESC:Events for AZ Veterans
REFRESH-INTERVAL;VALUE=DURATION:PT1H
X-Robots-Tag:noindex
X-PUBLISHED-TTL:PT1H
BEGIN:VTIMEZONE
TZID:America/Phoenix
BEGIN:STANDARD
TZOFFSETFROM:-0700
TZOFFSETTO:-0700
TZNAME:MST
DTSTART:20240101T000000
END:STANDARD
END:VTIMEZONE
BEGIN:VEVENT
DTSTART;TZID=America/Phoenix:20250605T180000
DTEND;TZID=America/Phoenix:20250605T200000
DTSTAMP:20260421T083412
CREATED:20250517T031237Z
LAST-MODIFIED:20250517T031237Z
UID:10000586-1749146400-1749153600@azveterans.com
SUMMARY:Prescott Salute to Service Dinner
DESCRIPTION:We are excited to be hosting our Annual Salute to Service Dinner in Prescott! We hope you will join us to hear testimonies from our veteran graduates and learn more about Soldier’s Best Friend’s mission. Grab a friend or two and join us for the evening. All proceeds from this event will go toward continuing to provide life-changing services at no cost to eligible veterans. \nPrescott Salute To Service Dinner
URL:https://azveterans.com/event/prescott-salute-to-service-dinner/
LOCATION:Elks Theater\, 117 E. Gurley Street\, Prescott\, 86301\, United States
ORGANIZER;CN="Soldier's Best Friend":MAILTO:events@soldiersbestfriend.org
END:VEVENT
END:VCALENDAR