BEGIN:VCALENDAR
VERSION:2.0
PRODID:-//AZ Veterans - ECPv6.15.20//NONSGML v1.0//EN
CALSCALE:GREGORIAN
METHOD:PUBLISH
X-WR-CALNAME:AZ Veterans
X-ORIGINAL-URL:https://azveterans.com
X-WR-CALDESC:Events for AZ Veterans
REFRESH-INTERVAL;VALUE=DURATION:PT1H
X-Robots-Tag:noindex
X-PUBLISHED-TTL:PT1H
BEGIN:VTIMEZONE
TZID:America/Phoenix
BEGIN:STANDARD
TZOFFSETFROM:-0700
TZOFFSETTO:-0700
TZNAME:MST
DTSTART:20250101T000000
END:STANDARD
END:VTIMEZONE
BEGIN:VEVENT
DTSTART;TZID=America/Phoenix:20260307T170000
DTEND;TZID=America/Phoenix:20260307T210000
DTSTAMP:20260420T231122
CREATED:20251201T191723Z
LAST-MODIFIED:20251201T191723Z
UID:10002909-1772902800-1772917200@azveterans.com
SUMMARY:Saluting Stories of Service Gala
DESCRIPTION:For 250 years\, our nation has stood for life\, liberty\, and freedom. For 22 years\, Imprints of Honor has proudly Connected Students with VeteransTM to honor veterans\, preserve America’s heritage\, and develop future leaders. Join us as we honor service and the American spirit.
URL:https://azveterans.com/event/saluting-stories-of-service-gala/
LOCATION:Chateau Luxe\, 1175 E. Lone Cactus Drive\, Phoenix\, 85024\, United States
ORGANIZER;CN="Imprints of Honor":MAILTO:karla@imprintsofhonor.org
END:VEVENT
END:VCALENDAR