BEGIN:VCALENDAR
VERSION:2.0
PRODID:-//AZ Veterans - ECPv6.15.20//NONSGML v1.0//EN
CALSCALE:GREGORIAN
METHOD:PUBLISH
X-ORIGINAL-URL:https://azveterans.com
X-WR-CALDESC:Events for AZ Veterans
REFRESH-INTERVAL;VALUE=DURATION:PT1H
X-Robots-Tag:noindex
X-PUBLISHED-TTL:PT1H
BEGIN:VTIMEZONE
TZID:America/Phoenix
BEGIN:STANDARD
TZOFFSETFROM:-0700
TZOFFSETTO:-0700
TZNAME:MST
DTSTART:20250101T000000
END:STANDARD
END:VTIMEZONE
BEGIN:VEVENT
DTSTART;VALUE=DATE:20260213
DTEND;VALUE=DATE:20260216
DTSTAMP:20260419T065315
CREATED:20260202T180914Z
LAST-MODIFIED:20260202T180914Z
UID:10003044-1770940800-1771199999@azveterans.com
SUMMARY:Arizona Military Vehicle Show 2026
DESCRIPTION:Our 35th Annual Display\, Aircraft Displays\, Kid Zone\, Historic displays.\n\nFor 2026\, we will return to the spacious Buckeye Airport\, way out West of AZ85\, at Exit 109 on I-10. Our show is merging forces with the outstanding annual Buckeye Air Fair once again. This makes our display larger than ever and a three day show! In addition to the AMVCC display\, there will be the entire Buckeye Air Fair. Some of the highlights are the airshow with military and sports planes\, military re-enactors\, a full carnival\, kids zone and food trucks.\n\nJoin us for our 35th military vehicle show\, 13-15 February 2026 at Buckeye Municipal Airport\, 3000 S. Palo Verde Rd. Buckeye AZ 85326.\nEach year this club holds a large military vehicle show which we have done for 30 years. In the early days it was held at the Papago Military Museum at 52nd Street and McDowell\, Phoenix.\n\nContact the AMVCC for more details.\nevents@armytrucks.org More Info – http://www.armytrucks.org/mvshow.php
URL:https://azveterans.com/event/arizona-military-vehicle-show-2026/
LOCATION:Buckeye Municipal Airport\, 3000 S. Palo Verde Rd\, Buckeye\, 85326\, United States
ORGANIZER;CN="Arizona Military Vehicle Collectors Club":MAILTO:armytrucks@armytrucks.org
END:VEVENT
END:VCALENDAR