BEGIN:VCALENDAR
VERSION:2.0
PRODID:-//AZ Veterans - ECPv6.15.20//NONSGML v1.0//EN
CALSCALE:GREGORIAN
METHOD:PUBLISH
X-ORIGINAL-URL:https://azveterans.com
X-WR-CALDESC:Events for AZ Veterans
REFRESH-INTERVAL;VALUE=DURATION:PT1H
X-Robots-Tag:noindex
X-PUBLISHED-TTL:PT1H
BEGIN:VTIMEZONE
TZID:America/Phoenix
BEGIN:STANDARD
TZOFFSETFROM:-0700
TZOFFSETTO:-0700
TZNAME:MST
DTSTART:20250101T000000
END:STANDARD
END:VTIMEZONE
BEGIN:VEVENT
DTSTART;TZID=America/Phoenix:20260619T180000
DTEND;TZID=America/Phoenix:20260619T200000
DTSTAMP:20260420T112713
CREATED:20260330T024551Z
LAST-MODIFIED:20260330T024551Z
UID:10003351-1781892000-1781899200@azveterans.com
SUMMARY:FLAG RETIREMENT CEREMONY
DESCRIPTION:FLAG RETIREMENT CEREMONY \n@Buckeye Community Veterans Service Center \nDATE: June 19\, 2026TIME: 6–8PM(Food available 6–7:30PM) \n402 East Narramore Buckeye\, AZ 85326 \n(For further info contact Post 53 @ 623-386-5757) \nGreat for Youth!Community welcome! \n\nAMERICAN LEGION POST 53 PRESENTATIONS:6:30PM – 8:00PMFLAG HISTORY & FLAG EDUCATION \n\nAmerican Legion Auxiliary Unit 53Free Ice Cream Social!
URL:https://azveterans.com/event/flag-retirement-ceremony/
LOCATION:Buckeye Community Veterans Service Center\, 402 East Narramore\, Buckeye\, 85326\, United States
END:VEVENT
END:VCALENDAR