BEGIN:VCALENDAR
VERSION:2.0
PRODID:-//AZ Veterans - ECPv6.15.20//NONSGML v1.0//EN
CALSCALE:GREGORIAN
METHOD:PUBLISH
X-ORIGINAL-URL:https://azveterans.com
X-WR-CALDESC:Events for AZ Veterans
REFRESH-INTERVAL;VALUE=DURATION:PT1H
X-Robots-Tag:noindex
X-PUBLISHED-TTL:PT1H
BEGIN:VTIMEZONE
TZID:America/Phoenix
BEGIN:STANDARD
TZOFFSETFROM:-0700
TZOFFSETTO:-0700
TZNAME:MST
DTSTART:20240101T000000
END:STANDARD
END:VTIMEZONE
BEGIN:VEVENT
DTSTART;TZID=America/Phoenix:20251220T160000
DTEND;TZID=America/Phoenix:20251220T190000
DTSTAMP:20260420T130854
CREATED:20251203T002516Z
LAST-MODIFIED:20251203T002516Z
UID:10002911-1766246400-1766257200@azveterans.com
SUMMARY:American Legion Post 53 and CVMA32-5 Christmas Party!
DESCRIPTION:Games\, Food and Fun for folks of all ages. Ugly Sweater Contest and door prizes. Open to members and their families only
URL:https://azveterans.com/event/american-legion-post-53-and-cvma32-5-christmas-party/
LOCATION:Buckeye Community Veterans Service Center\, 402 East Narramore\, Buckeye\, 85326\, United States
END:VEVENT
BEGIN:VEVENT
DTSTART;TZID=America/Phoenix:20250502T180000
DTEND;TZID=America/Phoenix:20250502T200000
DTSTAMP:20260420T130854
CREATED:20250428T005800Z
LAST-MODIFIED:20250428T005800Z
UID:10000401-1746208800-1746216000@azveterans.com
SUMMARY:Heal Her Art - Female/Soldier Appreciation Event
DESCRIPTION:HHA Outreach ProgramFemale Veteran/Soldier Appreciation EventHosted byAmerican Legion Auxiliary Unit 53Join us for this creative activity. \n“Declaration” \nA mixed media collage on 6×12″ canvas board.Select from several styles of cursive script cardstock \nTickets: $25.00Women Veterans: FREE \nWhenFriday\, May 2nd6:00-8:00pm \nWhereBuckeye Community Veterans Service Center402 East NarramoreBuckeye\, AZ 85326 \nPreregistration Required \nRegister with Unit 53 – tlstark@cox.net623-693-8624 \nAmerican Legion AuxiliaryArizona Commission on the ArtsVeterans First
URL:https://azveterans.com/event/heal-her-art-female-soldier-appreciation-event/
LOCATION:Buckeye Community Veterans Service Center\, 402 East Narramore\, Buckeye\, 85326\, United States
END:VEVENT
END:VCALENDAR