BEGIN:VCALENDAR
VERSION:2.0
PRODID:-//AZ Veterans - ECPv6.15.20//NONSGML v1.0//EN
CALSCALE:GREGORIAN
METHOD:PUBLISH
X-ORIGINAL-URL:https://azveterans.com
X-WR-CALDESC:Events for AZ Veterans
REFRESH-INTERVAL;VALUE=DURATION:PT1H
X-Robots-Tag:noindex
X-PUBLISHED-TTL:PT1H
BEGIN:VTIMEZONE
TZID:America/Phoenix
BEGIN:STANDARD
TZOFFSETFROM:-0700
TZOFFSETTO:-0700
TZNAME:MST
DTSTART:20240101T000000
END:STANDARD
END:VTIMEZONE
BEGIN:VEVENT
DTSTART;TZID=America/Phoenix:20251101T080000
DTEND;TZID=America/Phoenix:20251101T110000
DTSTAMP:20260421T125251
CREATED:20251030T033122Z
LAST-MODIFIED:20251030T033122Z
UID:10002524-1761984000-1761994800@azveterans.com
SUMMARY:Clean Up American Legion Post 1 to Honor Veterans Day!
DESCRIPTION:The American Legion is sprucing up the historic Post 1 to welcome visitors during the Grand Ave Festival and to commemorate Veterans Day\, and we need your help! Join us for a community clean-up—volunteers will be painting\, landscaping\, and picking up trash in and around the Post. Kids are welcome with a supervising adult. Let’s make the Post shine! And by the way – all cleanup volunteers will receive free parking for the November 8th Grand Ave Festival! SIGN UP HERE so we can make sure we have sufficient supplies for everyone: https://www.signupgenius.com/go/30E084BAFA82BA1FE3-59431436-american#/ Happy to sign for anyone in need of verification of service hours for clubs etc.! Please ask for Larry or Ken at the cleanup. QUESTIONS: Please contact Ken: kenmattern@gmail.com
URL:https://azveterans.com/event/clean-up-american-legion-post-1-to-honor-veterans-day/
LOCATION:American Legion Post 1 Luke-Greenway\, 364 N. 7th Ave\, Phoenix\, AZ\, 85007\, United States
ORGANIZER;CN="American Legion Post 1":MAILTO:kenmattern@gmail.com
END:VEVENT
BEGIN:VEVENT
DTSTART;TZID=America/Phoenix:20250925T090000
DTEND;TZID=America/Phoenix:20250925T143000
DTSTAMP:20260421T125251
CREATED:20250722T163227Z
LAST-MODIFIED:20250722T163310Z
UID:10002131-1758790800-1758810600@azveterans.com
SUMMARY:Save the Date: Women Veterans Expo For Homeless and Struggling Women Veterans
DESCRIPTION:Save the Date: Women Veterans Expo For Homeless and Struggling Women Veterans\n\nWhen:Tuesday\, September 24\, 2025 | 9:00 AM – 2:30 PMWednesday\, September 25\, 2025 | 9:00 AM – 2:30 PM\n\nWhere:American Legion Post 1364 N 7th Avenue\, Phoenix\, AZ 85007\n\nWho Should Attend:Women veterans who are currently unhousedORStruggling to access the resources\, support\, or services needed to maintain stable housing and a healthy\, productive standard of living.\nThis two-day expo is designed to connect you with critical services and support—from housing to employment readiness and personal wellness.\nMeet with:• U.S. Department of Veterans Affairs• Arizona Department of Veterans’ Services• U.S. VETS• Dress for Success• Fresh Start Women’s Foundation• And many more community partners\n\nQuestions or need help now?\n\nContact Darlene Gonzales at dgonzales@veteransfirstltd.org\n\nYou are not alone. Help is here.
URL:https://azveterans.com/event/save-the-date-women-veterans-expo-for-homeless-and-struggling-women-veterans/2025-09-25/
LOCATION:American Legion Post 1 Luke-Greenway\, 364 N. 7th Ave\, Phoenix\, AZ\, 85007\, United States
END:VEVENT
BEGIN:VEVENT
DTSTART;TZID=America/Phoenix:20250924T090000
DTEND;TZID=America/Phoenix:20250924T143000
DTSTAMP:20260421T125251
CREATED:20250722T163227Z
LAST-MODIFIED:20250722T163310Z
UID:10002130-1758704400-1758724200@azveterans.com
SUMMARY:Save the Date: Women Veterans Expo For Homeless and Struggling Women Veterans
DESCRIPTION:Save the Date: Women Veterans Expo For Homeless and Struggling Women Veterans\n\nWhen:Tuesday\, September 24\, 2025 | 9:00 AM – 2:30 PMWednesday\, September 25\, 2025 | 9:00 AM – 2:30 PM\n\nWhere:American Legion Post 1364 N 7th Avenue\, Phoenix\, AZ 85007\n\nWho Should Attend:Women veterans who are currently unhousedORStruggling to access the resources\, support\, or services needed to maintain stable housing and a healthy\, productive standard of living.\nThis two-day expo is designed to connect you with critical services and support—from housing to employment readiness and personal wellness.\nMeet with:• U.S. Department of Veterans Affairs• Arizona Department of Veterans’ Services• U.S. VETS• Dress for Success• Fresh Start Women’s Foundation• And many more community partners\n\nQuestions or need help now?\n\nContact Darlene Gonzales at dgonzales@veteransfirstltd.org\n\nYou are not alone. Help is here.
URL:https://azveterans.com/event/save-the-date-women-veterans-expo-for-homeless-and-struggling-women-veterans/2025-09-24/
LOCATION:American Legion Post 1 Luke-Greenway\, 364 N. 7th Ave\, Phoenix\, AZ\, 85007\, United States
END:VEVENT
BEGIN:VEVENT
DTSTART;TZID=America/Phoenix:20250504T090000
DTEND;TZID=America/Phoenix:20250504T120000
DTSTAMP:20260421T125251
CREATED:20250414T013745Z
LAST-MODIFIED:20250504T020812Z
UID:10000031-1746349200-1746360000@azveterans.com
SUMMARY:Annual 22 for the 22 Ceremony
DESCRIPTION:Join us for our annual 22 for the 22 Ceremony to honor Veterans lost to suicide. We are hosting the event on Sunday\, May 4\, 2025\, from 9am-12pm at the American Legion Post 1 Luke-Greenway\, 364 N. 7th Ave\, Phoenix\, AZ..The event will include presentations\, speakers\, brunch\, Color Guard\, Vet to Vet Connections\, and Veteran Resources & Information..For further information about the event\, donations\, or sponsorship opportunities\, contact RallyPointEvents@LaFrontera-EMPACT.org.
URL:https://azveterans.com/event/annual-22-for-the-22-ceremony/
LOCATION:American Legion Post 1 Luke-Greenway\, 364 N. 7th Ave\, Phoenix\, AZ\, 85007\, United States
ORGANIZER;CN="Rally Point Arizona":MAILTO:RallyPointEvents@LaFrontera-EMPACT.org
END:VEVENT
END:VCALENDAR