BEGIN:VCALENDAR
VERSION:2.0
PRODID:-//AZ Veterans - ECPv6.15.20//NONSGML v1.0//EN
CALSCALE:GREGORIAN
METHOD:PUBLISH
X-ORIGINAL-URL:https://azveterans.com
X-WR-CALDESC:Events for AZ Veterans
REFRESH-INTERVAL;VALUE=DURATION:PT1H
X-Robots-Tag:noindex
X-PUBLISHED-TTL:PT1H
BEGIN:VTIMEZONE
TZID:America/Phoenix
BEGIN:STANDARD
TZOFFSETFROM:-0700
TZOFFSETTO:-0700
TZNAME:MST
DTSTART:20240101T000000
END:STANDARD
END:VTIMEZONE
BEGIN:VEVENT
DTSTART;TZID=America/Phoenix:20250426T110000
DTEND;TZID=America/Phoenix:20250426T130000
DTSTAMP:20260424T173118
CREATED:20250417T203821Z
LAST-MODIFIED:20250424T151632Z
UID:10000271-1745665200-1745672400@azveterans.com
SUMMARY:Dog Yoga Workshop - Free for Veterans
DESCRIPTION:Dog yoga workshop – limited space so pre-registration is required – Only a limited number of dogs are allowed\, please inquire if you want to bring a pet. Learn poses you can do at home with your dog.
URL:https://azveterans.com/event/dog-yoga-workshop-free-for-veterans/
LOCATION:Idol Hands Healing\, 4117 N 17th St\, Phoenix\, 85016\, United States
ORGANIZER;CN="Vets & Pets Yoga":MAILTO:vetsnpetsyoga@gmail.com
END:VEVENT
END:VCALENDAR