BEGIN:VCALENDAR
VERSION:2.0
PRODID:-//AZ Veterans - ECPv6.15.20//NONSGML v1.0//EN
CALSCALE:GREGORIAN
METHOD:PUBLISH
X-ORIGINAL-URL:https://azveterans.com
X-WR-CALDESC:Events for AZ Veterans
REFRESH-INTERVAL;VALUE=DURATION:PT1H
X-Robots-Tag:noindex
X-PUBLISHED-TTL:PT1H
BEGIN:VTIMEZONE
TZID:America/Phoenix
BEGIN:STANDARD
TZOFFSETFROM:-0700
TZOFFSETTO:-0700
TZNAME:MST
DTSTART:20250101T000000
END:STANDARD
END:VTIMEZONE
BEGIN:VEVENT
DTSTART;TZID=America/Phoenix:20260122T090000
DTEND;TZID=America/Phoenix:20260122T153000
DTSTAMP:20260421T090224
CREATED:20260103T050230Z
LAST-MODIFIED:20260103T050230Z
UID:10002927-1769072400-1769095800@azveterans.com
SUMMARY:Homeless Women Veteran Event
DESCRIPTION:
URL:https://azveterans.com/event/homeless-women-veteran-event/
LOCATION:Luke Greenway American Legion Post 1\, 364 North 7th Avenue\, Phoenix\, AZ\, 85007\, United States
END:VEVENT
END:VCALENDAR