BEGIN:VCALENDAR
VERSION:2.0
PRODID:-//AZ Veterans - ECPv6.15.20//NONSGML v1.0//EN
CALSCALE:GREGORIAN
METHOD:PUBLISH
X-ORIGINAL-URL:https://azveterans.com
X-WR-CALDESC:Events for AZ Veterans
REFRESH-INTERVAL;VALUE=DURATION:PT1H
X-Robots-Tag:noindex
X-PUBLISHED-TTL:PT1H
BEGIN:VTIMEZONE
TZID:America/Phoenix
BEGIN:STANDARD
TZOFFSETFROM:-0700
TZOFFSETTO:-0700
TZNAME:MST
DTSTART:20240101T000000
END:STANDARD
END:VTIMEZONE
BEGIN:VEVENT
DTSTART;TZID=America/Phoenix:20250904T180000
DTEND;TZID=America/Phoenix:20250904T190000
DTSTAMP:20260421T022843
CREATED:20250517T033712Z
LAST-MODIFIED:20250517T033712Z
UID:10000628-1757008800-1757012400@azveterans.com
SUMMARY:Female Veteran Support Circle
DESCRIPTION:Join us in a nurturing and empathetic environment designed specifically for veterans like you. Engage in meaningful discussions on topics that resonate with your experiences and connect with fellow veterans who comprehend the challenges you face. \nFemale Veteran Groups (2)
URL:https://azveterans.com/event/female-veteran-support-circle/2025-09-04/
LOCATION:Televeda – Virtual Platform\, AZ\, United States
ORGANIZER;CN="Televeda":MAILTO:admin@televeda.com
END:VEVENT
BEGIN:VEVENT
DTSTART;TZID=America/Phoenix:20250901T183000
DTEND;TZID=America/Phoenix:20250901T193000
DTSTAMP:20260421T022843
CREATED:20250603T205051Z
LAST-MODIFIED:20250603T205051Z
UID:10001125-1756751400-1756755000@azveterans.com
SUMMARY:BATTLEMIND
DESCRIPTION:“Battle mind” provides valuable insights into military perspectives\, how veterans navigate communication with civilian society\, the conflicts that may arise\, and practical solutions to bridge these gaps. \nREFERRAL CODE – HERO2024
URL:https://azveterans.com/event/battlemind/2025-09-01/
LOCATION:Televeda – Virtual Platform\, AZ\, United States
ORGANIZER;CN="Televeda":MAILTO:admin@televeda.com
END:VEVENT
BEGIN:VEVENT
DTSTART;TZID=America/Phoenix:20250828T180000
DTEND;TZID=America/Phoenix:20250828T190000
DTSTAMP:20260421T022843
CREATED:20250517T033712Z
LAST-MODIFIED:20250517T033712Z
UID:10000627-1756404000-1756407600@azveterans.com
SUMMARY:Female Veteran Support Circle
DESCRIPTION:Join us in a nurturing and empathetic environment designed specifically for veterans like you. Engage in meaningful discussions on topics that resonate with your experiences and connect with fellow veterans who comprehend the challenges you face. \nFemale Veteran Groups (2)
URL:https://azveterans.com/event/female-veteran-support-circle/2025-08-28/
LOCATION:Televeda – Virtual Platform\, AZ\, United States
ORGANIZER;CN="Televeda":MAILTO:admin@televeda.com
END:VEVENT
BEGIN:VEVENT
DTSTART;TZID=America/Phoenix:20250825T183000
DTEND;TZID=America/Phoenix:20250825T193000
DTSTAMP:20260421T022843
CREATED:20250603T205051Z
LAST-MODIFIED:20250603T205051Z
UID:10001124-1756146600-1756150200@azveterans.com
SUMMARY:BATTLEMIND
DESCRIPTION:“Battle mind” provides valuable insights into military perspectives\, how veterans navigate communication with civilian society\, the conflicts that may arise\, and practical solutions to bridge these gaps. \nREFERRAL CODE – HERO2024
URL:https://azveterans.com/event/battlemind/2025-08-25/
LOCATION:Televeda – Virtual Platform\, AZ\, United States
ORGANIZER;CN="Televeda":MAILTO:admin@televeda.com
END:VEVENT
BEGIN:VEVENT
DTSTART;TZID=America/Phoenix:20250821T180000
DTEND;TZID=America/Phoenix:20250821T190000
DTSTAMP:20260421T022843
CREATED:20250517T033712Z
LAST-MODIFIED:20250517T033712Z
UID:10000626-1755799200-1755802800@azveterans.com
SUMMARY:Female Veteran Support Circle
DESCRIPTION:Join us in a nurturing and empathetic environment designed specifically for veterans like you. Engage in meaningful discussions on topics that resonate with your experiences and connect with fellow veterans who comprehend the challenges you face. \nFemale Veteran Groups (2)
URL:https://azveterans.com/event/female-veteran-support-circle/2025-08-21/
LOCATION:Televeda – Virtual Platform\, AZ\, United States
ORGANIZER;CN="Televeda":MAILTO:admin@televeda.com
END:VEVENT
BEGIN:VEVENT
DTSTART;TZID=America/Phoenix:20250818T183000
DTEND;TZID=America/Phoenix:20250818T193000
DTSTAMP:20260421T022843
CREATED:20250603T205051Z
LAST-MODIFIED:20250603T205051Z
UID:10001123-1755541800-1755545400@azveterans.com
SUMMARY:BATTLEMIND
DESCRIPTION:“Battle mind” provides valuable insights into military perspectives\, how veterans navigate communication with civilian society\, the conflicts that may arise\, and practical solutions to bridge these gaps. \nREFERRAL CODE – HERO2024
URL:https://azveterans.com/event/battlemind/2025-08-18/
LOCATION:Televeda – Virtual Platform\, AZ\, United States
ORGANIZER;CN="Televeda":MAILTO:admin@televeda.com
END:VEVENT
BEGIN:VEVENT
DTSTART;TZID=America/Phoenix:20250814T180000
DTEND;TZID=America/Phoenix:20250814T190000
DTSTAMP:20260421T022843
CREATED:20250517T033712Z
LAST-MODIFIED:20250517T033712Z
UID:10000625-1755194400-1755198000@azveterans.com
SUMMARY:Female Veteran Support Circle
DESCRIPTION:Join us in a nurturing and empathetic environment designed specifically for veterans like you. Engage in meaningful discussions on topics that resonate with your experiences and connect with fellow veterans who comprehend the challenges you face. \nFemale Veteran Groups (2)
URL:https://azveterans.com/event/female-veteran-support-circle/2025-08-14/
LOCATION:Televeda – Virtual Platform\, AZ\, United States
ORGANIZER;CN="Televeda":MAILTO:admin@televeda.com
END:VEVENT
BEGIN:VEVENT
DTSTART;TZID=America/Phoenix:20250811T183000
DTEND;TZID=America/Phoenix:20250811T193000
DTSTAMP:20260421T022843
CREATED:20250603T205051Z
LAST-MODIFIED:20250603T205051Z
UID:10001122-1754937000-1754940600@azveterans.com
SUMMARY:BATTLEMIND
DESCRIPTION:“Battle mind” provides valuable insights into military perspectives\, how veterans navigate communication with civilian society\, the conflicts that may arise\, and practical solutions to bridge these gaps. \nREFERRAL CODE – HERO2024
URL:https://azveterans.com/event/battlemind/2025-08-11/
LOCATION:Televeda – Virtual Platform\, AZ\, United States
ORGANIZER;CN="Televeda":MAILTO:admin@televeda.com
END:VEVENT
BEGIN:VEVENT
DTSTART;TZID=America/Phoenix:20250807T180000
DTEND;TZID=America/Phoenix:20250807T190000
DTSTAMP:20260421T022843
CREATED:20250517T033712Z
LAST-MODIFIED:20250517T033712Z
UID:10000624-1754589600-1754593200@azveterans.com
SUMMARY:Female Veteran Support Circle
DESCRIPTION:Join us in a nurturing and empathetic environment designed specifically for veterans like you. Engage in meaningful discussions on topics that resonate with your experiences and connect with fellow veterans who comprehend the challenges you face. \nFemale Veteran Groups (2)
URL:https://azveterans.com/event/female-veteran-support-circle/2025-08-07/
LOCATION:Televeda – Virtual Platform\, AZ\, United States
ORGANIZER;CN="Televeda":MAILTO:admin@televeda.com
END:VEVENT
BEGIN:VEVENT
DTSTART;TZID=America/Phoenix:20250804T183000
DTEND;TZID=America/Phoenix:20250804T193000
DTSTAMP:20260421T022843
CREATED:20250603T205051Z
LAST-MODIFIED:20250603T205051Z
UID:10001121-1754332200-1754335800@azveterans.com
SUMMARY:BATTLEMIND
DESCRIPTION:“Battle mind” provides valuable insights into military perspectives\, how veterans navigate communication with civilian society\, the conflicts that may arise\, and practical solutions to bridge these gaps. \nREFERRAL CODE – HERO2024
URL:https://azveterans.com/event/battlemind/2025-08-04/
LOCATION:Televeda – Virtual Platform\, AZ\, United States
ORGANIZER;CN="Televeda":MAILTO:admin@televeda.com
END:VEVENT
BEGIN:VEVENT
DTSTART;TZID=America/Phoenix:20250731T180000
DTEND;TZID=America/Phoenix:20250731T190000
DTSTAMP:20260421T022843
CREATED:20250517T033712Z
LAST-MODIFIED:20250517T033712Z
UID:10000623-1753984800-1753988400@azveterans.com
SUMMARY:Female Veteran Support Circle
DESCRIPTION:Join us in a nurturing and empathetic environment designed specifically for veterans like you. Engage in meaningful discussions on topics that resonate with your experiences and connect with fellow veterans who comprehend the challenges you face. \nFemale Veteran Groups (2)
URL:https://azveterans.com/event/female-veteran-support-circle/2025-07-31/
LOCATION:Televeda – Virtual Platform\, AZ\, United States
ORGANIZER;CN="Televeda":MAILTO:admin@televeda.com
END:VEVENT
BEGIN:VEVENT
DTSTART;TZID=America/Phoenix:20250728T183000
DTEND;TZID=America/Phoenix:20250728T193000
DTSTAMP:20260421T022843
CREATED:20250603T205051Z
LAST-MODIFIED:20250603T205051Z
UID:10001120-1753727400-1753731000@azveterans.com
SUMMARY:BATTLEMIND
DESCRIPTION:“Battle mind” provides valuable insights into military perspectives\, how veterans navigate communication with civilian society\, the conflicts that may arise\, and practical solutions to bridge these gaps. \nREFERRAL CODE – HERO2024
URL:https://azveterans.com/event/battlemind/2025-07-28/
LOCATION:Televeda – Virtual Platform\, AZ\, United States
ORGANIZER;CN="Televeda":MAILTO:admin@televeda.com
END:VEVENT
BEGIN:VEVENT
DTSTART;TZID=America/Phoenix:20250724T180000
DTEND;TZID=America/Phoenix:20250724T190000
DTSTAMP:20260421T022843
CREATED:20250517T033712Z
LAST-MODIFIED:20250517T033712Z
UID:10000622-1753380000-1753383600@azveterans.com
SUMMARY:Female Veteran Support Circle
DESCRIPTION:Join us in a nurturing and empathetic environment designed specifically for veterans like you. Engage in meaningful discussions on topics that resonate with your experiences and connect with fellow veterans who comprehend the challenges you face. \nFemale Veteran Groups (2)
URL:https://azveterans.com/event/female-veteran-support-circle/2025-07-24/
LOCATION:Televeda – Virtual Platform\, AZ\, United States
ORGANIZER;CN="Televeda":MAILTO:admin@televeda.com
END:VEVENT
BEGIN:VEVENT
DTSTART;TZID=America/Phoenix:20250721T183000
DTEND;TZID=America/Phoenix:20250721T193000
DTSTAMP:20260421T022843
CREATED:20250603T205051Z
LAST-MODIFIED:20250603T205051Z
UID:10001119-1753122600-1753126200@azveterans.com
SUMMARY:BATTLEMIND
DESCRIPTION:“Battle mind” provides valuable insights into military perspectives\, how veterans navigate communication with civilian society\, the conflicts that may arise\, and practical solutions to bridge these gaps. \nREFERRAL CODE – HERO2024
URL:https://azveterans.com/event/battlemind/2025-07-21/
LOCATION:Televeda – Virtual Platform\, AZ\, United States
ORGANIZER;CN="Televeda":MAILTO:admin@televeda.com
END:VEVENT
BEGIN:VEVENT
DTSTART;TZID=America/Phoenix:20250717T180000
DTEND;TZID=America/Phoenix:20250717T190000
DTSTAMP:20260421T022843
CREATED:20250517T033712Z
LAST-MODIFIED:20250517T033712Z
UID:10000621-1752775200-1752778800@azveterans.com
SUMMARY:Female Veteran Support Circle
DESCRIPTION:Join us in a nurturing and empathetic environment designed specifically for veterans like you. Engage in meaningful discussions on topics that resonate with your experiences and connect with fellow veterans who comprehend the challenges you face. \nFemale Veteran Groups (2)
URL:https://azveterans.com/event/female-veteran-support-circle/2025-07-17/
LOCATION:Televeda – Virtual Platform\, AZ\, United States
ORGANIZER;CN="Televeda":MAILTO:admin@televeda.com
END:VEVENT
BEGIN:VEVENT
DTSTART;TZID=America/Phoenix:20250714T183000
DTEND;TZID=America/Phoenix:20250714T193000
DTSTAMP:20260421T022843
CREATED:20250603T205051Z
LAST-MODIFIED:20250603T205051Z
UID:10001118-1752517800-1752521400@azveterans.com
SUMMARY:BATTLEMIND
DESCRIPTION:“Battle mind” provides valuable insights into military perspectives\, how veterans navigate communication with civilian society\, the conflicts that may arise\, and practical solutions to bridge these gaps. \nREFERRAL CODE – HERO2024
URL:https://azveterans.com/event/battlemind/2025-07-14/
LOCATION:Televeda – Virtual Platform\, AZ\, United States
ORGANIZER;CN="Televeda":MAILTO:admin@televeda.com
END:VEVENT
BEGIN:VEVENT
DTSTART;TZID=America/Phoenix:20250710T180000
DTEND;TZID=America/Phoenix:20250710T190000
DTSTAMP:20260421T022843
CREATED:20250517T033712Z
LAST-MODIFIED:20250517T033712Z
UID:10000620-1752170400-1752174000@azveterans.com
SUMMARY:Female Veteran Support Circle
DESCRIPTION:Join us in a nurturing and empathetic environment designed specifically for veterans like you. Engage in meaningful discussions on topics that resonate with your experiences and connect with fellow veterans who comprehend the challenges you face. \nFemale Veteran Groups (2)
URL:https://azveterans.com/event/female-veteran-support-circle/2025-07-10/
LOCATION:Televeda – Virtual Platform\, AZ\, United States
ORGANIZER;CN="Televeda":MAILTO:admin@televeda.com
END:VEVENT
BEGIN:VEVENT
DTSTART;TZID=America/Phoenix:20250707T183000
DTEND;TZID=America/Phoenix:20250707T193000
DTSTAMP:20260421T022843
CREATED:20250603T205051Z
LAST-MODIFIED:20250603T205051Z
UID:10001117-1751913000-1751916600@azveterans.com
SUMMARY:BATTLEMIND
DESCRIPTION:“Battle mind” provides valuable insights into military perspectives\, how veterans navigate communication with civilian society\, the conflicts that may arise\, and practical solutions to bridge these gaps. \nREFERRAL CODE – HERO2024
URL:https://azveterans.com/event/battlemind/2025-07-07/
LOCATION:Televeda – Virtual Platform\, AZ\, United States
ORGANIZER;CN="Televeda":MAILTO:admin@televeda.com
END:VEVENT
BEGIN:VEVENT
DTSTART;TZID=America/Phoenix:20250703T180000
DTEND;TZID=America/Phoenix:20250703T190000
DTSTAMP:20260421T022843
CREATED:20250517T033712Z
LAST-MODIFIED:20250517T033712Z
UID:10000619-1751565600-1751569200@azveterans.com
SUMMARY:Female Veteran Support Circle
DESCRIPTION:Join us in a nurturing and empathetic environment designed specifically for veterans like you. Engage in meaningful discussions on topics that resonate with your experiences and connect with fellow veterans who comprehend the challenges you face. \nFemale Veteran Groups (2)
URL:https://azveterans.com/event/female-veteran-support-circle/2025-07-03/
LOCATION:Televeda – Virtual Platform\, AZ\, United States
ORGANIZER;CN="Televeda":MAILTO:admin@televeda.com
END:VEVENT
BEGIN:VEVENT
DTSTART;TZID=America/Phoenix:20250630T183000
DTEND;TZID=America/Phoenix:20250630T193000
DTSTAMP:20260421T022843
CREATED:20250603T205051Z
LAST-MODIFIED:20250603T205051Z
UID:10001116-1751308200-1751311800@azveterans.com
SUMMARY:BATTLEMIND
DESCRIPTION:“Battle mind” provides valuable insights into military perspectives\, how veterans navigate communication with civilian society\, the conflicts that may arise\, and practical solutions to bridge these gaps. \nREFERRAL CODE – HERO2024
URL:https://azveterans.com/event/battlemind/2025-06-30/
LOCATION:Televeda – Virtual Platform\, AZ\, United States
ORGANIZER;CN="Televeda":MAILTO:admin@televeda.com
END:VEVENT
BEGIN:VEVENT
DTSTART;TZID=America/Phoenix:20250626T180000
DTEND;TZID=America/Phoenix:20250626T190000
DTSTAMP:20260421T022843
CREATED:20250517T033712Z
LAST-MODIFIED:20250517T033712Z
UID:10000618-1750960800-1750964400@azveterans.com
SUMMARY:Female Veteran Support Circle
DESCRIPTION:Join us in a nurturing and empathetic environment designed specifically for veterans like you. Engage in meaningful discussions on topics that resonate with your experiences and connect with fellow veterans who comprehend the challenges you face. \nFemale Veteran Groups (2)
URL:https://azveterans.com/event/female-veteran-support-circle/2025-06-26/
LOCATION:Televeda – Virtual Platform\, AZ\, United States
ORGANIZER;CN="Televeda":MAILTO:admin@televeda.com
END:VEVENT
BEGIN:VEVENT
DTSTART;TZID=America/Phoenix:20250623T183000
DTEND;TZID=America/Phoenix:20250623T193000
DTSTAMP:20260421T022843
CREATED:20250603T205051Z
LAST-MODIFIED:20250603T205051Z
UID:10001115-1750703400-1750707000@azveterans.com
SUMMARY:BATTLEMIND
DESCRIPTION:“Battle mind” provides valuable insights into military perspectives\, how veterans navigate communication with civilian society\, the conflicts that may arise\, and practical solutions to bridge these gaps. \nREFERRAL CODE – HERO2024
URL:https://azveterans.com/event/battlemind/2025-06-23/
LOCATION:Televeda – Virtual Platform\, AZ\, United States
ORGANIZER;CN="Televeda":MAILTO:admin@televeda.com
END:VEVENT
BEGIN:VEVENT
DTSTART;TZID=America/Phoenix:20250619T180000
DTEND;TZID=America/Phoenix:20250619T190000
DTSTAMP:20260421T022843
CREATED:20250517T033712Z
LAST-MODIFIED:20250517T033712Z
UID:10000617-1750356000-1750359600@azveterans.com
SUMMARY:Female Veteran Support Circle
DESCRIPTION:Join us in a nurturing and empathetic environment designed specifically for veterans like you. Engage in meaningful discussions on topics that resonate with your experiences and connect with fellow veterans who comprehend the challenges you face. \nFemale Veteran Groups (2)
URL:https://azveterans.com/event/female-veteran-support-circle/2025-06-19/
LOCATION:Televeda – Virtual Platform\, AZ\, United States
ORGANIZER;CN="Televeda":MAILTO:admin@televeda.com
END:VEVENT
BEGIN:VEVENT
DTSTART;TZID=America/Phoenix:20250616T183000
DTEND;TZID=America/Phoenix:20250616T193000
DTSTAMP:20260421T022843
CREATED:20250603T205051Z
LAST-MODIFIED:20250603T205051Z
UID:10001114-1750098600-1750102200@azveterans.com
SUMMARY:BATTLEMIND
DESCRIPTION:“Battle mind” provides valuable insights into military perspectives\, how veterans navigate communication with civilian society\, the conflicts that may arise\, and practical solutions to bridge these gaps. \nREFERRAL CODE – HERO2024
URL:https://azveterans.com/event/battlemind/2025-06-16/
LOCATION:Televeda – Virtual Platform\, AZ\, United States
ORGANIZER;CN="Televeda":MAILTO:admin@televeda.com
END:VEVENT
BEGIN:VEVENT
DTSTART;TZID=America/Phoenix:20250612T180000
DTEND;TZID=America/Phoenix:20250612T190000
DTSTAMP:20260421T022843
CREATED:20250517T033712Z
LAST-MODIFIED:20250517T033712Z
UID:10000616-1749751200-1749754800@azveterans.com
SUMMARY:Female Veteran Support Circle
DESCRIPTION:Join us in a nurturing and empathetic environment designed specifically for veterans like you. Engage in meaningful discussions on topics that resonate with your experiences and connect with fellow veterans who comprehend the challenges you face. \nFemale Veteran Groups (2)
URL:https://azveterans.com/event/female-veteran-support-circle/2025-06-12/
LOCATION:Televeda – Virtual Platform\, AZ\, United States
ORGANIZER;CN="Televeda":MAILTO:admin@televeda.com
END:VEVENT
BEGIN:VEVENT
DTSTART;TZID=America/Phoenix:20250609T183000
DTEND;TZID=America/Phoenix:20250609T193000
DTSTAMP:20260421T022843
CREATED:20250603T205051Z
LAST-MODIFIED:20250603T205051Z
UID:10001113-1749493800-1749497400@azveterans.com
SUMMARY:BATTLEMIND
DESCRIPTION:“Battle mind” provides valuable insights into military perspectives\, how veterans navigate communication with civilian society\, the conflicts that may arise\, and practical solutions to bridge these gaps. \nREFERRAL CODE – HERO2024
URL:https://azveterans.com/event/battlemind/2025-06-09/
LOCATION:Televeda – Virtual Platform\, AZ\, United States
ORGANIZER;CN="Televeda":MAILTO:admin@televeda.com
END:VEVENT
BEGIN:VEVENT
DTSTART;TZID=America/Phoenix:20250605T180000
DTEND;TZID=America/Phoenix:20250605T190000
DTSTAMP:20260421T022843
CREATED:20250517T033712Z
LAST-MODIFIED:20250517T033712Z
UID:10000615-1749146400-1749150000@azveterans.com
SUMMARY:Female Veteran Support Circle
DESCRIPTION:Join us in a nurturing and empathetic environment designed specifically for veterans like you. Engage in meaningful discussions on topics that resonate with your experiences and connect with fellow veterans who comprehend the challenges you face. \nFemale Veteran Groups (2)
URL:https://azveterans.com/event/female-veteran-support-circle/2025-06-05/
LOCATION:Televeda – Virtual Platform\, AZ\, United States
ORGANIZER;CN="Televeda":MAILTO:admin@televeda.com
END:VEVENT
BEGIN:VEVENT
DTSTART;TZID=America/Phoenix:20250529T180000
DTEND;TZID=America/Phoenix:20250529T190000
DTSTAMP:20260421T022843
CREATED:20250517T033712Z
LAST-MODIFIED:20250517T033712Z
UID:10000614-1748541600-1748545200@azveterans.com
SUMMARY:Female Veteran Support Circle
DESCRIPTION:Join us in a nurturing and empathetic environment designed specifically for veterans like you. Engage in meaningful discussions on topics that resonate with your experiences and connect with fellow veterans who comprehend the challenges you face. \nFemale Veteran Groups (2)
URL:https://azveterans.com/event/female-veteran-support-circle/2025-05-29/
LOCATION:Televeda – Virtual Platform\, AZ\, United States
ORGANIZER;CN="Televeda":MAILTO:admin@televeda.com
END:VEVENT
BEGIN:VEVENT
DTSTART;TZID=America/Phoenix:20250522T180000
DTEND;TZID=America/Phoenix:20250522T190000
DTSTAMP:20260421T022843
CREATED:20250517T033712Z
LAST-MODIFIED:20250517T033712Z
UID:10000613-1747936800-1747940400@azveterans.com
SUMMARY:Female Veteran Support Circle
DESCRIPTION:Join us in a nurturing and empathetic environment designed specifically for veterans like you. Engage in meaningful discussions on topics that resonate with your experiences and connect with fellow veterans who comprehend the challenges you face. \nFemale Veteran Groups (2)
URL:https://azveterans.com/event/female-veteran-support-circle/2025-05-22/
LOCATION:Televeda – Virtual Platform\, AZ\, United States
ORGANIZER;CN="Televeda":MAILTO:admin@televeda.com
END:VEVENT
BEGIN:VEVENT
DTSTART;TZID=America/Phoenix:20250423T190000
DTEND;TZID=America/Phoenix:20250423T200000
DTSTAMP:20260421T022843
CREATED:20250417T025707Z
LAST-MODIFIED:20250417T030033Z
UID:10000046-1745434800-1745438400@azveterans.com
SUMMARY:MST Peer Support Group for Veteran Sisters
DESCRIPTION:Join us in a nurturing and empathetic environment designed specifically for veterans like you. Engage in meaningful discussions on topics that resonate with your experiences and connect with fellow veterans who comprehend the challenges you face. \nFemale-Veteran-Groups-1 \n 
URL:https://azveterans.com/event/mst-peer-support-group-for-veteran-sisters/
LOCATION:Televeda – Virtual Platform\, AZ\, United States
ORGANIZER;CN="Televeda":MAILTO:admin@televeda.com
END:VEVENT
END:VCALENDAR