BEGIN:VCALENDAR
VERSION:2.0
PRODID:-//AZ Veterans - ECPv6.15.20//NONSGML v1.0//EN
CALSCALE:GREGORIAN
METHOD:PUBLISH
X-ORIGINAL-URL:https://azveterans.com
X-WR-CALDESC:Events for AZ Veterans
REFRESH-INTERVAL;VALUE=DURATION:PT1H
X-Robots-Tag:noindex
X-PUBLISHED-TTL:PT1H
BEGIN:VTIMEZONE
TZID:America/Phoenix
BEGIN:STANDARD
TZOFFSETFROM:-0700
TZOFFSETTO:-0700
TZNAME:MST
DTSTART:20250101T000000
END:STANDARD
END:VTIMEZONE
BEGIN:VEVENT
DTSTART;TZID=America/Phoenix:20260910T190000
DTEND;TZID=America/Phoenix:20260910T200000
DTSTAMP:20260420T215139
CREATED:20260321T003308Z
LAST-MODIFIED:20260321T003308Z
UID:10003315-1789066800-1789070400@azveterans.com
SUMMARY:Support Group for Women Veterans
DESCRIPTION:A confidential virtual support group for Women Veterans and women currently serving in Active Duty\, Reserve\, or National Guard. This group is a place to connect with other women who get it. You can listen\, share\, or just be present\, whatever feels right. Each session includes real conversation\, support\, and practical tools you can use in your daily life.
URL:https://azveterans.com/event/support-group-for-women-veterans/2026-09-10/
LOCATION:Televeda – Virtual Platform\, AZ\, United States
ORGANIZER;CN="Televeda":MAILTO:admin@televeda.com
END:VEVENT
BEGIN:VEVENT
DTSTART;TZID=America/Phoenix:20260917T190000
DTEND;TZID=America/Phoenix:20260917T200000
DTSTAMP:20260420T215139
CREATED:20260321T003308Z
LAST-MODIFIED:20260321T003308Z
UID:10003316-1789671600-1789675200@azveterans.com
SUMMARY:Support Group for Women Veterans
DESCRIPTION:A confidential virtual support group for Women Veterans and women currently serving in Active Duty\, Reserve\, or National Guard. This group is a place to connect with other women who get it. You can listen\, share\, or just be present\, whatever feels right. Each session includes real conversation\, support\, and practical tools you can use in your daily life.
URL:https://azveterans.com/event/support-group-for-women-veterans/2026-09-17/
LOCATION:Televeda – Virtual Platform\, AZ\, United States
ORGANIZER;CN="Televeda":MAILTO:admin@televeda.com
END:VEVENT
BEGIN:VEVENT
DTSTART;TZID=America/Phoenix:20260924T190000
DTEND;TZID=America/Phoenix:20260924T200000
DTSTAMP:20260420T215139
CREATED:20260321T003308Z
LAST-MODIFIED:20260321T003308Z
UID:10003317-1790276400-1790280000@azveterans.com
SUMMARY:Support Group for Women Veterans
DESCRIPTION:A confidential virtual support group for Women Veterans and women currently serving in Active Duty\, Reserve\, or National Guard. This group is a place to connect with other women who get it. You can listen\, share\, or just be present\, whatever feels right. Each session includes real conversation\, support\, and practical tools you can use in your daily life.
URL:https://azveterans.com/event/support-group-for-women-veterans/2026-09-24/
LOCATION:Televeda – Virtual Platform\, AZ\, United States
ORGANIZER;CN="Televeda":MAILTO:admin@televeda.com
END:VEVENT
BEGIN:VEVENT
DTSTART;TZID=America/Phoenix:20261001T190000
DTEND;TZID=America/Phoenix:20261001T200000
DTSTAMP:20260420T215139
CREATED:20260321T003308Z
LAST-MODIFIED:20260321T003308Z
UID:10003318-1790881200-1790884800@azveterans.com
SUMMARY:Support Group for Women Veterans
DESCRIPTION:A confidential virtual support group for Women Veterans and women currently serving in Active Duty\, Reserve\, or National Guard. This group is a place to connect with other women who get it. You can listen\, share\, or just be present\, whatever feels right. Each session includes real conversation\, support\, and practical tools you can use in your daily life.
URL:https://azveterans.com/event/support-group-for-women-veterans/2026-10-01/
LOCATION:Televeda – Virtual Platform\, AZ\, United States
ORGANIZER;CN="Televeda":MAILTO:admin@televeda.com
END:VEVENT
BEGIN:VEVENT
DTSTART;TZID=America/Phoenix:20261008T190000
DTEND;TZID=America/Phoenix:20261008T200000
DTSTAMP:20260420T215139
CREATED:20260321T003308Z
LAST-MODIFIED:20260321T003308Z
UID:10003319-1791486000-1791489600@azveterans.com
SUMMARY:Support Group for Women Veterans
DESCRIPTION:A confidential virtual support group for Women Veterans and women currently serving in Active Duty\, Reserve\, or National Guard. This group is a place to connect with other women who get it. You can listen\, share\, or just be present\, whatever feels right. Each session includes real conversation\, support\, and practical tools you can use in your daily life.
URL:https://azveterans.com/event/support-group-for-women-veterans/2026-10-08/
LOCATION:Televeda – Virtual Platform\, AZ\, United States
ORGANIZER;CN="Televeda":MAILTO:admin@televeda.com
END:VEVENT
BEGIN:VEVENT
DTSTART;TZID=America/Phoenix:20261015T190000
DTEND;TZID=America/Phoenix:20261015T200000
DTSTAMP:20260420T215139
CREATED:20260321T003308Z
LAST-MODIFIED:20260321T003308Z
UID:10003320-1792090800-1792094400@azveterans.com
SUMMARY:Support Group for Women Veterans
DESCRIPTION:A confidential virtual support group for Women Veterans and women currently serving in Active Duty\, Reserve\, or National Guard. This group is a place to connect with other women who get it. You can listen\, share\, or just be present\, whatever feels right. Each session includes real conversation\, support\, and practical tools you can use in your daily life.
URL:https://azveterans.com/event/support-group-for-women-veterans/2026-10-15/
LOCATION:Televeda – Virtual Platform\, AZ\, United States
ORGANIZER;CN="Televeda":MAILTO:admin@televeda.com
END:VEVENT
BEGIN:VEVENT
DTSTART;TZID=America/Phoenix:20261022T190000
DTEND;TZID=America/Phoenix:20261022T200000
DTSTAMP:20260420T215139
CREATED:20260321T003308Z
LAST-MODIFIED:20260321T003308Z
UID:10003321-1792695600-1792699200@azveterans.com
SUMMARY:Support Group for Women Veterans
DESCRIPTION:A confidential virtual support group for Women Veterans and women currently serving in Active Duty\, Reserve\, or National Guard. This group is a place to connect with other women who get it. You can listen\, share\, or just be present\, whatever feels right. Each session includes real conversation\, support\, and practical tools you can use in your daily life.
URL:https://azveterans.com/event/support-group-for-women-veterans/2026-10-22/
LOCATION:Televeda – Virtual Platform\, AZ\, United States
ORGANIZER;CN="Televeda":MAILTO:admin@televeda.com
END:VEVENT
BEGIN:VEVENT
DTSTART;TZID=America/Phoenix:20261029T190000
DTEND;TZID=America/Phoenix:20261029T200000
DTSTAMP:20260420T215139
CREATED:20260321T003308Z
LAST-MODIFIED:20260321T003308Z
UID:10003322-1793300400-1793304000@azveterans.com
SUMMARY:Support Group for Women Veterans
DESCRIPTION:A confidential virtual support group for Women Veterans and women currently serving in Active Duty\, Reserve\, or National Guard. This group is a place to connect with other women who get it. You can listen\, share\, or just be present\, whatever feels right. Each session includes real conversation\, support\, and practical tools you can use in your daily life.
URL:https://azveterans.com/event/support-group-for-women-veterans/2026-10-29/
LOCATION:Televeda – Virtual Platform\, AZ\, United States
ORGANIZER;CN="Televeda":MAILTO:admin@televeda.com
END:VEVENT
BEGIN:VEVENT
DTSTART;TZID=America/Phoenix:20261105T190000
DTEND;TZID=America/Phoenix:20261105T200000
DTSTAMP:20260420T215139
CREATED:20260321T003308Z
LAST-MODIFIED:20260321T003308Z
UID:10003323-1793905200-1793908800@azveterans.com
SUMMARY:Support Group for Women Veterans
DESCRIPTION:A confidential virtual support group for Women Veterans and women currently serving in Active Duty\, Reserve\, or National Guard. This group is a place to connect with other women who get it. You can listen\, share\, or just be present\, whatever feels right. Each session includes real conversation\, support\, and practical tools you can use in your daily life.
URL:https://azveterans.com/event/support-group-for-women-veterans/2026-11-05/
LOCATION:Televeda – Virtual Platform\, AZ\, United States
ORGANIZER;CN="Televeda":MAILTO:admin@televeda.com
END:VEVENT
BEGIN:VEVENT
DTSTART;TZID=America/Phoenix:20261112T190000
DTEND;TZID=America/Phoenix:20261112T200000
DTSTAMP:20260420T215139
CREATED:20260321T003308Z
LAST-MODIFIED:20260321T003308Z
UID:10003324-1794510000-1794513600@azveterans.com
SUMMARY:Support Group for Women Veterans
DESCRIPTION:A confidential virtual support group for Women Veterans and women currently serving in Active Duty\, Reserve\, or National Guard. This group is a place to connect with other women who get it. You can listen\, share\, or just be present\, whatever feels right. Each session includes real conversation\, support\, and practical tools you can use in your daily life.
URL:https://azveterans.com/event/support-group-for-women-veterans/2026-11-12/
LOCATION:Televeda – Virtual Platform\, AZ\, United States
ORGANIZER;CN="Televeda":MAILTO:admin@televeda.com
END:VEVENT
BEGIN:VEVENT
DTSTART;TZID=America/Phoenix:20261119T190000
DTEND;TZID=America/Phoenix:20261119T200000
DTSTAMP:20260420T215139
CREATED:20260321T003308Z
LAST-MODIFIED:20260321T003308Z
UID:10003325-1795114800-1795118400@azveterans.com
SUMMARY:Support Group for Women Veterans
DESCRIPTION:A confidential virtual support group for Women Veterans and women currently serving in Active Duty\, Reserve\, or National Guard. This group is a place to connect with other women who get it. You can listen\, share\, or just be present\, whatever feels right. Each session includes real conversation\, support\, and practical tools you can use in your daily life.
URL:https://azveterans.com/event/support-group-for-women-veterans/2026-11-19/
LOCATION:Televeda – Virtual Platform\, AZ\, United States
ORGANIZER;CN="Televeda":MAILTO:admin@televeda.com
END:VEVENT
BEGIN:VEVENT
DTSTART;TZID=America/Phoenix:20261126T190000
DTEND;TZID=America/Phoenix:20261126T200000
DTSTAMP:20260420T215139
CREATED:20260321T003308Z
LAST-MODIFIED:20260321T003308Z
UID:10003326-1795719600-1795723200@azveterans.com
SUMMARY:Support Group for Women Veterans
DESCRIPTION:A confidential virtual support group for Women Veterans and women currently serving in Active Duty\, Reserve\, or National Guard. This group is a place to connect with other women who get it. You can listen\, share\, or just be present\, whatever feels right. Each session includes real conversation\, support\, and practical tools you can use in your daily life.
URL:https://azveterans.com/event/support-group-for-women-veterans/2026-11-26/
LOCATION:Televeda – Virtual Platform\, AZ\, United States
ORGANIZER;CN="Televeda":MAILTO:admin@televeda.com
END:VEVENT
BEGIN:VEVENT
DTSTART;TZID=America/Phoenix:20261203T190000
DTEND;TZID=America/Phoenix:20261203T200000
DTSTAMP:20260420T215139
CREATED:20260321T003308Z
LAST-MODIFIED:20260321T003308Z
UID:10003327-1796324400-1796328000@azveterans.com
SUMMARY:Support Group for Women Veterans
DESCRIPTION:A confidential virtual support group for Women Veterans and women currently serving in Active Duty\, Reserve\, or National Guard. This group is a place to connect with other women who get it. You can listen\, share\, or just be present\, whatever feels right. Each session includes real conversation\, support\, and practical tools you can use in your daily life.
URL:https://azveterans.com/event/support-group-for-women-veterans/2026-12-03/
LOCATION:Televeda – Virtual Platform\, AZ\, United States
ORGANIZER;CN="Televeda":MAILTO:admin@televeda.com
END:VEVENT
BEGIN:VEVENT
DTSTART;TZID=America/Phoenix:20261210T190000
DTEND;TZID=America/Phoenix:20261210T200000
DTSTAMP:20260420T215139
CREATED:20260321T003308Z
LAST-MODIFIED:20260321T003308Z
UID:10003328-1796929200-1796932800@azveterans.com
SUMMARY:Support Group for Women Veterans
DESCRIPTION:A confidential virtual support group for Women Veterans and women currently serving in Active Duty\, Reserve\, or National Guard. This group is a place to connect with other women who get it. You can listen\, share\, or just be present\, whatever feels right. Each session includes real conversation\, support\, and practical tools you can use in your daily life.
URL:https://azveterans.com/event/support-group-for-women-veterans/2026-12-10/
LOCATION:Televeda – Virtual Platform\, AZ\, United States
ORGANIZER;CN="Televeda":MAILTO:admin@televeda.com
END:VEVENT
BEGIN:VEVENT
DTSTART;TZID=America/Phoenix:20261217T190000
DTEND;TZID=America/Phoenix:20261217T200000
DTSTAMP:20260420T215139
CREATED:20260321T003308Z
LAST-MODIFIED:20260321T003308Z
UID:10003329-1797534000-1797537600@azveterans.com
SUMMARY:Support Group for Women Veterans
DESCRIPTION:A confidential virtual support group for Women Veterans and women currently serving in Active Duty\, Reserve\, or National Guard. This group is a place to connect with other women who get it. You can listen\, share\, or just be present\, whatever feels right. Each session includes real conversation\, support\, and practical tools you can use in your daily life.
URL:https://azveterans.com/event/support-group-for-women-veterans/2026-12-17/
LOCATION:Televeda – Virtual Platform\, AZ\, United States
ORGANIZER;CN="Televeda":MAILTO:admin@televeda.com
END:VEVENT
BEGIN:VEVENT
DTSTART;TZID=America/Phoenix:20261224T190000
DTEND;TZID=America/Phoenix:20261224T200000
DTSTAMP:20260420T215139
CREATED:20260321T003308Z
LAST-MODIFIED:20260321T003308Z
UID:10003330-1798138800-1798142400@azveterans.com
SUMMARY:Support Group for Women Veterans
DESCRIPTION:A confidential virtual support group for Women Veterans and women currently serving in Active Duty\, Reserve\, or National Guard. This group is a place to connect with other women who get it. You can listen\, share\, or just be present\, whatever feels right. Each session includes real conversation\, support\, and practical tools you can use in your daily life.
URL:https://azveterans.com/event/support-group-for-women-veterans/2026-12-24/
LOCATION:Televeda – Virtual Platform\, AZ\, United States
ORGANIZER;CN="Televeda":MAILTO:admin@televeda.com
END:VEVENT
BEGIN:VEVENT
DTSTART;TZID=America/Phoenix:20261231T190000
DTEND;TZID=America/Phoenix:20261231T200000
DTSTAMP:20260420T215139
CREATED:20260321T003308Z
LAST-MODIFIED:20260321T003308Z
UID:10003331-1798743600-1798747200@azveterans.com
SUMMARY:Support Group for Women Veterans
DESCRIPTION:A confidential virtual support group for Women Veterans and women currently serving in Active Duty\, Reserve\, or National Guard. This group is a place to connect with other women who get it. You can listen\, share\, or just be present\, whatever feels right. Each session includes real conversation\, support\, and practical tools you can use in your daily life.
URL:https://azveterans.com/event/support-group-for-women-veterans/2026-12-31/
LOCATION:Televeda – Virtual Platform\, AZ\, United States
ORGANIZER;CN="Televeda":MAILTO:admin@televeda.com
END:VEVENT
BEGIN:VEVENT
DTSTART;TZID=America/Phoenix:20270107T190000
DTEND;TZID=America/Phoenix:20270107T200000
DTSTAMP:20260420T215139
CREATED:20260321T003308Z
LAST-MODIFIED:20260321T003308Z
UID:10003332-1799348400-1799352000@azveterans.com
SUMMARY:Support Group for Women Veterans
DESCRIPTION:A confidential virtual support group for Women Veterans and women currently serving in Active Duty\, Reserve\, or National Guard. This group is a place to connect with other women who get it. You can listen\, share\, or just be present\, whatever feels right. Each session includes real conversation\, support\, and practical tools you can use in your daily life.
URL:https://azveterans.com/event/support-group-for-women-veterans/2027-01-07/
LOCATION:Televeda – Virtual Platform\, AZ\, United States
ORGANIZER;CN="Televeda":MAILTO:admin@televeda.com
END:VEVENT
BEGIN:VEVENT
DTSTART;TZID=America/Phoenix:20270114T190000
DTEND;TZID=America/Phoenix:20270114T200000
DTSTAMP:20260420T215139
CREATED:20260321T003308Z
LAST-MODIFIED:20260321T003308Z
UID:10003333-1799953200-1799956800@azveterans.com
SUMMARY:Support Group for Women Veterans
DESCRIPTION:A confidential virtual support group for Women Veterans and women currently serving in Active Duty\, Reserve\, or National Guard. This group is a place to connect with other women who get it. You can listen\, share\, or just be present\, whatever feels right. Each session includes real conversation\, support\, and practical tools you can use in your daily life.
URL:https://azveterans.com/event/support-group-for-women-veterans/2027-01-14/
LOCATION:Televeda – Virtual Platform\, AZ\, United States
ORGANIZER;CN="Televeda":MAILTO:admin@televeda.com
END:VEVENT
BEGIN:VEVENT
DTSTART;TZID=America/Phoenix:20270121T190000
DTEND;TZID=America/Phoenix:20270121T200000
DTSTAMP:20260420T215139
CREATED:20260321T003308Z
LAST-MODIFIED:20260321T003308Z
UID:10003334-1800558000-1800561600@azveterans.com
SUMMARY:Support Group for Women Veterans
DESCRIPTION:A confidential virtual support group for Women Veterans and women currently serving in Active Duty\, Reserve\, or National Guard. This group is a place to connect with other women who get it. You can listen\, share\, or just be present\, whatever feels right. Each session includes real conversation\, support\, and practical tools you can use in your daily life.
URL:https://azveterans.com/event/support-group-for-women-veterans/2027-01-21/
LOCATION:Televeda – Virtual Platform\, AZ\, United States
ORGANIZER;CN="Televeda":MAILTO:admin@televeda.com
END:VEVENT
BEGIN:VEVENT
DTSTART;TZID=America/Phoenix:20270128T190000
DTEND;TZID=America/Phoenix:20270128T200000
DTSTAMP:20260420T215139
CREATED:20260321T003308Z
LAST-MODIFIED:20260321T003308Z
UID:10003335-1801162800-1801166400@azveterans.com
SUMMARY:Support Group for Women Veterans
DESCRIPTION:A confidential virtual support group for Women Veterans and women currently serving in Active Duty\, Reserve\, or National Guard. This group is a place to connect with other women who get it. You can listen\, share\, or just be present\, whatever feels right. Each session includes real conversation\, support\, and practical tools you can use in your daily life.
URL:https://azveterans.com/event/support-group-for-women-veterans/2027-01-28/
LOCATION:Televeda – Virtual Platform\, AZ\, United States
ORGANIZER;CN="Televeda":MAILTO:admin@televeda.com
END:VEVENT
BEGIN:VEVENT
DTSTART;TZID=America/Phoenix:20270204T190000
DTEND;TZID=America/Phoenix:20270204T200000
DTSTAMP:20260420T215139
CREATED:20260321T003308Z
LAST-MODIFIED:20260321T003308Z
UID:10003336-1801767600-1801771200@azveterans.com
SUMMARY:Support Group for Women Veterans
DESCRIPTION:A confidential virtual support group for Women Veterans and women currently serving in Active Duty\, Reserve\, or National Guard. This group is a place to connect with other women who get it. You can listen\, share\, or just be present\, whatever feels right. Each session includes real conversation\, support\, and practical tools you can use in your daily life.
URL:https://azveterans.com/event/support-group-for-women-veterans/2027-02-04/
LOCATION:Televeda – Virtual Platform\, AZ\, United States
ORGANIZER;CN="Televeda":MAILTO:admin@televeda.com
END:VEVENT
BEGIN:VEVENT
DTSTART;TZID=America/Phoenix:20270211T190000
DTEND;TZID=America/Phoenix:20270211T200000
DTSTAMP:20260420T215139
CREATED:20260321T003308Z
LAST-MODIFIED:20260321T003308Z
UID:10003337-1802372400-1802376000@azveterans.com
SUMMARY:Support Group for Women Veterans
DESCRIPTION:A confidential virtual support group for Women Veterans and women currently serving in Active Duty\, Reserve\, or National Guard. This group is a place to connect with other women who get it. You can listen\, share\, or just be present\, whatever feels right. Each session includes real conversation\, support\, and practical tools you can use in your daily life.
URL:https://azveterans.com/event/support-group-for-women-veterans/2027-02-11/
LOCATION:Televeda – Virtual Platform\, AZ\, United States
ORGANIZER;CN="Televeda":MAILTO:admin@televeda.com
END:VEVENT
BEGIN:VEVENT
DTSTART;TZID=America/Phoenix:20270218T190000
DTEND;TZID=America/Phoenix:20270218T200000
DTSTAMP:20260420T215139
CREATED:20260321T003308Z
LAST-MODIFIED:20260321T003308Z
UID:10003338-1802977200-1802980800@azveterans.com
SUMMARY:Support Group for Women Veterans
DESCRIPTION:A confidential virtual support group for Women Veterans and women currently serving in Active Duty\, Reserve\, or National Guard. This group is a place to connect with other women who get it. You can listen\, share\, or just be present\, whatever feels right. Each session includes real conversation\, support\, and practical tools you can use in your daily life.
URL:https://azveterans.com/event/support-group-for-women-veterans/2027-02-18/
LOCATION:Televeda – Virtual Platform\, AZ\, United States
ORGANIZER;CN="Televeda":MAILTO:admin@televeda.com
END:VEVENT
BEGIN:VEVENT
DTSTART;TZID=America/Phoenix:20270225T190000
DTEND;TZID=America/Phoenix:20270225T200000
DTSTAMP:20260420T215139
CREATED:20260321T003308Z
LAST-MODIFIED:20260321T003308Z
UID:10003339-1803582000-1803585600@azveterans.com
SUMMARY:Support Group for Women Veterans
DESCRIPTION:A confidential virtual support group for Women Veterans and women currently serving in Active Duty\, Reserve\, or National Guard. This group is a place to connect with other women who get it. You can listen\, share\, or just be present\, whatever feels right. Each session includes real conversation\, support\, and practical tools you can use in your daily life.
URL:https://azveterans.com/event/support-group-for-women-veterans/2027-02-25/
LOCATION:Televeda – Virtual Platform\, AZ\, United States
ORGANIZER;CN="Televeda":MAILTO:admin@televeda.com
END:VEVENT
BEGIN:VEVENT
DTSTART;TZID=America/Phoenix:20270304T190000
DTEND;TZID=America/Phoenix:20270304T200000
DTSTAMP:20260420T215139
CREATED:20260321T003308Z
LAST-MODIFIED:20260321T003308Z
UID:10003340-1804186800-1804190400@azveterans.com
SUMMARY:Support Group for Women Veterans
DESCRIPTION:A confidential virtual support group for Women Veterans and women currently serving in Active Duty\, Reserve\, or National Guard. This group is a place to connect with other women who get it. You can listen\, share\, or just be present\, whatever feels right. Each session includes real conversation\, support\, and practical tools you can use in your daily life.
URL:https://azveterans.com/event/support-group-for-women-veterans/2027-03-04/
LOCATION:Televeda – Virtual Platform\, AZ\, United States
ORGANIZER;CN="Televeda":MAILTO:admin@televeda.com
END:VEVENT
BEGIN:VEVENT
DTSTART;TZID=America/Phoenix:20270311T190000
DTEND;TZID=America/Phoenix:20270311T200000
DTSTAMP:20260420T215139
CREATED:20260321T003308Z
LAST-MODIFIED:20260321T003308Z
UID:10003341-1804791600-1804795200@azveterans.com
SUMMARY:Support Group for Women Veterans
DESCRIPTION:A confidential virtual support group for Women Veterans and women currently serving in Active Duty\, Reserve\, or National Guard. This group is a place to connect with other women who get it. You can listen\, share\, or just be present\, whatever feels right. Each session includes real conversation\, support\, and practical tools you can use in your daily life.
URL:https://azveterans.com/event/support-group-for-women-veterans/2027-03-11/
LOCATION:Televeda – Virtual Platform\, AZ\, United States
ORGANIZER;CN="Televeda":MAILTO:admin@televeda.com
END:VEVENT
BEGIN:VEVENT
DTSTART;TZID=America/Phoenix:20270318T190000
DTEND;TZID=America/Phoenix:20270318T200000
DTSTAMP:20260420T215139
CREATED:20260321T003308Z
LAST-MODIFIED:20260321T003308Z
UID:10003342-1805396400-1805400000@azveterans.com
SUMMARY:Support Group for Women Veterans
DESCRIPTION:A confidential virtual support group for Women Veterans and women currently serving in Active Duty\, Reserve\, or National Guard. This group is a place to connect with other women who get it. You can listen\, share\, or just be present\, whatever feels right. Each session includes real conversation\, support\, and practical tools you can use in your daily life.
URL:https://azveterans.com/event/support-group-for-women-veterans/2027-03-18/
LOCATION:Televeda – Virtual Platform\, AZ\, United States
ORGANIZER;CN="Televeda":MAILTO:admin@televeda.com
END:VEVENT
END:VCALENDAR