BEGIN:VCALENDAR
VERSION:2.0
PRODID:-//AZ Veterans - ECPv6.15.20//NONSGML v1.0//EN
CALSCALE:GREGORIAN
METHOD:PUBLISH
X-ORIGINAL-URL:https://azveterans.com
X-WR-CALDESC:Events for AZ Veterans
REFRESH-INTERVAL;VALUE=DURATION:PT1H
X-Robots-Tag:noindex
X-PUBLISHED-TTL:PT1H
BEGIN:VTIMEZONE
TZID:America/Phoenix
BEGIN:STANDARD
TZOFFSETFROM:-0700
TZOFFSETTO:-0700
TZNAME:MST
DTSTART:20240101T000000
END:STANDARD
END:VTIMEZONE
BEGIN:VEVENT
DTSTART;TZID=America/Phoenix:20260416T190000
DTEND;TZID=America/Phoenix:20260416T200000
DTSTAMP:20260420T220440
CREATED:20260321T003308Z
LAST-MODIFIED:20260321T003308Z
UID:10003294-1776366000-1776369600@azveterans.com
SUMMARY:Support Group for Women Veterans
DESCRIPTION:A confidential virtual support group for Women Veterans and women currently serving in Active Duty\, Reserve\, or National Guard. This group is a place to connect with other women who get it. You can listen\, share\, or just be present\, whatever feels right. Each session includes real conversation\, support\, and practical tools you can use in your daily life.
URL:https://azveterans.com/event/support-group-for-women-veterans/2026-04-16/
LOCATION:Televeda – Virtual Platform\, AZ\, United States
ORGANIZER;CN="Televeda":MAILTO:admin@televeda.com
END:VEVENT
BEGIN:VEVENT
DTSTART;TZID=America/Phoenix:20260409T190000
DTEND;TZID=America/Phoenix:20260409T200000
DTSTAMP:20260420T220440
CREATED:20260321T003308Z
LAST-MODIFIED:20260321T003308Z
UID:10003293-1775761200-1775764800@azveterans.com
SUMMARY:Support Group for Women Veterans
DESCRIPTION:A confidential virtual support group for Women Veterans and women currently serving in Active Duty\, Reserve\, or National Guard. This group is a place to connect with other women who get it. You can listen\, share\, or just be present\, whatever feels right. Each session includes real conversation\, support\, and practical tools you can use in your daily life.
URL:https://azveterans.com/event/support-group-for-women-veterans/2026-04-09/
LOCATION:Televeda – Virtual Platform\, AZ\, United States
ORGANIZER;CN="Televeda":MAILTO:admin@televeda.com
END:VEVENT
BEGIN:VEVENT
DTSTART;TZID=America/Phoenix:20260402T190000
DTEND;TZID=America/Phoenix:20260402T200000
DTSTAMP:20260420T220440
CREATED:20260321T003308Z
LAST-MODIFIED:20260321T003308Z
UID:10003292-1775156400-1775160000@azveterans.com
SUMMARY:Support Group for Women Veterans
DESCRIPTION:A confidential virtual support group for Women Veterans and women currently serving in Active Duty\, Reserve\, or National Guard. This group is a place to connect with other women who get it. You can listen\, share\, or just be present\, whatever feels right. Each session includes real conversation\, support\, and practical tools you can use in your daily life.
URL:https://azveterans.com/event/support-group-for-women-veterans/2026-04-02/
LOCATION:Televeda – Virtual Platform\, AZ\, United States
ORGANIZER;CN="Televeda":MAILTO:admin@televeda.com
END:VEVENT
BEGIN:VEVENT
DTSTART;TZID=America/Phoenix:20260326T190000
DTEND;TZID=America/Phoenix:20260326T200000
DTSTAMP:20260420T220440
CREATED:20260321T003308Z
LAST-MODIFIED:20260321T003308Z
UID:10003291-1774551600-1774555200@azveterans.com
SUMMARY:Support Group for Women Veterans
DESCRIPTION:A confidential virtual support group for Women Veterans and women currently serving in Active Duty\, Reserve\, or National Guard. This group is a place to connect with other women who get it. You can listen\, share\, or just be present\, whatever feels right. Each session includes real conversation\, support\, and practical tools you can use in your daily life.
URL:https://azveterans.com/event/support-group-for-women-veterans/2026-03-26/
LOCATION:Televeda – Virtual Platform\, AZ\, United States
ORGANIZER;CN="Televeda":MAILTO:admin@televeda.com
END:VEVENT
BEGIN:VEVENT
DTSTART;TZID=America/Phoenix:20260319T180000
DTEND;TZID=America/Phoenix:20260319T190000
DTSTAMP:20260420T220440
CREATED:20250517T033712Z
LAST-MODIFIED:20250517T033712Z
UID:10000656-1773943200-1773946800@azveterans.com
SUMMARY:Female Veteran Support Circle
DESCRIPTION:Join us in a nurturing and empathetic environment designed specifically for veterans like you. Engage in meaningful discussions on topics that resonate with your experiences and connect with fellow veterans who comprehend the challenges you face. \nFemale Veteran Groups (2)
URL:https://azveterans.com/event/female-veteran-support-circle/2026-03-19/
LOCATION:Televeda – Virtual Platform\, AZ\, United States
ORGANIZER;CN="Televeda":MAILTO:admin@televeda.com
END:VEVENT
BEGIN:VEVENT
DTSTART;TZID=America/Phoenix:20260316T183000
DTEND;TZID=America/Phoenix:20260316T193000
DTSTAMP:20260420T220440
CREATED:20250603T205051Z
LAST-MODIFIED:20250603T205051Z
UID:10001153-1773685800-1773689400@azveterans.com
SUMMARY:BATTLEMIND
DESCRIPTION:“Battle mind” provides valuable insights into military perspectives\, how veterans navigate communication with civilian society\, the conflicts that may arise\, and practical solutions to bridge these gaps. \nREFERRAL CODE – HERO2024
URL:https://azveterans.com/event/battlemind/2026-03-16/
LOCATION:Televeda – Virtual Platform\, AZ\, United States
ORGANIZER;CN="Televeda":MAILTO:admin@televeda.com
END:VEVENT
BEGIN:VEVENT
DTSTART;TZID=America/Phoenix:20260312T180000
DTEND;TZID=America/Phoenix:20260312T190000
DTSTAMP:20260420T220440
CREATED:20250517T033712Z
LAST-MODIFIED:20250517T033712Z
UID:10000655-1773338400-1773342000@azveterans.com
SUMMARY:Female Veteran Support Circle
DESCRIPTION:Join us in a nurturing and empathetic environment designed specifically for veterans like you. Engage in meaningful discussions on topics that resonate with your experiences and connect with fellow veterans who comprehend the challenges you face. \nFemale Veteran Groups (2)
URL:https://azveterans.com/event/female-veteran-support-circle/2026-03-12/
LOCATION:Televeda – Virtual Platform\, AZ\, United States
ORGANIZER;CN="Televeda":MAILTO:admin@televeda.com
END:VEVENT
BEGIN:VEVENT
DTSTART;TZID=America/Phoenix:20260309T183000
DTEND;TZID=America/Phoenix:20260309T193000
DTSTAMP:20260420T220440
CREATED:20250603T205051Z
LAST-MODIFIED:20250603T205051Z
UID:10001152-1773081000-1773084600@azveterans.com
SUMMARY:BATTLEMIND
DESCRIPTION:“Battle mind” provides valuable insights into military perspectives\, how veterans navigate communication with civilian society\, the conflicts that may arise\, and practical solutions to bridge these gaps. \nREFERRAL CODE – HERO2024
URL:https://azveterans.com/event/battlemind/2026-03-09/
LOCATION:Televeda – Virtual Platform\, AZ\, United States
ORGANIZER;CN="Televeda":MAILTO:admin@televeda.com
END:VEVENT
BEGIN:VEVENT
DTSTART;TZID=America/Phoenix:20260305T180000
DTEND;TZID=America/Phoenix:20260305T190000
DTSTAMP:20260420T220440
CREATED:20250517T033712Z
LAST-MODIFIED:20250517T033712Z
UID:10000654-1772733600-1772737200@azveterans.com
SUMMARY:Female Veteran Support Circle
DESCRIPTION:Join us in a nurturing and empathetic environment designed specifically for veterans like you. Engage in meaningful discussions on topics that resonate with your experiences and connect with fellow veterans who comprehend the challenges you face. \nFemale Veteran Groups (2)
URL:https://azveterans.com/event/female-veteran-support-circle/2026-03-05/
LOCATION:Televeda – Virtual Platform\, AZ\, United States
ORGANIZER;CN="Televeda":MAILTO:admin@televeda.com
END:VEVENT
BEGIN:VEVENT
DTSTART;TZID=America/Phoenix:20260302T183000
DTEND;TZID=America/Phoenix:20260302T193000
DTSTAMP:20260420T220440
CREATED:20250603T205051Z
LAST-MODIFIED:20250603T205051Z
UID:10001151-1772476200-1772479800@azveterans.com
SUMMARY:BATTLEMIND
DESCRIPTION:“Battle mind” provides valuable insights into military perspectives\, how veterans navigate communication with civilian society\, the conflicts that may arise\, and practical solutions to bridge these gaps. \nREFERRAL CODE – HERO2024
URL:https://azveterans.com/event/battlemind/2026-03-02/
LOCATION:Televeda – Virtual Platform\, AZ\, United States
ORGANIZER;CN="Televeda":MAILTO:admin@televeda.com
END:VEVENT
BEGIN:VEVENT
DTSTART;TZID=America/Phoenix:20260226T180000
DTEND;TZID=America/Phoenix:20260226T190000
DTSTAMP:20260420T220440
CREATED:20250517T033712Z
LAST-MODIFIED:20250517T033712Z
UID:10000653-1772128800-1772132400@azveterans.com
SUMMARY:Female Veteran Support Circle
DESCRIPTION:Join us in a nurturing and empathetic environment designed specifically for veterans like you. Engage in meaningful discussions on topics that resonate with your experiences and connect with fellow veterans who comprehend the challenges you face. \nFemale Veteran Groups (2)
URL:https://azveterans.com/event/female-veteran-support-circle/2026-02-26/
LOCATION:Televeda – Virtual Platform\, AZ\, United States
ORGANIZER;CN="Televeda":MAILTO:admin@televeda.com
END:VEVENT
BEGIN:VEVENT
DTSTART;TZID=America/Phoenix:20260223T183000
DTEND;TZID=America/Phoenix:20260223T193000
DTSTAMP:20260420T220440
CREATED:20250603T205051Z
LAST-MODIFIED:20250603T205051Z
UID:10001150-1771871400-1771875000@azveterans.com
SUMMARY:BATTLEMIND
DESCRIPTION:“Battle mind” provides valuable insights into military perspectives\, how veterans navigate communication with civilian society\, the conflicts that may arise\, and practical solutions to bridge these gaps. \nREFERRAL CODE – HERO2024
URL:https://azveterans.com/event/battlemind/2026-02-23/
LOCATION:Televeda – Virtual Platform\, AZ\, United States
ORGANIZER;CN="Televeda":MAILTO:admin@televeda.com
END:VEVENT
BEGIN:VEVENT
DTSTART;TZID=America/Phoenix:20260219T180000
DTEND;TZID=America/Phoenix:20260219T190000
DTSTAMP:20260420T220440
CREATED:20250517T033712Z
LAST-MODIFIED:20250517T033712Z
UID:10000652-1771524000-1771527600@azveterans.com
SUMMARY:Female Veteran Support Circle
DESCRIPTION:Join us in a nurturing and empathetic environment designed specifically for veterans like you. Engage in meaningful discussions on topics that resonate with your experiences and connect with fellow veterans who comprehend the challenges you face. \nFemale Veteran Groups (2)
URL:https://azveterans.com/event/female-veteran-support-circle/2026-02-19/
LOCATION:Televeda – Virtual Platform\, AZ\, United States
ORGANIZER;CN="Televeda":MAILTO:admin@televeda.com
END:VEVENT
BEGIN:VEVENT
DTSTART;TZID=America/Phoenix:20260216T183000
DTEND;TZID=America/Phoenix:20260216T193000
DTSTAMP:20260420T220440
CREATED:20250603T205051Z
LAST-MODIFIED:20250603T205051Z
UID:10001149-1771266600-1771270200@azveterans.com
SUMMARY:BATTLEMIND
DESCRIPTION:“Battle mind” provides valuable insights into military perspectives\, how veterans navigate communication with civilian society\, the conflicts that may arise\, and practical solutions to bridge these gaps. \nREFERRAL CODE – HERO2024
URL:https://azveterans.com/event/battlemind/2026-02-16/
LOCATION:Televeda – Virtual Platform\, AZ\, United States
ORGANIZER;CN="Televeda":MAILTO:admin@televeda.com
END:VEVENT
BEGIN:VEVENT
DTSTART;TZID=America/Phoenix:20260212T180000
DTEND;TZID=America/Phoenix:20260212T190000
DTSTAMP:20260420T220440
CREATED:20250517T033712Z
LAST-MODIFIED:20250517T033712Z
UID:10000651-1770919200-1770922800@azveterans.com
SUMMARY:Female Veteran Support Circle
DESCRIPTION:Join us in a nurturing and empathetic environment designed specifically for veterans like you. Engage in meaningful discussions on topics that resonate with your experiences and connect with fellow veterans who comprehend the challenges you face. \nFemale Veteran Groups (2)
URL:https://azveterans.com/event/female-veteran-support-circle/2026-02-12/
LOCATION:Televeda – Virtual Platform\, AZ\, United States
ORGANIZER;CN="Televeda":MAILTO:admin@televeda.com
END:VEVENT
BEGIN:VEVENT
DTSTART;TZID=America/Phoenix:20260209T183000
DTEND;TZID=America/Phoenix:20260209T193000
DTSTAMP:20260420T220440
CREATED:20250603T205051Z
LAST-MODIFIED:20250603T205051Z
UID:10001148-1770661800-1770665400@azveterans.com
SUMMARY:BATTLEMIND
DESCRIPTION:“Battle mind” provides valuable insights into military perspectives\, how veterans navigate communication with civilian society\, the conflicts that may arise\, and practical solutions to bridge these gaps. \nREFERRAL CODE – HERO2024
URL:https://azveterans.com/event/battlemind/2026-02-09/
LOCATION:Televeda – Virtual Platform\, AZ\, United States
ORGANIZER;CN="Televeda":MAILTO:admin@televeda.com
END:VEVENT
BEGIN:VEVENT
DTSTART;TZID=America/Phoenix:20260205T180000
DTEND;TZID=America/Phoenix:20260205T190000
DTSTAMP:20260420T220440
CREATED:20250517T033712Z
LAST-MODIFIED:20250517T033712Z
UID:10000650-1770314400-1770318000@azveterans.com
SUMMARY:Female Veteran Support Circle
DESCRIPTION:Join us in a nurturing and empathetic environment designed specifically for veterans like you. Engage in meaningful discussions on topics that resonate with your experiences and connect with fellow veterans who comprehend the challenges you face. \nFemale Veteran Groups (2)
URL:https://azveterans.com/event/female-veteran-support-circle/2026-02-05/
LOCATION:Televeda – Virtual Platform\, AZ\, United States
ORGANIZER;CN="Televeda":MAILTO:admin@televeda.com
END:VEVENT
BEGIN:VEVENT
DTSTART;TZID=America/Phoenix:20260202T183000
DTEND;TZID=America/Phoenix:20260202T193000
DTSTAMP:20260420T220440
CREATED:20250603T205051Z
LAST-MODIFIED:20250603T205051Z
UID:10001147-1770057000-1770060600@azveterans.com
SUMMARY:BATTLEMIND
DESCRIPTION:“Battle mind” provides valuable insights into military perspectives\, how veterans navigate communication with civilian society\, the conflicts that may arise\, and practical solutions to bridge these gaps. \nREFERRAL CODE – HERO2024
URL:https://azveterans.com/event/battlemind/2026-02-02/
LOCATION:Televeda – Virtual Platform\, AZ\, United States
ORGANIZER;CN="Televeda":MAILTO:admin@televeda.com
END:VEVENT
BEGIN:VEVENT
DTSTART;TZID=America/Phoenix:20260129T180000
DTEND;TZID=America/Phoenix:20260129T190000
DTSTAMP:20260420T220440
CREATED:20250517T033712Z
LAST-MODIFIED:20250517T033712Z
UID:10000649-1769709600-1769713200@azveterans.com
SUMMARY:Female Veteran Support Circle
DESCRIPTION:Join us in a nurturing and empathetic environment designed specifically for veterans like you. Engage in meaningful discussions on topics that resonate with your experiences and connect with fellow veterans who comprehend the challenges you face. \nFemale Veteran Groups (2)
URL:https://azveterans.com/event/female-veteran-support-circle/2026-01-29/
LOCATION:Televeda – Virtual Platform\, AZ\, United States
ORGANIZER;CN="Televeda":MAILTO:admin@televeda.com
END:VEVENT
BEGIN:VEVENT
DTSTART;TZID=America/Phoenix:20260126T183000
DTEND;TZID=America/Phoenix:20260126T193000
DTSTAMP:20260420T220440
CREATED:20250603T205051Z
LAST-MODIFIED:20250603T205051Z
UID:10001146-1769452200-1769455800@azveterans.com
SUMMARY:BATTLEMIND
DESCRIPTION:“Battle mind” provides valuable insights into military perspectives\, how veterans navigate communication with civilian society\, the conflicts that may arise\, and practical solutions to bridge these gaps. \nREFERRAL CODE – HERO2024
URL:https://azveterans.com/event/battlemind/2026-01-26/
LOCATION:Televeda – Virtual Platform\, AZ\, United States
ORGANIZER;CN="Televeda":MAILTO:admin@televeda.com
END:VEVENT
BEGIN:VEVENT
DTSTART;TZID=America/Phoenix:20260122T180000
DTEND;TZID=America/Phoenix:20260122T190000
DTSTAMP:20260420T220440
CREATED:20250517T033712Z
LAST-MODIFIED:20250517T033712Z
UID:10000648-1769104800-1769108400@azveterans.com
SUMMARY:Female Veteran Support Circle
DESCRIPTION:Join us in a nurturing and empathetic environment designed specifically for veterans like you. Engage in meaningful discussions on topics that resonate with your experiences and connect with fellow veterans who comprehend the challenges you face. \nFemale Veteran Groups (2)
URL:https://azveterans.com/event/female-veteran-support-circle/2026-01-22/
LOCATION:Televeda – Virtual Platform\, AZ\, United States
ORGANIZER;CN="Televeda":MAILTO:admin@televeda.com
END:VEVENT
BEGIN:VEVENT
DTSTART;TZID=America/Phoenix:20260119T183000
DTEND;TZID=America/Phoenix:20260119T193000
DTSTAMP:20260420T220440
CREATED:20250603T205051Z
LAST-MODIFIED:20250603T205051Z
UID:10001145-1768847400-1768851000@azveterans.com
SUMMARY:BATTLEMIND
DESCRIPTION:“Battle mind” provides valuable insights into military perspectives\, how veterans navigate communication with civilian society\, the conflicts that may arise\, and practical solutions to bridge these gaps. \nREFERRAL CODE – HERO2024
URL:https://azveterans.com/event/battlemind/2026-01-19/
LOCATION:Televeda – Virtual Platform\, AZ\, United States
ORGANIZER;CN="Televeda":MAILTO:admin@televeda.com
END:VEVENT
BEGIN:VEVENT
DTSTART;TZID=America/Phoenix:20260115T180000
DTEND;TZID=America/Phoenix:20260115T190000
DTSTAMP:20260420T220441
CREATED:20250517T033712Z
LAST-MODIFIED:20250517T033712Z
UID:10000647-1768500000-1768503600@azveterans.com
SUMMARY:Female Veteran Support Circle
DESCRIPTION:Join us in a nurturing and empathetic environment designed specifically for veterans like you. Engage in meaningful discussions on topics that resonate with your experiences and connect with fellow veterans who comprehend the challenges you face. \nFemale Veteran Groups (2)
URL:https://azveterans.com/event/female-veteran-support-circle/2026-01-15/
LOCATION:Televeda – Virtual Platform\, AZ\, United States
ORGANIZER;CN="Televeda":MAILTO:admin@televeda.com
END:VEVENT
BEGIN:VEVENT
DTSTART;TZID=America/Phoenix:20260112T183000
DTEND;TZID=America/Phoenix:20260112T193000
DTSTAMP:20260420T220441
CREATED:20250603T205051Z
LAST-MODIFIED:20250603T205051Z
UID:10001144-1768242600-1768246200@azveterans.com
SUMMARY:BATTLEMIND
DESCRIPTION:“Battle mind” provides valuable insights into military perspectives\, how veterans navigate communication with civilian society\, the conflicts that may arise\, and practical solutions to bridge these gaps. \nREFERRAL CODE – HERO2024
URL:https://azveterans.com/event/battlemind/2026-01-12/
LOCATION:Televeda – Virtual Platform\, AZ\, United States
ORGANIZER;CN="Televeda":MAILTO:admin@televeda.com
END:VEVENT
BEGIN:VEVENT
DTSTART;TZID=America/Phoenix:20260108T180000
DTEND;TZID=America/Phoenix:20260108T190000
DTSTAMP:20260420T220441
CREATED:20250517T033712Z
LAST-MODIFIED:20250517T033712Z
UID:10000646-1767895200-1767898800@azveterans.com
SUMMARY:Female Veteran Support Circle
DESCRIPTION:Join us in a nurturing and empathetic environment designed specifically for veterans like you. Engage in meaningful discussions on topics that resonate with your experiences and connect with fellow veterans who comprehend the challenges you face. \nFemale Veteran Groups (2)
URL:https://azveterans.com/event/female-veteran-support-circle/2026-01-08/
LOCATION:Televeda – Virtual Platform\, AZ\, United States
ORGANIZER;CN="Televeda":MAILTO:admin@televeda.com
END:VEVENT
BEGIN:VEVENT
DTSTART;TZID=America/Phoenix:20260105T183000
DTEND;TZID=America/Phoenix:20260105T193000
DTSTAMP:20260420T220441
CREATED:20250603T205051Z
LAST-MODIFIED:20250603T205051Z
UID:10001143-1767637800-1767641400@azveterans.com
SUMMARY:BATTLEMIND
DESCRIPTION:“Battle mind” provides valuable insights into military perspectives\, how veterans navigate communication with civilian society\, the conflicts that may arise\, and practical solutions to bridge these gaps. \nREFERRAL CODE – HERO2024
URL:https://azveterans.com/event/battlemind/2026-01-05/
LOCATION:Televeda – Virtual Platform\, AZ\, United States
ORGANIZER;CN="Televeda":MAILTO:admin@televeda.com
END:VEVENT
BEGIN:VEVENT
DTSTART;TZID=America/Phoenix:20260101T180000
DTEND;TZID=America/Phoenix:20260101T190000
DTSTAMP:20260420T220441
CREATED:20250517T033712Z
LAST-MODIFIED:20250517T033712Z
UID:10000645-1767290400-1767294000@azveterans.com
SUMMARY:Female Veteran Support Circle
DESCRIPTION:Join us in a nurturing and empathetic environment designed specifically for veterans like you. Engage in meaningful discussions on topics that resonate with your experiences and connect with fellow veterans who comprehend the challenges you face. \nFemale Veteran Groups (2)
URL:https://azveterans.com/event/female-veteran-support-circle/2026-01-01/
LOCATION:Televeda – Virtual Platform\, AZ\, United States
ORGANIZER;CN="Televeda":MAILTO:admin@televeda.com
END:VEVENT
BEGIN:VEVENT
DTSTART;TZID=America/Phoenix:20251229T183000
DTEND;TZID=America/Phoenix:20251229T193000
DTSTAMP:20260420T220441
CREATED:20250603T205051Z
LAST-MODIFIED:20250603T205051Z
UID:10001142-1767033000-1767036600@azveterans.com
SUMMARY:BATTLEMIND
DESCRIPTION:“Battle mind” provides valuable insights into military perspectives\, how veterans navigate communication with civilian society\, the conflicts that may arise\, and practical solutions to bridge these gaps. \nREFERRAL CODE – HERO2024
URL:https://azveterans.com/event/battlemind/2025-12-29/
LOCATION:Televeda – Virtual Platform\, AZ\, United States
ORGANIZER;CN="Televeda":MAILTO:admin@televeda.com
END:VEVENT
BEGIN:VEVENT
DTSTART;TZID=America/Phoenix:20251225T180000
DTEND;TZID=America/Phoenix:20251225T190000
DTSTAMP:20260420T220441
CREATED:20250517T033712Z
LAST-MODIFIED:20250517T033712Z
UID:10000644-1766685600-1766689200@azveterans.com
SUMMARY:Female Veteran Support Circle
DESCRIPTION:Join us in a nurturing and empathetic environment designed specifically for veterans like you. Engage in meaningful discussions on topics that resonate with your experiences and connect with fellow veterans who comprehend the challenges you face. \nFemale Veteran Groups (2)
URL:https://azveterans.com/event/female-veteran-support-circle/2025-12-25/
LOCATION:Televeda – Virtual Platform\, AZ\, United States
ORGANIZER;CN="Televeda":MAILTO:admin@televeda.com
END:VEVENT
BEGIN:VEVENT
DTSTART;TZID=America/Phoenix:20251222T183000
DTEND;TZID=America/Phoenix:20251222T193000
DTSTAMP:20260420T220441
CREATED:20250603T205051Z
LAST-MODIFIED:20250603T205051Z
UID:10001141-1766428200-1766431800@azveterans.com
SUMMARY:BATTLEMIND
DESCRIPTION:“Battle mind” provides valuable insights into military perspectives\, how veterans navigate communication with civilian society\, the conflicts that may arise\, and practical solutions to bridge these gaps. \nREFERRAL CODE – HERO2024
URL:https://azveterans.com/event/battlemind/2025-12-22/
LOCATION:Televeda – Virtual Platform\, AZ\, United States
ORGANIZER;CN="Televeda":MAILTO:admin@televeda.com
END:VEVENT
END:VCALENDAR