BEGIN:VCALENDAR
VERSION:2.0
PRODID:-//AZ Veterans - ECPv6.15.20//NONSGML v1.0//EN
CALSCALE:GREGORIAN
METHOD:PUBLISH
X-ORIGINAL-URL:https://azveterans.com
X-WR-CALDESC:Events for AZ Veterans
REFRESH-INTERVAL;VALUE=DURATION:PT1H
X-Robots-Tag:noindex
X-PUBLISHED-TTL:PT1H
BEGIN:VTIMEZONE
TZID:America/Phoenix
BEGIN:STANDARD
TZOFFSETFROM:-0700
TZOFFSETTO:-0700
TZNAME:MST
DTSTART:20250101T000000
END:STANDARD
END:VTIMEZONE
BEGIN:VEVENT
DTSTART;TZID=America/Phoenix:20260211T120000
DTEND;TZID=America/Phoenix:20260211T140000
DTSTAMP:20260419T085524
CREATED:20251210T000746Z
LAST-MODIFIED:20251210T001157Z
UID:10002915-1770811200-1770818400@azveterans.com
SUMMARY:Veteran Construction Apprenticeship Fair
DESCRIPTION:Attendees will meet with various construction companies and apprenticeship programs currently hiring. \nVeteran Attendee Register here – https://docs.google.com/forms/d/e/1FAIpQLScB9Is5QWQgIBQLEpRmOQpPYmaYhDKv3kxiqF67SN-M48KEjw/viewform \nExhibitors Register here – https://docs.google.com/forms/d/e/1FAIpQLScMb-707sj43BtIFbleAs9zqNbbd1nhn2-fW-vOs2lAOfgjnw/viewform \n 
URL:https://azveterans.com/event/veteran-construction-apprenticeship-fair/
LOCATION:Mortgage Matchup Center\, 201 E Jefferson St\, Phoenix\, 85004\, United States
ORGANIZER;CN="Arizona Registrar of Contractors":MAILTO:maggie.roby@roc.az.gov
END:VEVENT
END:VCALENDAR