BEGIN:VCALENDAR
VERSION:2.0
PRODID:-//AZ Veterans - ECPv6.15.20//NONSGML v1.0//EN
CALSCALE:GREGORIAN
METHOD:PUBLISH
X-WR-CALNAME:AZ Veterans
X-ORIGINAL-URL:https://azveterans.com
X-WR-CALDESC:Events for AZ Veterans
REFRESH-INTERVAL;VALUE=DURATION:PT1H
X-Robots-Tag:noindex
X-PUBLISHED-TTL:PT1H
BEGIN:VTIMEZONE
TZID:America/Phoenix
BEGIN:STANDARD
TZOFFSETFROM:-0700
TZOFFSETTO:-0700
TZNAME:MST
DTSTART:20240101T000000
END:STANDARD
END:VTIMEZONE
BEGIN:VEVENT
DTSTART;TZID=America/Phoenix:20250531T160000
DTEND;TZID=America/Phoenix:20250531T200000
DTSTAMP:20260421T085322
CREATED:20250417T022957Z
LAST-MODIFIED:20250417T023005Z
UID:10000044-1748707200-1748721600@azveterans.com
SUMMARY:FUNdraiser Night
DESCRIPTION:Come out and help us raise money for veterans in Arizona. All money raised goes to financially assist veterans and their families. \n 
URL:https://azveterans.com/event/fundraiser-night/
LOCATION:Sultana Bar\, 301 Historic Rte 66\, Williams\, AZ\, 86046\, United States
ORGANIZER;CN="Nation of Patriots - Arizona":MAILTO:anthonynopaz@gmail.com
END:VEVENT
END:VCALENDAR