BEGIN:VCALENDAR
VERSION:2.0
PRODID:-//AZ Veterans - ECPv6.15.20//NONSGML v1.0//EN
CALSCALE:GREGORIAN
METHOD:PUBLISH
X-WR-CALNAME:AZ Veterans
X-ORIGINAL-URL:https://azveterans.com
X-WR-CALDESC:Events for AZ Veterans
REFRESH-INTERVAL;VALUE=DURATION:PT1H
X-Robots-Tag:noindex
X-PUBLISHED-TTL:PT1H
BEGIN:VTIMEZONE
TZID:America/Phoenix
BEGIN:STANDARD
TZOFFSETFROM:-0700
TZOFFSETTO:-0700
TZNAME:MST
DTSTART:20250101T000000
END:STANDARD
END:VTIMEZONE
BEGIN:VEVENT
DTSTART;TZID=America/Phoenix:20260421T100000
DTEND;TZID=America/Phoenix:20260421T140000
DTSTAMP:20260420T081016
CREATED:20250417T174851Z
LAST-MODIFIED:20250417T183328Z
UID:10000101-1776765600-1776780000@azveterans.com
SUMMARY:VETERANS OUTREACH - Snowflake
DESCRIPTION:SERVICES TO BE OFFERED \n\n\nTRIAGE AND BASIC HEALTH SCREENINGS \n\n\nEMERGENCY FOOD BOXES \n\n\nVETERAN BENEFITS – COMPENSATION & PENSION \n\n\nMEDICARE SPECIALISTS \n\n\nVETERAN WORKFORCE \n\n\nHEALTH INSURANCE AND NUTRITION BENEFIT SPECIALIST \n\n\nASSISTANCE CONNECTING TO SOCIAL SECURITY \n\n\nFOR MORE INFORMATION:MARTY JARVEY 928-369-8455FISHERSFORVETERANS@GMAIL.COM
URL:https://azveterans.com/event/veterans-outreach-snowflake/2026-04-21/
LOCATION:CEDAR HILLS SENIOR CENTER\, 9419 E CONCHO HWY\, Snowflake\, AZ\, 85937\, United States
ORGANIZER;CN="FISHERS OF MEN FOR VETERANS":MAILTO:FISHERSFORVETERANS@GMAIL.COM
END:VEVENT
BEGIN:VEVENT
DTSTART;TZID=America/Phoenix:20260421T100000
DTEND;TZID=America/Phoenix:20260421T140000
DTSTAMP:20260420T081016
CREATED:20260219T195407Z
LAST-MODIFIED:20260219T195407Z
UID:10003112-1776765600-1776780000@azveterans.com
SUMMARY:VETERANS OUTREACH SAINT JOHNS CITY HALL
DESCRIPTION:EVENT OPEN TO ALL VETERAN – VETERANS OUTREACH \nSAINT JOHNS CITY HALL \nTHIRD TUESDAY OF EACH MONTH10AM – 2PM \n70 E COMMERCIAL SAINT JOHNS\, AZ \nSERVICES TO BE OFFERED \n• HOT MEAL SERVED• EMERGENCY FOOD BOXES• VETERANS BENEFITS – COMPENSATION & PENSION• ASSISTANCE CONNECTING TO SOCIAL SECURITY• MEDICARE SPECIALISTS \nFISHERS OF MENFOR VETERANSChanging One Heart At A Time \nFOR MORE INFORMATION:MARTY JARVEY 928-369-8455FISHERSFORVETERANS@GMAIL.COM
URL:https://azveterans.com/event/veterans-outreach-saint-johns-city-hall/2026-04-21/
LOCATION:Saint Johns City Hall\, 70 E Commercial Street\, Saint Johns\, 85936\, United States
ORGANIZER;CN="FISHERS OF MEN FOR VETERANS":MAILTO:FISHERSFORVETERANS@GMAIL.COM
END:VEVENT
BEGIN:VEVENT
DTSTART;TZID=America/Phoenix:20260422T090000
DTEND;TZID=America/Phoenix:20260422T100000
DTSTAMP:20260420T081016
CREATED:20260219T202840Z
LAST-MODIFIED:20260219T202840Z
UID:10003179-1776848400-1776852000@azveterans.com
SUMMARY:VETERANS COFFEE TIME
DESCRIPTION:ALL Veterans & Active DutyMembers are welcome to join us for free donuts and coffee. \nSPONSORED BY \nFISHERS OF MEN FOR VETERANSChanging One Heart At A Time \nMEALS ON WHEELS AZ WHITE MOUNTAINS \nTURN OF THE CARD COMMUNITY CENTER \nWEDNESDAYS 9 AM TO 10 AM \nLocated inside of theTurn of the Card Community Center at 301 E McNeil\, Show Low AZ
URL:https://azveterans.com/event/veterans-coffee-time/2026-04-22/
LOCATION:TURN OF THE CARD COMMUNITY CENTER\, 301 E McNeil\, Show Low\, 85901\, United States
ORGANIZER;CN="FISHERS OF MEN FOR VETERANS":MAILTO:FISHERSFORVETERANS@GMAIL.COM
END:VEVENT
BEGIN:VEVENT
DTSTART;TZID=America/Phoenix:20260424T100000
DTEND;TZID=America/Phoenix:20260424T140000
DTSTAMP:20260420T081016
CREATED:20260219T200439Z
LAST-MODIFIED:20260219T200439Z
UID:10003128-1777024800-1777039200@azveterans.com
SUMMARY:VETERANS OUTREACH Navajo County
DESCRIPTION:THIS EVENT IS OPEN TO ALL VETERANS IN NAVAJO COUNTY \nVETERANS OUTREACH \nSPONSORED BY: FISHERS OF MEN FOR VETERANS \nHOLBROOK \nFIRST BAPTIST CHURCH OF HOLBROOK360 1st AVE \nFOURTH FRIDAYOF EACH MONTH \n10 AM – 2 PM \nSERVICES TO BE OFFERED: \n• HOT MEAL SERVED• EMERGENCY FOOD BOXES• VETERANS BENEFITS – COMPENSATION & PENSION• ASSISTANCE CONNECTING TO SOCIAL SECURITY• MEDICARE SPECIALISTS \nFOR MORE INFORMATION:MARTY JARVEY 928-369-8455FISHERSFORVETERENS@GMAIL.COM
URL:https://azveterans.com/event/veterans-outreach-navajo-county/2026-04-24/
LOCATION:FIRST BAPTIST CHURCH OF HOLBROOK\, 360 1st AVE\, Holbrook\, 86025\, United States
ORGANIZER;CN="FISHERS OF MEN FOR VETERANS":MAILTO:FISHERSFORVETERANS@GMAIL.COM
END:VEVENT
BEGIN:VEVENT
DTSTART;TZID=America/Phoenix:20260429T090000
DTEND;TZID=America/Phoenix:20260429T100000
DTSTAMP:20260420T081016
CREATED:20260219T202840Z
LAST-MODIFIED:20260219T202840Z
UID:10003180-1777453200-1777456800@azveterans.com
SUMMARY:VETERANS COFFEE TIME
DESCRIPTION:ALL Veterans & Active DutyMembers are welcome to join us for free donuts and coffee. \nSPONSORED BY \nFISHERS OF MEN FOR VETERANSChanging One Heart At A Time \nMEALS ON WHEELS AZ WHITE MOUNTAINS \nTURN OF THE CARD COMMUNITY CENTER \nWEDNESDAYS 9 AM TO 10 AM \nLocated inside of theTurn of the Card Community Center at 301 E McNeil\, Show Low AZ
URL:https://azveterans.com/event/veterans-coffee-time/2026-04-29/
LOCATION:TURN OF THE CARD COMMUNITY CENTER\, 301 E McNeil\, Show Low\, 85901\, United States
ORGANIZER;CN="FISHERS OF MEN FOR VETERANS":MAILTO:FISHERSFORVETERANS@GMAIL.COM
END:VEVENT
BEGIN:VEVENT
DTSTART;TZID=America/Phoenix:20260502T100000
DTEND;TZID=America/Phoenix:20260502T140000
DTSTAMP:20260420T081016
CREATED:20260219T201741Z
LAST-MODIFIED:20260219T201819Z
UID:10003143-1777716000-1777730400@azveterans.com
SUMMARY:VETERANS OUTREACH CEDAR HILLS SENIOR CENTER
DESCRIPTION:EVENT OPEN TO ALL VETERANS – VETERANS OUTREACH \nCEDAR HILLS SENIOR CENTER \nFIRST SATURDAY OF EACH MONTH10AM–2PM \n9419 E CONCHO HWY\, SNOWFLAKE\, AZ \nSERVICES TO BE OFFERED \n• HOT MEAL SERVED• EMERGENCY FOOD BOXES• VETERANS BENEFITS – COMPENSATION & PENSION• ASSISTANCE CONNECTING TO SOCIAL SECURITY• MEDICARE SPECIALISTS \nFISHERS OF MENFOR VETERANSChanging One Heart At A Time \nFOR MORE INFORMATION:MARTY JARVEY 928-369-8455FISHERSFORVETERANS@GMAIL.COM
URL:https://azveterans.com/event/veterans-outreach-cedar-hills-senior-center/2026-05-02/
LOCATION:CEDAR HILLS SENIOR CENTER\, 9419 E CONCHO HWY\, Snowflake\, AZ\, 85937\, United States
ORGANIZER;CN="FISHERS OF MEN FOR VETERANS":MAILTO:FISHERSFORVETERANS@GMAIL.COM
END:VEVENT
BEGIN:VEVENT
DTSTART;TZID=America/Phoenix:20260506T090000
DTEND;TZID=America/Phoenix:20260506T100000
DTSTAMP:20260420T081016
CREATED:20260219T202840Z
LAST-MODIFIED:20260219T202840Z
UID:10003181-1778058000-1778061600@azveterans.com
SUMMARY:VETERANS COFFEE TIME
DESCRIPTION:ALL Veterans & Active DutyMembers are welcome to join us for free donuts and coffee. \nSPONSORED BY \nFISHERS OF MEN FOR VETERANSChanging One Heart At A Time \nMEALS ON WHEELS AZ WHITE MOUNTAINS \nTURN OF THE CARD COMMUNITY CENTER \nWEDNESDAYS 9 AM TO 10 AM \nLocated inside of theTurn of the Card Community Center at 301 E McNeil\, Show Low AZ
URL:https://azveterans.com/event/veterans-coffee-time/2026-05-06/
LOCATION:TURN OF THE CARD COMMUNITY CENTER\, 301 E McNeil\, Show Low\, 85901\, United States
ORGANIZER;CN="FISHERS OF MEN FOR VETERANS":MAILTO:FISHERSFORVETERANS@GMAIL.COM
END:VEVENT
BEGIN:VEVENT
DTSTART;TZID=America/Phoenix:20260513T090000
DTEND;TZID=America/Phoenix:20260513T100000
DTSTAMP:20260420T081016
CREATED:20260219T202840Z
LAST-MODIFIED:20260219T202840Z
UID:10003182-1778662800-1778666400@azveterans.com
SUMMARY:VETERANS COFFEE TIME
DESCRIPTION:ALL Veterans & Active DutyMembers are welcome to join us for free donuts and coffee. \nSPONSORED BY \nFISHERS OF MEN FOR VETERANSChanging One Heart At A Time \nMEALS ON WHEELS AZ WHITE MOUNTAINS \nTURN OF THE CARD COMMUNITY CENTER \nWEDNESDAYS 9 AM TO 10 AM \nLocated inside of theTurn of the Card Community Center at 301 E McNeil\, Show Low AZ
URL:https://azveterans.com/event/veterans-coffee-time/2026-05-13/
LOCATION:TURN OF THE CARD COMMUNITY CENTER\, 301 E McNeil\, Show Low\, 85901\, United States
ORGANIZER;CN="FISHERS OF MEN FOR VETERANS":MAILTO:FISHERSFORVETERANS@GMAIL.COM
END:VEVENT
BEGIN:VEVENT
DTSTART;TZID=America/Phoenix:20260515T090000
DTEND;TZID=America/Phoenix:20260515T130000
DTSTAMP:20260420T081016
CREATED:20250417T195949Z
LAST-MODIFIED:20250417T200041Z
UID:10000211-1778835600-1778850000@azveterans.com
SUMMARY:VETERANS OUTREACH - CONCHO
DESCRIPTION:THIS EVENT IS OPEN TO ALL VETERANS IN APACHE/NAVAJO COUNTIES \nTHIRD FRIDAY OF EACH MONTH9 am – 1 pm \nSERVICES TO BE OFFERED: \n\n\nTRIAGE AND BASIC HEALTH SCREENINGS \n\n\nEMERGENCY FOOD BOXES \n\n\nVETERAN BENEFITS – COMPENSATION & PENSION \n\n\nMEDICARE SPECIALISTS \n\n\nVETERANS WORKFORCE \n\n\nHEALTH INSURANCE AND NUTRITION BENEFIT SPECIALIST \n\n\nASSISTANCE CONNECTING TO SOCIAL SECURITY \n\n\nFOR MORE INFORMATION:MARTY JARVEY 928-369-8455FISHERSFORVETERANS@GMAIL.COM
URL:https://azveterans.com/event/veterans-outreach-concho/2026-05-15/
LOCATION:Concho Mellon Center\, 99 County Road 5050\, Concho\, AZ\, 85924\, United States
ORGANIZER;CN="FISHERS OF MEN FOR VETERANS":MAILTO:FISHERSFORVETERANS@GMAIL.COM
END:VEVENT
BEGIN:VEVENT
DTSTART;TZID=America/Phoenix:20260519T100000
DTEND;TZID=America/Phoenix:20260519T140000
DTSTAMP:20260420T081016
CREATED:20250417T174851Z
LAST-MODIFIED:20250417T183328Z
UID:10000102-1779184800-1779199200@azveterans.com
SUMMARY:VETERANS OUTREACH - Snowflake
DESCRIPTION:SERVICES TO BE OFFERED \n\n\nTRIAGE AND BASIC HEALTH SCREENINGS \n\n\nEMERGENCY FOOD BOXES \n\n\nVETERAN BENEFITS – COMPENSATION & PENSION \n\n\nMEDICARE SPECIALISTS \n\n\nVETERAN WORKFORCE \n\n\nHEALTH INSURANCE AND NUTRITION BENEFIT SPECIALIST \n\n\nASSISTANCE CONNECTING TO SOCIAL SECURITY \n\n\nFOR MORE INFORMATION:MARTY JARVEY 928-369-8455FISHERSFORVETERANS@GMAIL.COM
URL:https://azveterans.com/event/veterans-outreach-snowflake/2026-05-19/
LOCATION:CEDAR HILLS SENIOR CENTER\, 9419 E CONCHO HWY\, Snowflake\, AZ\, 85937\, United States
ORGANIZER;CN="FISHERS OF MEN FOR VETERANS":MAILTO:FISHERSFORVETERANS@GMAIL.COM
END:VEVENT
BEGIN:VEVENT
DTSTART;TZID=America/Phoenix:20260519T100000
DTEND;TZID=America/Phoenix:20260519T140000
DTSTAMP:20260420T081016
CREATED:20260219T195407Z
LAST-MODIFIED:20260219T195407Z
UID:10003113-1779184800-1779199200@azveterans.com
SUMMARY:VETERANS OUTREACH SAINT JOHNS CITY HALL
DESCRIPTION:EVENT OPEN TO ALL VETERAN – VETERANS OUTREACH \nSAINT JOHNS CITY HALL \nTHIRD TUESDAY OF EACH MONTH10AM – 2PM \n70 E COMMERCIAL SAINT JOHNS\, AZ \nSERVICES TO BE OFFERED \n• HOT MEAL SERVED• EMERGENCY FOOD BOXES• VETERANS BENEFITS – COMPENSATION & PENSION• ASSISTANCE CONNECTING TO SOCIAL SECURITY• MEDICARE SPECIALISTS \nFISHERS OF MENFOR VETERANSChanging One Heart At A Time \nFOR MORE INFORMATION:MARTY JARVEY 928-369-8455FISHERSFORVETERANS@GMAIL.COM
URL:https://azveterans.com/event/veterans-outreach-saint-johns-city-hall/2026-05-19/
LOCATION:Saint Johns City Hall\, 70 E Commercial Street\, Saint Johns\, 85936\, United States
ORGANIZER;CN="FISHERS OF MEN FOR VETERANS":MAILTO:FISHERSFORVETERANS@GMAIL.COM
END:VEVENT
BEGIN:VEVENT
DTSTART;TZID=America/Phoenix:20260520T090000
DTEND;TZID=America/Phoenix:20260520T100000
DTSTAMP:20260420T081016
CREATED:20260219T202840Z
LAST-MODIFIED:20260219T202840Z
UID:10003183-1779267600-1779271200@azveterans.com
SUMMARY:VETERANS COFFEE TIME
DESCRIPTION:ALL Veterans & Active DutyMembers are welcome to join us for free donuts and coffee. \nSPONSORED BY \nFISHERS OF MEN FOR VETERANSChanging One Heart At A Time \nMEALS ON WHEELS AZ WHITE MOUNTAINS \nTURN OF THE CARD COMMUNITY CENTER \nWEDNESDAYS 9 AM TO 10 AM \nLocated inside of theTurn of the Card Community Center at 301 E McNeil\, Show Low AZ
URL:https://azveterans.com/event/veterans-coffee-time/2026-05-20/
LOCATION:TURN OF THE CARD COMMUNITY CENTER\, 301 E McNeil\, Show Low\, 85901\, United States
ORGANIZER;CN="FISHERS OF MEN FOR VETERANS":MAILTO:FISHERSFORVETERANS@GMAIL.COM
END:VEVENT
BEGIN:VEVENT
DTSTART;TZID=America/Phoenix:20260521T100000
DTEND;TZID=America/Phoenix:20260521T140000
DTSTAMP:20260420T081016
CREATED:20260219T202320Z
LAST-MODIFIED:20260219T202320Z
UID:10003159-1779357600-1779372000@azveterans.com
SUMMARY:VETERANS OUTREACH - OVERGAARD
DESCRIPTION:VETERANS OUTREACH EVENT OPEN TO ALL VETERANS \nAMERICAN LEGION POST #86\n2068 LUMBER VALLEY RD\, OVERGAARD\, AZ \nTHIRD THURSDAY OF EACH MONTH10:00 AM – 2:00 PM \nSERVICES TO BE OFFERED \n\n\nTRIAGE AND BASIC HEALTH SCREENINGS \n\n\nEMERGENCY FOOD BOXES \n\n\nVETERAN BENEFITS – COMPENSATION & PENSION \n\n\nMEDICARE SPECIALISTS \n\n\nVETERAN WORKFORCE \n\n\nHEALTH INSURANCE & NUTRITION BENEFIT SPECIALIST \n\n\nASSISTANCE CONNECTING TO SOCIAL SECURITYHOT MEAL SERVED \n\n\nFISHERS OF MEN FOR VETERANS \nPOST #86 & FAMILY \nFOR MORE INFORMATION:MARTY JARVEY 928-369-8455FISHERSFORVETERANS@GMAIL.COM \nTHANK YOU FOR SERVING OUR COUNTRY & PROTECTING OUR FREEDOM
URL:https://azveterans.com/event/veterans-outreach-overgaard/2026-05-21/
LOCATION:American Legion Post #86\, 2068 LUMBER VALLEY RD\, Overgaard\, 85933\, United States
ORGANIZER;CN="FISHERS OF MEN FOR VETERANS":MAILTO:FISHERSFORVETERANS@GMAIL.COM
END:VEVENT
BEGIN:VEVENT
DTSTART;TZID=America/Phoenix:20260522T100000
DTEND;TZID=America/Phoenix:20260522T140000
DTSTAMP:20260420T081016
CREATED:20260219T200439Z
LAST-MODIFIED:20260219T200439Z
UID:10003129-1779444000-1779458400@azveterans.com
SUMMARY:VETERANS OUTREACH Navajo County
DESCRIPTION:THIS EVENT IS OPEN TO ALL VETERANS IN NAVAJO COUNTY \nVETERANS OUTREACH \nSPONSORED BY: FISHERS OF MEN FOR VETERANS \nHOLBROOK \nFIRST BAPTIST CHURCH OF HOLBROOK360 1st AVE \nFOURTH FRIDAYOF EACH MONTH \n10 AM – 2 PM \nSERVICES TO BE OFFERED: \n• HOT MEAL SERVED• EMERGENCY FOOD BOXES• VETERANS BENEFITS – COMPENSATION & PENSION• ASSISTANCE CONNECTING TO SOCIAL SECURITY• MEDICARE SPECIALISTS \nFOR MORE INFORMATION:MARTY JARVEY 928-369-8455FISHERSFORVETERENS@GMAIL.COM
URL:https://azveterans.com/event/veterans-outreach-navajo-county/2026-05-22/
LOCATION:FIRST BAPTIST CHURCH OF HOLBROOK\, 360 1st AVE\, Holbrook\, 86025\, United States
ORGANIZER;CN="FISHERS OF MEN FOR VETERANS":MAILTO:FISHERSFORVETERANS@GMAIL.COM
END:VEVENT
BEGIN:VEVENT
DTSTART;TZID=America/Phoenix:20260527T090000
DTEND;TZID=America/Phoenix:20260527T100000
DTSTAMP:20260420T081016
CREATED:20260219T202840Z
LAST-MODIFIED:20260219T202840Z
UID:10003184-1779872400-1779876000@azveterans.com
SUMMARY:VETERANS COFFEE TIME
DESCRIPTION:ALL Veterans & Active DutyMembers are welcome to join us for free donuts and coffee. \nSPONSORED BY \nFISHERS OF MEN FOR VETERANSChanging One Heart At A Time \nMEALS ON WHEELS AZ WHITE MOUNTAINS \nTURN OF THE CARD COMMUNITY CENTER \nWEDNESDAYS 9 AM TO 10 AM \nLocated inside of theTurn of the Card Community Center at 301 E McNeil\, Show Low AZ
URL:https://azveterans.com/event/veterans-coffee-time/2026-05-27/
LOCATION:TURN OF THE CARD COMMUNITY CENTER\, 301 E McNeil\, Show Low\, 85901\, United States
ORGANIZER;CN="FISHERS OF MEN FOR VETERANS":MAILTO:FISHERSFORVETERANS@GMAIL.COM
END:VEVENT
BEGIN:VEVENT
DTSTART;TZID=America/Phoenix:20260603T090000
DTEND;TZID=America/Phoenix:20260603T100000
DTSTAMP:20260420T081016
CREATED:20260219T202840Z
LAST-MODIFIED:20260219T202840Z
UID:10003185-1780477200-1780480800@azveterans.com
SUMMARY:VETERANS COFFEE TIME
DESCRIPTION:ALL Veterans & Active DutyMembers are welcome to join us for free donuts and coffee. \nSPONSORED BY \nFISHERS OF MEN FOR VETERANSChanging One Heart At A Time \nMEALS ON WHEELS AZ WHITE MOUNTAINS \nTURN OF THE CARD COMMUNITY CENTER \nWEDNESDAYS 9 AM TO 10 AM \nLocated inside of theTurn of the Card Community Center at 301 E McNeil\, Show Low AZ
URL:https://azveterans.com/event/veterans-coffee-time/2026-06-03/
LOCATION:TURN OF THE CARD COMMUNITY CENTER\, 301 E McNeil\, Show Low\, 85901\, United States
ORGANIZER;CN="FISHERS OF MEN FOR VETERANS":MAILTO:FISHERSFORVETERANS@GMAIL.COM
END:VEVENT
BEGIN:VEVENT
DTSTART;TZID=America/Phoenix:20260606T100000
DTEND;TZID=America/Phoenix:20260606T140000
DTSTAMP:20260420T081016
CREATED:20260219T201741Z
LAST-MODIFIED:20260219T201819Z
UID:10003144-1780740000-1780754400@azveterans.com
SUMMARY:VETERANS OUTREACH CEDAR HILLS SENIOR CENTER
DESCRIPTION:EVENT OPEN TO ALL VETERANS – VETERANS OUTREACH \nCEDAR HILLS SENIOR CENTER \nFIRST SATURDAY OF EACH MONTH10AM–2PM \n9419 E CONCHO HWY\, SNOWFLAKE\, AZ \nSERVICES TO BE OFFERED \n• HOT MEAL SERVED• EMERGENCY FOOD BOXES• VETERANS BENEFITS – COMPENSATION & PENSION• ASSISTANCE CONNECTING TO SOCIAL SECURITY• MEDICARE SPECIALISTS \nFISHERS OF MENFOR VETERANSChanging One Heart At A Time \nFOR MORE INFORMATION:MARTY JARVEY 928-369-8455FISHERSFORVETERANS@GMAIL.COM
URL:https://azveterans.com/event/veterans-outreach-cedar-hills-senior-center/2026-06-06/
LOCATION:CEDAR HILLS SENIOR CENTER\, 9419 E CONCHO HWY\, Snowflake\, AZ\, 85937\, United States
ORGANIZER;CN="FISHERS OF MEN FOR VETERANS":MAILTO:FISHERSFORVETERANS@GMAIL.COM
END:VEVENT
BEGIN:VEVENT
DTSTART;TZID=America/Phoenix:20260610T090000
DTEND;TZID=America/Phoenix:20260610T100000
DTSTAMP:20260420T081016
CREATED:20260219T202840Z
LAST-MODIFIED:20260219T202840Z
UID:10003186-1781082000-1781085600@azveterans.com
SUMMARY:VETERANS COFFEE TIME
DESCRIPTION:ALL Veterans & Active DutyMembers are welcome to join us for free donuts and coffee. \nSPONSORED BY \nFISHERS OF MEN FOR VETERANSChanging One Heart At A Time \nMEALS ON WHEELS AZ WHITE MOUNTAINS \nTURN OF THE CARD COMMUNITY CENTER \nWEDNESDAYS 9 AM TO 10 AM \nLocated inside of theTurn of the Card Community Center at 301 E McNeil\, Show Low AZ
URL:https://azveterans.com/event/veterans-coffee-time/2026-06-10/
LOCATION:TURN OF THE CARD COMMUNITY CENTER\, 301 E McNeil\, Show Low\, 85901\, United States
ORGANIZER;CN="FISHERS OF MEN FOR VETERANS":MAILTO:FISHERSFORVETERANS@GMAIL.COM
END:VEVENT
BEGIN:VEVENT
DTSTART;TZID=America/Phoenix:20260616T100000
DTEND;TZID=America/Phoenix:20260616T140000
DTSTAMP:20260420T081016
CREATED:20250417T174851Z
LAST-MODIFIED:20250417T183328Z
UID:10000103-1781604000-1781618400@azveterans.com
SUMMARY:VETERANS OUTREACH - Snowflake
DESCRIPTION:SERVICES TO BE OFFERED \n\n\nTRIAGE AND BASIC HEALTH SCREENINGS \n\n\nEMERGENCY FOOD BOXES \n\n\nVETERAN BENEFITS – COMPENSATION & PENSION \n\n\nMEDICARE SPECIALISTS \n\n\nVETERAN WORKFORCE \n\n\nHEALTH INSURANCE AND NUTRITION BENEFIT SPECIALIST \n\n\nASSISTANCE CONNECTING TO SOCIAL SECURITY \n\n\nFOR MORE INFORMATION:MARTY JARVEY 928-369-8455FISHERSFORVETERANS@GMAIL.COM
URL:https://azveterans.com/event/veterans-outreach-snowflake/2026-06-16/
LOCATION:CEDAR HILLS SENIOR CENTER\, 9419 E CONCHO HWY\, Snowflake\, AZ\, 85937\, United States
ORGANIZER;CN="FISHERS OF MEN FOR VETERANS":MAILTO:FISHERSFORVETERANS@GMAIL.COM
END:VEVENT
BEGIN:VEVENT
DTSTART;TZID=America/Phoenix:20260616T100000
DTEND;TZID=America/Phoenix:20260616T140000
DTSTAMP:20260420T081016
CREATED:20260219T195407Z
LAST-MODIFIED:20260219T195407Z
UID:10003114-1781604000-1781618400@azveterans.com
SUMMARY:VETERANS OUTREACH SAINT JOHNS CITY HALL
DESCRIPTION:EVENT OPEN TO ALL VETERAN – VETERANS OUTREACH \nSAINT JOHNS CITY HALL \nTHIRD TUESDAY OF EACH MONTH10AM – 2PM \n70 E COMMERCIAL SAINT JOHNS\, AZ \nSERVICES TO BE OFFERED \n• HOT MEAL SERVED• EMERGENCY FOOD BOXES• VETERANS BENEFITS – COMPENSATION & PENSION• ASSISTANCE CONNECTING TO SOCIAL SECURITY• MEDICARE SPECIALISTS \nFISHERS OF MENFOR VETERANSChanging One Heart At A Time \nFOR MORE INFORMATION:MARTY JARVEY 928-369-8455FISHERSFORVETERANS@GMAIL.COM
URL:https://azveterans.com/event/veterans-outreach-saint-johns-city-hall/2026-06-16/
LOCATION:Saint Johns City Hall\, 70 E Commercial Street\, Saint Johns\, 85936\, United States
ORGANIZER;CN="FISHERS OF MEN FOR VETERANS":MAILTO:FISHERSFORVETERANS@GMAIL.COM
END:VEVENT
BEGIN:VEVENT
DTSTART;TZID=America/Phoenix:20260617T090000
DTEND;TZID=America/Phoenix:20260617T100000
DTSTAMP:20260420T081016
CREATED:20260219T202840Z
LAST-MODIFIED:20260219T202840Z
UID:10003187-1781686800-1781690400@azveterans.com
SUMMARY:VETERANS COFFEE TIME
DESCRIPTION:ALL Veterans & Active DutyMembers are welcome to join us for free donuts and coffee. \nSPONSORED BY \nFISHERS OF MEN FOR VETERANSChanging One Heart At A Time \nMEALS ON WHEELS AZ WHITE MOUNTAINS \nTURN OF THE CARD COMMUNITY CENTER \nWEDNESDAYS 9 AM TO 10 AM \nLocated inside of theTurn of the Card Community Center at 301 E McNeil\, Show Low AZ
URL:https://azveterans.com/event/veterans-coffee-time/2026-06-17/
LOCATION:TURN OF THE CARD COMMUNITY CENTER\, 301 E McNeil\, Show Low\, 85901\, United States
ORGANIZER;CN="FISHERS OF MEN FOR VETERANS":MAILTO:FISHERSFORVETERANS@GMAIL.COM
END:VEVENT
BEGIN:VEVENT
DTSTART;TZID=America/Phoenix:20260618T100000
DTEND;TZID=America/Phoenix:20260618T140000
DTSTAMP:20260420T081016
CREATED:20260219T202320Z
LAST-MODIFIED:20260219T202320Z
UID:10003160-1781776800-1781791200@azveterans.com
SUMMARY:VETERANS OUTREACH - OVERGAARD
DESCRIPTION:VETERANS OUTREACH EVENT OPEN TO ALL VETERANS \nAMERICAN LEGION POST #86\n2068 LUMBER VALLEY RD\, OVERGAARD\, AZ \nTHIRD THURSDAY OF EACH MONTH10:00 AM – 2:00 PM \nSERVICES TO BE OFFERED \n\n\nTRIAGE AND BASIC HEALTH SCREENINGS \n\n\nEMERGENCY FOOD BOXES \n\n\nVETERAN BENEFITS – COMPENSATION & PENSION \n\n\nMEDICARE SPECIALISTS \n\n\nVETERAN WORKFORCE \n\n\nHEALTH INSURANCE & NUTRITION BENEFIT SPECIALIST \n\n\nASSISTANCE CONNECTING TO SOCIAL SECURITYHOT MEAL SERVED \n\n\nFISHERS OF MEN FOR VETERANS \nPOST #86 & FAMILY \nFOR MORE INFORMATION:MARTY JARVEY 928-369-8455FISHERSFORVETERANS@GMAIL.COM \nTHANK YOU FOR SERVING OUR COUNTRY & PROTECTING OUR FREEDOM
URL:https://azveterans.com/event/veterans-outreach-overgaard/2026-06-18/
LOCATION:American Legion Post #86\, 2068 LUMBER VALLEY RD\, Overgaard\, 85933\, United States
ORGANIZER;CN="FISHERS OF MEN FOR VETERANS":MAILTO:FISHERSFORVETERANS@GMAIL.COM
END:VEVENT
BEGIN:VEVENT
DTSTART;TZID=America/Phoenix:20260619T090000
DTEND;TZID=America/Phoenix:20260619T130000
DTSTAMP:20260420T081016
CREATED:20250417T195949Z
LAST-MODIFIED:20250417T200041Z
UID:10000212-1781859600-1781874000@azveterans.com
SUMMARY:VETERANS OUTREACH - CONCHO
DESCRIPTION:THIS EVENT IS OPEN TO ALL VETERANS IN APACHE/NAVAJO COUNTIES \nTHIRD FRIDAY OF EACH MONTH9 am – 1 pm \nSERVICES TO BE OFFERED: \n\n\nTRIAGE AND BASIC HEALTH SCREENINGS \n\n\nEMERGENCY FOOD BOXES \n\n\nVETERAN BENEFITS – COMPENSATION & PENSION \n\n\nMEDICARE SPECIALISTS \n\n\nVETERANS WORKFORCE \n\n\nHEALTH INSURANCE AND NUTRITION BENEFIT SPECIALIST \n\n\nASSISTANCE CONNECTING TO SOCIAL SECURITY \n\n\nFOR MORE INFORMATION:MARTY JARVEY 928-369-8455FISHERSFORVETERANS@GMAIL.COM
URL:https://azveterans.com/event/veterans-outreach-concho/2026-06-19/
LOCATION:Concho Mellon Center\, 99 County Road 5050\, Concho\, AZ\, 85924\, United States
ORGANIZER;CN="FISHERS OF MEN FOR VETERANS":MAILTO:FISHERSFORVETERANS@GMAIL.COM
END:VEVENT
BEGIN:VEVENT
DTSTART;TZID=America/Phoenix:20260624T090000
DTEND;TZID=America/Phoenix:20260624T100000
DTSTAMP:20260420T081016
CREATED:20260219T202840Z
LAST-MODIFIED:20260219T202840Z
UID:10003188-1782291600-1782295200@azveterans.com
SUMMARY:VETERANS COFFEE TIME
DESCRIPTION:ALL Veterans & Active DutyMembers are welcome to join us for free donuts and coffee. \nSPONSORED BY \nFISHERS OF MEN FOR VETERANSChanging One Heart At A Time \nMEALS ON WHEELS AZ WHITE MOUNTAINS \nTURN OF THE CARD COMMUNITY CENTER \nWEDNESDAYS 9 AM TO 10 AM \nLocated inside of theTurn of the Card Community Center at 301 E McNeil\, Show Low AZ
URL:https://azveterans.com/event/veterans-coffee-time/2026-06-24/
LOCATION:TURN OF THE CARD COMMUNITY CENTER\, 301 E McNeil\, Show Low\, 85901\, United States
ORGANIZER;CN="FISHERS OF MEN FOR VETERANS":MAILTO:FISHERSFORVETERANS@GMAIL.COM
END:VEVENT
BEGIN:VEVENT
DTSTART;TZID=America/Phoenix:20260626T100000
DTEND;TZID=America/Phoenix:20260626T140000
DTSTAMP:20260420T081016
CREATED:20260219T200439Z
LAST-MODIFIED:20260219T200439Z
UID:10003130-1782468000-1782482400@azveterans.com
SUMMARY:VETERANS OUTREACH Navajo County
DESCRIPTION:THIS EVENT IS OPEN TO ALL VETERANS IN NAVAJO COUNTY \nVETERANS OUTREACH \nSPONSORED BY: FISHERS OF MEN FOR VETERANS \nHOLBROOK \nFIRST BAPTIST CHURCH OF HOLBROOK360 1st AVE \nFOURTH FRIDAYOF EACH MONTH \n10 AM – 2 PM \nSERVICES TO BE OFFERED: \n• HOT MEAL SERVED• EMERGENCY FOOD BOXES• VETERANS BENEFITS – COMPENSATION & PENSION• ASSISTANCE CONNECTING TO SOCIAL SECURITY• MEDICARE SPECIALISTS \nFOR MORE INFORMATION:MARTY JARVEY 928-369-8455FISHERSFORVETERENS@GMAIL.COM
URL:https://azveterans.com/event/veterans-outreach-navajo-county/2026-06-26/
LOCATION:FIRST BAPTIST CHURCH OF HOLBROOK\, 360 1st AVE\, Holbrook\, 86025\, United States
ORGANIZER;CN="FISHERS OF MEN FOR VETERANS":MAILTO:FISHERSFORVETERANS@GMAIL.COM
END:VEVENT
BEGIN:VEVENT
DTSTART;TZID=America/Phoenix:20260701T090000
DTEND;TZID=America/Phoenix:20260701T100000
DTSTAMP:20260420T081016
CREATED:20260219T202840Z
LAST-MODIFIED:20260219T202840Z
UID:10003189-1782896400-1782900000@azveterans.com
SUMMARY:VETERANS COFFEE TIME
DESCRIPTION:ALL Veterans & Active DutyMembers are welcome to join us for free donuts and coffee. \nSPONSORED BY \nFISHERS OF MEN FOR VETERANSChanging One Heart At A Time \nMEALS ON WHEELS AZ WHITE MOUNTAINS \nTURN OF THE CARD COMMUNITY CENTER \nWEDNESDAYS 9 AM TO 10 AM \nLocated inside of theTurn of the Card Community Center at 301 E McNeil\, Show Low AZ
URL:https://azveterans.com/event/veterans-coffee-time/2026-07-01/
LOCATION:TURN OF THE CARD COMMUNITY CENTER\, 301 E McNeil\, Show Low\, 85901\, United States
ORGANIZER;CN="FISHERS OF MEN FOR VETERANS":MAILTO:FISHERSFORVETERANS@GMAIL.COM
END:VEVENT
BEGIN:VEVENT
DTSTART;TZID=America/Phoenix:20260704T100000
DTEND;TZID=America/Phoenix:20260704T140000
DTSTAMP:20260420T081016
CREATED:20260219T201741Z
LAST-MODIFIED:20260219T201819Z
UID:10003145-1783159200-1783173600@azveterans.com
SUMMARY:VETERANS OUTREACH CEDAR HILLS SENIOR CENTER
DESCRIPTION:EVENT OPEN TO ALL VETERANS – VETERANS OUTREACH \nCEDAR HILLS SENIOR CENTER \nFIRST SATURDAY OF EACH MONTH10AM–2PM \n9419 E CONCHO HWY\, SNOWFLAKE\, AZ \nSERVICES TO BE OFFERED \n• HOT MEAL SERVED• EMERGENCY FOOD BOXES• VETERANS BENEFITS – COMPENSATION & PENSION• ASSISTANCE CONNECTING TO SOCIAL SECURITY• MEDICARE SPECIALISTS \nFISHERS OF MENFOR VETERANSChanging One Heart At A Time \nFOR MORE INFORMATION:MARTY JARVEY 928-369-8455FISHERSFORVETERANS@GMAIL.COM
URL:https://azveterans.com/event/veterans-outreach-cedar-hills-senior-center/2026-07-04/
LOCATION:CEDAR HILLS SENIOR CENTER\, 9419 E CONCHO HWY\, Snowflake\, AZ\, 85937\, United States
ORGANIZER;CN="FISHERS OF MEN FOR VETERANS":MAILTO:FISHERSFORVETERANS@GMAIL.COM
END:VEVENT
BEGIN:VEVENT
DTSTART;TZID=America/Phoenix:20260708T090000
DTEND;TZID=America/Phoenix:20260708T100000
DTSTAMP:20260420T081016
CREATED:20260219T202840Z
LAST-MODIFIED:20260219T202840Z
UID:10003190-1783501200-1783504800@azveterans.com
SUMMARY:VETERANS COFFEE TIME
DESCRIPTION:ALL Veterans & Active DutyMembers are welcome to join us for free donuts and coffee. \nSPONSORED BY \nFISHERS OF MEN FOR VETERANSChanging One Heart At A Time \nMEALS ON WHEELS AZ WHITE MOUNTAINS \nTURN OF THE CARD COMMUNITY CENTER \nWEDNESDAYS 9 AM TO 10 AM \nLocated inside of theTurn of the Card Community Center at 301 E McNeil\, Show Low AZ
URL:https://azveterans.com/event/veterans-coffee-time/2026-07-08/
LOCATION:TURN OF THE CARD COMMUNITY CENTER\, 301 E McNeil\, Show Low\, 85901\, United States
ORGANIZER;CN="FISHERS OF MEN FOR VETERANS":MAILTO:FISHERSFORVETERANS@GMAIL.COM
END:VEVENT
BEGIN:VEVENT
DTSTART;TZID=America/Phoenix:20260715T090000
DTEND;TZID=America/Phoenix:20260715T100000
DTSTAMP:20260420T081016
CREATED:20260219T202840Z
LAST-MODIFIED:20260219T202840Z
UID:10003191-1784106000-1784109600@azveterans.com
SUMMARY:VETERANS COFFEE TIME
DESCRIPTION:ALL Veterans & Active DutyMembers are welcome to join us for free donuts and coffee. \nSPONSORED BY \nFISHERS OF MEN FOR VETERANSChanging One Heart At A Time \nMEALS ON WHEELS AZ WHITE MOUNTAINS \nTURN OF THE CARD COMMUNITY CENTER \nWEDNESDAYS 9 AM TO 10 AM \nLocated inside of theTurn of the Card Community Center at 301 E McNeil\, Show Low AZ
URL:https://azveterans.com/event/veterans-coffee-time/2026-07-15/
LOCATION:TURN OF THE CARD COMMUNITY CENTER\, 301 E McNeil\, Show Low\, 85901\, United States
ORGANIZER;CN="FISHERS OF MEN FOR VETERANS":MAILTO:FISHERSFORVETERANS@GMAIL.COM
END:VEVENT
BEGIN:VEVENT
DTSTART;TZID=America/Phoenix:20260716T100000
DTEND;TZID=America/Phoenix:20260716T140000
DTSTAMP:20260420T081016
CREATED:20260219T202320Z
LAST-MODIFIED:20260219T202320Z
UID:10003161-1784196000-1784210400@azveterans.com
SUMMARY:VETERANS OUTREACH - OVERGAARD
DESCRIPTION:VETERANS OUTREACH EVENT OPEN TO ALL VETERANS \nAMERICAN LEGION POST #86\n2068 LUMBER VALLEY RD\, OVERGAARD\, AZ \nTHIRD THURSDAY OF EACH MONTH10:00 AM – 2:00 PM \nSERVICES TO BE OFFERED \n\n\nTRIAGE AND BASIC HEALTH SCREENINGS \n\n\nEMERGENCY FOOD BOXES \n\n\nVETERAN BENEFITS – COMPENSATION & PENSION \n\n\nMEDICARE SPECIALISTS \n\n\nVETERAN WORKFORCE \n\n\nHEALTH INSURANCE & NUTRITION BENEFIT SPECIALIST \n\n\nASSISTANCE CONNECTING TO SOCIAL SECURITYHOT MEAL SERVED \n\n\nFISHERS OF MEN FOR VETERANS \nPOST #86 & FAMILY \nFOR MORE INFORMATION:MARTY JARVEY 928-369-8455FISHERSFORVETERANS@GMAIL.COM \nTHANK YOU FOR SERVING OUR COUNTRY & PROTECTING OUR FREEDOM
URL:https://azveterans.com/event/veterans-outreach-overgaard/2026-07-16/
LOCATION:American Legion Post #86\, 2068 LUMBER VALLEY RD\, Overgaard\, 85933\, United States
ORGANIZER;CN="FISHERS OF MEN FOR VETERANS":MAILTO:FISHERSFORVETERANS@GMAIL.COM
END:VEVENT
END:VCALENDAR