BEGIN:VCALENDAR
VERSION:2.0
PRODID:-//AZ Veterans - ECPv6.15.20//NONSGML v1.0//EN
CALSCALE:GREGORIAN
METHOD:PUBLISH
X-WR-CALNAME:AZ Veterans
X-ORIGINAL-URL:https://azveterans.com
X-WR-CALDESC:Events for AZ Veterans
REFRESH-INTERVAL;VALUE=DURATION:PT1H
X-Robots-Tag:noindex
X-PUBLISHED-TTL:PT1H
BEGIN:VTIMEZONE
TZID:America/Phoenix
BEGIN:STANDARD
TZOFFSETFROM:-0700
TZOFFSETTO:-0700
TZNAME:MST
DTSTART:20250101T000000
END:STANDARD
END:VTIMEZONE
BEGIN:VEVENT
DTSTART;TZID=America/Phoenix:20260509T100000
DTEND;TZID=America/Phoenix:20260509T140000
DTSTAMP:20260420T021318
CREATED:20260420T031629Z
LAST-MODIFIED:20260420T031718Z
UID:10003418-1778320800-1778335200@azveterans.com
SUMMARY:DROP ZONE 2026
DESCRIPTION:We’re excited to announce that Congressman Andy Biggs (AZ-05) will host DROP ZONE 2026\, the East Valley’s one-stop veteran resource fair\, on Saturday\, May 9\, 2026\, from 10:00 a.m. – 2:00 p.m. The event will be held at the American Leadership Academy Applied Technologies Campus located at 7729 E. Pecos Rd. Mesa\, AZ 85212.
URL:https://azveterans.com/event/drop-zone-2026/
LOCATION:American Leadership Academy Applied Technologies Campus\, 7729 East Pecos Road\, Mesa\, AZ\, 85212\, United States
END:VEVENT
END:VCALENDAR