BEGIN:VCALENDAR
VERSION:2.0
PRODID:-//AZ Veterans - ECPv6.15.20//NONSGML v1.0//EN
CALSCALE:GREGORIAN
METHOD:PUBLISH
X-ORIGINAL-URL:https://azveterans.com
X-WR-CALDESC:Events for AZ Veterans
REFRESH-INTERVAL;VALUE=DURATION:PT1H
X-Robots-Tag:noindex
X-PUBLISHED-TTL:PT1H
BEGIN:VTIMEZONE
TZID:America/Phoenix
BEGIN:STANDARD
TZOFFSETFROM:-0700
TZOFFSETTO:-0700
TZNAME:MST
DTSTART:20250101T000000
END:STANDARD
END:VTIMEZONE
BEGIN:VEVENT
DTSTART;TZID=America/Phoenix:20260312T080000
DTEND;TZID=America/Phoenix:20260313T150000
DTSTAMP:20260419T053836
CREATED:20260311T193025Z
LAST-MODIFIED:20260311T193025Z
UID:10003288-1773302400-1773414000@azveterans.com
SUMMARY:Maricopa County Veteran StandDown
DESCRIPTION:Come for a powerful two-day StandDown dedicated to supporting Veterans experiencing homelessness\, housing instability\, or those seeking employment\, healthcare\, and benefits assistance. This event brings together service providers and community partners who are committed to helping Veterans move forward with strength and stability. \nStandDown creates a unique opportunity for Veterans to connect face-to-face with organizations\, peers\, and leaders who are invested in their success. With a wide range of resources available in one place\, the event removes barriers and makes it easier for Veterans to access the support they deserve. \nVeterans are encouraged to attend\, reconnect with fellow Veterans\, and explore valuable resources including: \nEmployment opportunitiesHealthcare and mental wellness servicesHousing supportLegal assistancePet servicesVeteran benefits and much more
URL:https://azveterans.com/event/maricopa-county-veteran-standdown/
LOCATION:Arizona State Fairgrounds\, 1826 W McDowell Rd\, Phoenix\, 85007\, United States
END:VEVENT
END:VCALENDAR