BEGIN:VCALENDAR
VERSION:2.0
PRODID:-//AZ Veterans - ECPv6.15.20//NONSGML v1.0//EN
CALSCALE:GREGORIAN
METHOD:PUBLISH
X-WR-CALNAME:AZ Veterans
X-ORIGINAL-URL:https://azveterans.com
X-WR-CALDESC:Events for AZ Veterans
REFRESH-INTERVAL;VALUE=DURATION:PT1H
X-Robots-Tag:noindex
X-PUBLISHED-TTL:PT1H
BEGIN:VTIMEZONE
TZID:America/Phoenix
BEGIN:STANDARD
TZOFFSETFROM:-0700
TZOFFSETTO:-0700
TZNAME:MST
DTSTART:20250101T000000
END:STANDARD
END:VTIMEZONE
BEGIN:VEVENT
DTSTART;TZID=America/Phoenix:20260420T163000
DTEND;TZID=America/Phoenix:20260420T173000
DTSTAMP:20260419T122937
CREATED:20250716T175143Z
LAST-MODIFIED:20250716T175143Z
UID:10002063-1776702600-1776706200@azveterans.com
SUMMARY:NO-GI JIU-JITSU FOR BEGINNERS
DESCRIPTION:No-Gi Jiu-Jitsu an active grappling martial art and sport focusing on ground fighting. This is a great form of physical exercise\, mental toughness\, self-defense\, and community. We’re all beginners here\, and ALL abilities are welcome. Classes are every Monday. Cost: Free for Vets WHO ARE MEMBERS OF ABILITY360/ $3 per session for Vet Family Member. VETERAN MEMBERSHIP IS JUST $25 PER YEAR FOR ALL FITNESS CENTER USAGE\, VET EVENTS\, AND OUTDOOR CLASSES \nLocation – UPSTAIRS FITNESS STUDIO
URL:https://azveterans.com/event/no-gi-jiu-jitsu-for-beginners/2026-04-20/
LOCATION:Ability360 Sports & Fitness Center\, 5031 E Washington St\, Phoenix\, AZ\, 85034\, United States
ORGANIZER;CN="ABILITY360":MAILTO:marykayj@ability360.org
END:VEVENT
BEGIN:VEVENT
DTSTART;TZID=America/Phoenix:20260427T163000
DTEND;TZID=America/Phoenix:20260427T173000
DTSTAMP:20260419T122937
CREATED:20250716T175143Z
LAST-MODIFIED:20250716T175143Z
UID:10002064-1777307400-1777311000@azveterans.com
SUMMARY:NO-GI JIU-JITSU FOR BEGINNERS
DESCRIPTION:No-Gi Jiu-Jitsu an active grappling martial art and sport focusing on ground fighting. This is a great form of physical exercise\, mental toughness\, self-defense\, and community. We’re all beginners here\, and ALL abilities are welcome. Classes are every Monday. Cost: Free for Vets WHO ARE MEMBERS OF ABILITY360/ $3 per session for Vet Family Member. VETERAN MEMBERSHIP IS JUST $25 PER YEAR FOR ALL FITNESS CENTER USAGE\, VET EVENTS\, AND OUTDOOR CLASSES \nLocation – UPSTAIRS FITNESS STUDIO
URL:https://azveterans.com/event/no-gi-jiu-jitsu-for-beginners/2026-04-27/
LOCATION:Ability360 Sports & Fitness Center\, 5031 E Washington St\, Phoenix\, AZ\, 85034\, United States
ORGANIZER;CN="ABILITY360":MAILTO:marykayj@ability360.org
END:VEVENT
BEGIN:VEVENT
DTSTART;TZID=America/Phoenix:20260428T170000
DTEND;TZID=America/Phoenix:20260428T190000
DTSTAMP:20260419T122937
CREATED:20250716T051832Z
LAST-MODIFIED:20250716T051933Z
UID:10001524-1777395600-1777402800@azveterans.com
SUMMARY:MUSIC BY THE POOL
DESCRIPTION:Music by the pool nights are here! As the weather warms up\, we invite our military vets and their families to come out once a month for a couple hours of local musicians\, dancing\, pool games\, and of course… the snack bar!
URL:https://azveterans.com/event/music-by-the-pool/2026-04-28/
LOCATION:Ability360 Sports & Fitness Center\, 5031 E Washington St\, Phoenix\, AZ\, 85034\, United States
ORGANIZER;CN="ABILITY360":MAILTO:marykayj@ability360.org
END:VEVENT
BEGIN:VEVENT
DTSTART;TZID=America/Phoenix:20260504T163000
DTEND;TZID=America/Phoenix:20260504T173000
DTSTAMP:20260419T122937
CREATED:20250716T175143Z
LAST-MODIFIED:20250716T175143Z
UID:10002065-1777912200-1777915800@azveterans.com
SUMMARY:NO-GI JIU-JITSU FOR BEGINNERS
DESCRIPTION:No-Gi Jiu-Jitsu an active grappling martial art and sport focusing on ground fighting. This is a great form of physical exercise\, mental toughness\, self-defense\, and community. We’re all beginners here\, and ALL abilities are welcome. Classes are every Monday. Cost: Free for Vets WHO ARE MEMBERS OF ABILITY360/ $3 per session for Vet Family Member. VETERAN MEMBERSHIP IS JUST $25 PER YEAR FOR ALL FITNESS CENTER USAGE\, VET EVENTS\, AND OUTDOOR CLASSES \nLocation – UPSTAIRS FITNESS STUDIO
URL:https://azveterans.com/event/no-gi-jiu-jitsu-for-beginners/2026-05-04/
LOCATION:Ability360 Sports & Fitness Center\, 5031 E Washington St\, Phoenix\, AZ\, 85034\, United States
ORGANIZER;CN="ABILITY360":MAILTO:marykayj@ability360.org
END:VEVENT
BEGIN:VEVENT
DTSTART;TZID=America/Phoenix:20260511T163000
DTEND;TZID=America/Phoenix:20260511T173000
DTSTAMP:20260419T122937
CREATED:20250716T175143Z
LAST-MODIFIED:20250716T175143Z
UID:10002066-1778517000-1778520600@azveterans.com
SUMMARY:NO-GI JIU-JITSU FOR BEGINNERS
DESCRIPTION:No-Gi Jiu-Jitsu an active grappling martial art and sport focusing on ground fighting. This is a great form of physical exercise\, mental toughness\, self-defense\, and community. We’re all beginners here\, and ALL abilities are welcome. Classes are every Monday. Cost: Free for Vets WHO ARE MEMBERS OF ABILITY360/ $3 per session for Vet Family Member. VETERAN MEMBERSHIP IS JUST $25 PER YEAR FOR ALL FITNESS CENTER USAGE\, VET EVENTS\, AND OUTDOOR CLASSES \nLocation – UPSTAIRS FITNESS STUDIO
URL:https://azveterans.com/event/no-gi-jiu-jitsu-for-beginners/2026-05-11/
LOCATION:Ability360 Sports & Fitness Center\, 5031 E Washington St\, Phoenix\, AZ\, 85034\, United States
ORGANIZER;CN="ABILITY360":MAILTO:marykayj@ability360.org
END:VEVENT
BEGIN:VEVENT
DTSTART;TZID=America/Phoenix:20260518T163000
DTEND;TZID=America/Phoenix:20260518T173000
DTSTAMP:20260419T122937
CREATED:20250716T175143Z
LAST-MODIFIED:20250716T175143Z
UID:10002067-1779121800-1779125400@azveterans.com
SUMMARY:NO-GI JIU-JITSU FOR BEGINNERS
DESCRIPTION:No-Gi Jiu-Jitsu an active grappling martial art and sport focusing on ground fighting. This is a great form of physical exercise\, mental toughness\, self-defense\, and community. We’re all beginners here\, and ALL abilities are welcome. Classes are every Monday. Cost: Free for Vets WHO ARE MEMBERS OF ABILITY360/ $3 per session for Vet Family Member. VETERAN MEMBERSHIP IS JUST $25 PER YEAR FOR ALL FITNESS CENTER USAGE\, VET EVENTS\, AND OUTDOOR CLASSES \nLocation – UPSTAIRS FITNESS STUDIO
URL:https://azveterans.com/event/no-gi-jiu-jitsu-for-beginners/2026-05-18/
LOCATION:Ability360 Sports & Fitness Center\, 5031 E Washington St\, Phoenix\, AZ\, 85034\, United States
ORGANIZER;CN="ABILITY360":MAILTO:marykayj@ability360.org
END:VEVENT
BEGIN:VEVENT
DTSTART;TZID=America/Phoenix:20260525T163000
DTEND;TZID=America/Phoenix:20260525T173000
DTSTAMP:20260419T122937
CREATED:20250716T175143Z
LAST-MODIFIED:20250716T175143Z
UID:10002068-1779726600-1779730200@azveterans.com
SUMMARY:NO-GI JIU-JITSU FOR BEGINNERS
DESCRIPTION:No-Gi Jiu-Jitsu an active grappling martial art and sport focusing on ground fighting. This is a great form of physical exercise\, mental toughness\, self-defense\, and community. We’re all beginners here\, and ALL abilities are welcome. Classes are every Monday. Cost: Free for Vets WHO ARE MEMBERS OF ABILITY360/ $3 per session for Vet Family Member. VETERAN MEMBERSHIP IS JUST $25 PER YEAR FOR ALL FITNESS CENTER USAGE\, VET EVENTS\, AND OUTDOOR CLASSES \nLocation – UPSTAIRS FITNESS STUDIO
URL:https://azveterans.com/event/no-gi-jiu-jitsu-for-beginners/2026-05-25/
LOCATION:Ability360 Sports & Fitness Center\, 5031 E Washington St\, Phoenix\, AZ\, 85034\, United States
ORGANIZER;CN="ABILITY360":MAILTO:marykayj@ability360.org
END:VEVENT
BEGIN:VEVENT
DTSTART;TZID=America/Phoenix:20260526T170000
DTEND;TZID=America/Phoenix:20260526T190000
DTSTAMP:20260419T122937
CREATED:20250716T051832Z
LAST-MODIFIED:20250716T051933Z
UID:10001525-1779814800-1779822000@azveterans.com
SUMMARY:MUSIC BY THE POOL
DESCRIPTION:Music by the pool nights are here! As the weather warms up\, we invite our military vets and their families to come out once a month for a couple hours of local musicians\, dancing\, pool games\, and of course… the snack bar!
URL:https://azveterans.com/event/music-by-the-pool/2026-05-26/
LOCATION:Ability360 Sports & Fitness Center\, 5031 E Washington St\, Phoenix\, AZ\, 85034\, United States
ORGANIZER;CN="ABILITY360":MAILTO:marykayj@ability360.org
END:VEVENT
BEGIN:VEVENT
DTSTART;TZID=America/Phoenix:20260601T163000
DTEND;TZID=America/Phoenix:20260601T173000
DTSTAMP:20260419T122937
CREATED:20250716T175143Z
LAST-MODIFIED:20250716T175143Z
UID:10002069-1780331400-1780335000@azveterans.com
SUMMARY:NO-GI JIU-JITSU FOR BEGINNERS
DESCRIPTION:No-Gi Jiu-Jitsu an active grappling martial art and sport focusing on ground fighting. This is a great form of physical exercise\, mental toughness\, self-defense\, and community. We’re all beginners here\, and ALL abilities are welcome. Classes are every Monday. Cost: Free for Vets WHO ARE MEMBERS OF ABILITY360/ $3 per session for Vet Family Member. VETERAN MEMBERSHIP IS JUST $25 PER YEAR FOR ALL FITNESS CENTER USAGE\, VET EVENTS\, AND OUTDOOR CLASSES \nLocation – UPSTAIRS FITNESS STUDIO
URL:https://azveterans.com/event/no-gi-jiu-jitsu-for-beginners/2026-06-01/
LOCATION:Ability360 Sports & Fitness Center\, 5031 E Washington St\, Phoenix\, AZ\, 85034\, United States
ORGANIZER;CN="ABILITY360":MAILTO:marykayj@ability360.org
END:VEVENT
BEGIN:VEVENT
DTSTART;TZID=America/Phoenix:20260608T163000
DTEND;TZID=America/Phoenix:20260608T173000
DTSTAMP:20260419T122937
CREATED:20250716T175143Z
LAST-MODIFIED:20250716T175143Z
UID:10002070-1780936200-1780939800@azveterans.com
SUMMARY:NO-GI JIU-JITSU FOR BEGINNERS
DESCRIPTION:No-Gi Jiu-Jitsu an active grappling martial art and sport focusing on ground fighting. This is a great form of physical exercise\, mental toughness\, self-defense\, and community. We’re all beginners here\, and ALL abilities are welcome. Classes are every Monday. Cost: Free for Vets WHO ARE MEMBERS OF ABILITY360/ $3 per session for Vet Family Member. VETERAN MEMBERSHIP IS JUST $25 PER YEAR FOR ALL FITNESS CENTER USAGE\, VET EVENTS\, AND OUTDOOR CLASSES \nLocation – UPSTAIRS FITNESS STUDIO
URL:https://azveterans.com/event/no-gi-jiu-jitsu-for-beginners/2026-06-08/
LOCATION:Ability360 Sports & Fitness Center\, 5031 E Washington St\, Phoenix\, AZ\, 85034\, United States
ORGANIZER;CN="ABILITY360":MAILTO:marykayj@ability360.org
END:VEVENT
BEGIN:VEVENT
DTSTART;TZID=America/Phoenix:20260615T163000
DTEND;TZID=America/Phoenix:20260615T173000
DTSTAMP:20260419T122937
CREATED:20250716T175143Z
LAST-MODIFIED:20250716T175143Z
UID:10002071-1781541000-1781544600@azveterans.com
SUMMARY:NO-GI JIU-JITSU FOR BEGINNERS
DESCRIPTION:No-Gi Jiu-Jitsu an active grappling martial art and sport focusing on ground fighting. This is a great form of physical exercise\, mental toughness\, self-defense\, and community. We’re all beginners here\, and ALL abilities are welcome. Classes are every Monday. Cost: Free for Vets WHO ARE MEMBERS OF ABILITY360/ $3 per session for Vet Family Member. VETERAN MEMBERSHIP IS JUST $25 PER YEAR FOR ALL FITNESS CENTER USAGE\, VET EVENTS\, AND OUTDOOR CLASSES \nLocation – UPSTAIRS FITNESS STUDIO
URL:https://azveterans.com/event/no-gi-jiu-jitsu-for-beginners/2026-06-15/
LOCATION:Ability360 Sports & Fitness Center\, 5031 E Washington St\, Phoenix\, AZ\, 85034\, United States
ORGANIZER;CN="ABILITY360":MAILTO:marykayj@ability360.org
END:VEVENT
BEGIN:VEVENT
DTSTART;TZID=America/Phoenix:20260622T163000
DTEND;TZID=America/Phoenix:20260622T173000
DTSTAMP:20260419T122937
CREATED:20250716T175143Z
LAST-MODIFIED:20250716T175143Z
UID:10002072-1782145800-1782149400@azveterans.com
SUMMARY:NO-GI JIU-JITSU FOR BEGINNERS
DESCRIPTION:No-Gi Jiu-Jitsu an active grappling martial art and sport focusing on ground fighting. This is a great form of physical exercise\, mental toughness\, self-defense\, and community. We’re all beginners here\, and ALL abilities are welcome. Classes are every Monday. Cost: Free for Vets WHO ARE MEMBERS OF ABILITY360/ $3 per session for Vet Family Member. VETERAN MEMBERSHIP IS JUST $25 PER YEAR FOR ALL FITNESS CENTER USAGE\, VET EVENTS\, AND OUTDOOR CLASSES \nLocation – UPSTAIRS FITNESS STUDIO
URL:https://azveterans.com/event/no-gi-jiu-jitsu-for-beginners/2026-06-22/
LOCATION:Ability360 Sports & Fitness Center\, 5031 E Washington St\, Phoenix\, AZ\, 85034\, United States
ORGANIZER;CN="ABILITY360":MAILTO:marykayj@ability360.org
END:VEVENT
BEGIN:VEVENT
DTSTART;TZID=America/Phoenix:20260629T163000
DTEND;TZID=America/Phoenix:20260629T173000
DTSTAMP:20260419T122937
CREATED:20250716T175143Z
LAST-MODIFIED:20250716T175143Z
UID:10002073-1782750600-1782754200@azveterans.com
SUMMARY:NO-GI JIU-JITSU FOR BEGINNERS
DESCRIPTION:No-Gi Jiu-Jitsu an active grappling martial art and sport focusing on ground fighting. This is a great form of physical exercise\, mental toughness\, self-defense\, and community. We’re all beginners here\, and ALL abilities are welcome. Classes are every Monday. Cost: Free for Vets WHO ARE MEMBERS OF ABILITY360/ $3 per session for Vet Family Member. VETERAN MEMBERSHIP IS JUST $25 PER YEAR FOR ALL FITNESS CENTER USAGE\, VET EVENTS\, AND OUTDOOR CLASSES \nLocation – UPSTAIRS FITNESS STUDIO
URL:https://azveterans.com/event/no-gi-jiu-jitsu-for-beginners/2026-06-29/
LOCATION:Ability360 Sports & Fitness Center\, 5031 E Washington St\, Phoenix\, AZ\, 85034\, United States
ORGANIZER;CN="ABILITY360":MAILTO:marykayj@ability360.org
END:VEVENT
BEGIN:VEVENT
DTSTART;TZID=America/Phoenix:20260630T170000
DTEND;TZID=America/Phoenix:20260630T190000
DTSTAMP:20260419T122937
CREATED:20250716T051832Z
LAST-MODIFIED:20250716T051933Z
UID:10001526-1782838800-1782846000@azveterans.com
SUMMARY:MUSIC BY THE POOL
DESCRIPTION:Music by the pool nights are here! As the weather warms up\, we invite our military vets and their families to come out once a month for a couple hours of local musicians\, dancing\, pool games\, and of course… the snack bar!
URL:https://azveterans.com/event/music-by-the-pool/2026-06-30/
LOCATION:Ability360 Sports & Fitness Center\, 5031 E Washington St\, Phoenix\, AZ\, 85034\, United States
ORGANIZER;CN="ABILITY360":MAILTO:marykayj@ability360.org
END:VEVENT
BEGIN:VEVENT
DTSTART;TZID=America/Phoenix:20260706T163000
DTEND;TZID=America/Phoenix:20260706T173000
DTSTAMP:20260419T122937
CREATED:20250716T175143Z
LAST-MODIFIED:20250716T175143Z
UID:10002074-1783355400-1783359000@azveterans.com
SUMMARY:NO-GI JIU-JITSU FOR BEGINNERS
DESCRIPTION:No-Gi Jiu-Jitsu an active grappling martial art and sport focusing on ground fighting. This is a great form of physical exercise\, mental toughness\, self-defense\, and community. We’re all beginners here\, and ALL abilities are welcome. Classes are every Monday. Cost: Free for Vets WHO ARE MEMBERS OF ABILITY360/ $3 per session for Vet Family Member. VETERAN MEMBERSHIP IS JUST $25 PER YEAR FOR ALL FITNESS CENTER USAGE\, VET EVENTS\, AND OUTDOOR CLASSES \nLocation – UPSTAIRS FITNESS STUDIO
URL:https://azveterans.com/event/no-gi-jiu-jitsu-for-beginners/2026-07-06/
LOCATION:Ability360 Sports & Fitness Center\, 5031 E Washington St\, Phoenix\, AZ\, 85034\, United States
ORGANIZER;CN="ABILITY360":MAILTO:marykayj@ability360.org
END:VEVENT
BEGIN:VEVENT
DTSTART;TZID=America/Phoenix:20260713T163000
DTEND;TZID=America/Phoenix:20260713T173000
DTSTAMP:20260419T122937
CREATED:20250716T175143Z
LAST-MODIFIED:20250716T175143Z
UID:10002075-1783960200-1783963800@azveterans.com
SUMMARY:NO-GI JIU-JITSU FOR BEGINNERS
DESCRIPTION:No-Gi Jiu-Jitsu an active grappling martial art and sport focusing on ground fighting. This is a great form of physical exercise\, mental toughness\, self-defense\, and community. We’re all beginners here\, and ALL abilities are welcome. Classes are every Monday. Cost: Free for Vets WHO ARE MEMBERS OF ABILITY360/ $3 per session for Vet Family Member. VETERAN MEMBERSHIP IS JUST $25 PER YEAR FOR ALL FITNESS CENTER USAGE\, VET EVENTS\, AND OUTDOOR CLASSES \nLocation – UPSTAIRS FITNESS STUDIO
URL:https://azveterans.com/event/no-gi-jiu-jitsu-for-beginners/2026-07-13/
LOCATION:Ability360 Sports & Fitness Center\, 5031 E Washington St\, Phoenix\, AZ\, 85034\, United States
ORGANIZER;CN="ABILITY360":MAILTO:marykayj@ability360.org
END:VEVENT
BEGIN:VEVENT
DTSTART;TZID=America/Phoenix:20260720T163000
DTEND;TZID=America/Phoenix:20260720T173000
DTSTAMP:20260419T122937
CREATED:20250716T175143Z
LAST-MODIFIED:20250716T175143Z
UID:10002076-1784565000-1784568600@azveterans.com
SUMMARY:NO-GI JIU-JITSU FOR BEGINNERS
DESCRIPTION:No-Gi Jiu-Jitsu an active grappling martial art and sport focusing on ground fighting. This is a great form of physical exercise\, mental toughness\, self-defense\, and community. We’re all beginners here\, and ALL abilities are welcome. Classes are every Monday. Cost: Free for Vets WHO ARE MEMBERS OF ABILITY360/ $3 per session for Vet Family Member. VETERAN MEMBERSHIP IS JUST $25 PER YEAR FOR ALL FITNESS CENTER USAGE\, VET EVENTS\, AND OUTDOOR CLASSES \nLocation – UPSTAIRS FITNESS STUDIO
URL:https://azveterans.com/event/no-gi-jiu-jitsu-for-beginners/2026-07-20/
LOCATION:Ability360 Sports & Fitness Center\, 5031 E Washington St\, Phoenix\, AZ\, 85034\, United States
ORGANIZER;CN="ABILITY360":MAILTO:marykayj@ability360.org
END:VEVENT
BEGIN:VEVENT
DTSTART;TZID=America/Phoenix:20260727T163000
DTEND;TZID=America/Phoenix:20260727T173000
DTSTAMP:20260419T122937
CREATED:20250716T175143Z
LAST-MODIFIED:20250716T175143Z
UID:10002077-1785169800-1785173400@azveterans.com
SUMMARY:NO-GI JIU-JITSU FOR BEGINNERS
DESCRIPTION:No-Gi Jiu-Jitsu an active grappling martial art and sport focusing on ground fighting. This is a great form of physical exercise\, mental toughness\, self-defense\, and community. We’re all beginners here\, and ALL abilities are welcome. Classes are every Monday. Cost: Free for Vets WHO ARE MEMBERS OF ABILITY360/ $3 per session for Vet Family Member. VETERAN MEMBERSHIP IS JUST $25 PER YEAR FOR ALL FITNESS CENTER USAGE\, VET EVENTS\, AND OUTDOOR CLASSES \nLocation – UPSTAIRS FITNESS STUDIO
URL:https://azveterans.com/event/no-gi-jiu-jitsu-for-beginners/2026-07-27/
LOCATION:Ability360 Sports & Fitness Center\, 5031 E Washington St\, Phoenix\, AZ\, 85034\, United States
ORGANIZER;CN="ABILITY360":MAILTO:marykayj@ability360.org
END:VEVENT
BEGIN:VEVENT
DTSTART;TZID=America/Phoenix:20260728T170000
DTEND;TZID=America/Phoenix:20260728T190000
DTSTAMP:20260419T122937
CREATED:20250716T051832Z
LAST-MODIFIED:20250716T051933Z
UID:10001527-1785258000-1785265200@azveterans.com
SUMMARY:MUSIC BY THE POOL
DESCRIPTION:Music by the pool nights are here! As the weather warms up\, we invite our military vets and their families to come out once a month for a couple hours of local musicians\, dancing\, pool games\, and of course… the snack bar!
URL:https://azveterans.com/event/music-by-the-pool/2026-07-28/
LOCATION:Ability360 Sports & Fitness Center\, 5031 E Washington St\, Phoenix\, AZ\, 85034\, United States
ORGANIZER;CN="ABILITY360":MAILTO:marykayj@ability360.org
END:VEVENT
BEGIN:VEVENT
DTSTART;TZID=America/Phoenix:20260803T163000
DTEND;TZID=America/Phoenix:20260803T173000
DTSTAMP:20260419T122937
CREATED:20250716T175143Z
LAST-MODIFIED:20250716T175143Z
UID:10002078-1785774600-1785778200@azveterans.com
SUMMARY:NO-GI JIU-JITSU FOR BEGINNERS
DESCRIPTION:No-Gi Jiu-Jitsu an active grappling martial art and sport focusing on ground fighting. This is a great form of physical exercise\, mental toughness\, self-defense\, and community. We’re all beginners here\, and ALL abilities are welcome. Classes are every Monday. Cost: Free for Vets WHO ARE MEMBERS OF ABILITY360/ $3 per session for Vet Family Member. VETERAN MEMBERSHIP IS JUST $25 PER YEAR FOR ALL FITNESS CENTER USAGE\, VET EVENTS\, AND OUTDOOR CLASSES \nLocation – UPSTAIRS FITNESS STUDIO
URL:https://azveterans.com/event/no-gi-jiu-jitsu-for-beginners/2026-08-03/
LOCATION:Ability360 Sports & Fitness Center\, 5031 E Washington St\, Phoenix\, AZ\, 85034\, United States
ORGANIZER;CN="ABILITY360":MAILTO:marykayj@ability360.org
END:VEVENT
BEGIN:VEVENT
DTSTART;TZID=America/Phoenix:20260810T163000
DTEND;TZID=America/Phoenix:20260810T173000
DTSTAMP:20260419T122937
CREATED:20250716T175143Z
LAST-MODIFIED:20250716T175143Z
UID:10002079-1786379400-1786383000@azveterans.com
SUMMARY:NO-GI JIU-JITSU FOR BEGINNERS
DESCRIPTION:No-Gi Jiu-Jitsu an active grappling martial art and sport focusing on ground fighting. This is a great form of physical exercise\, mental toughness\, self-defense\, and community. We’re all beginners here\, and ALL abilities are welcome. Classes are every Monday. Cost: Free for Vets WHO ARE MEMBERS OF ABILITY360/ $3 per session for Vet Family Member. VETERAN MEMBERSHIP IS JUST $25 PER YEAR FOR ALL FITNESS CENTER USAGE\, VET EVENTS\, AND OUTDOOR CLASSES \nLocation – UPSTAIRS FITNESS STUDIO
URL:https://azveterans.com/event/no-gi-jiu-jitsu-for-beginners/2026-08-10/
LOCATION:Ability360 Sports & Fitness Center\, 5031 E Washington St\, Phoenix\, AZ\, 85034\, United States
ORGANIZER;CN="ABILITY360":MAILTO:marykayj@ability360.org
END:VEVENT
BEGIN:VEVENT
DTSTART;TZID=America/Phoenix:20260817T163000
DTEND;TZID=America/Phoenix:20260817T173000
DTSTAMP:20260419T122937
CREATED:20250716T175143Z
LAST-MODIFIED:20250716T175143Z
UID:10002080-1786984200-1786987800@azveterans.com
SUMMARY:NO-GI JIU-JITSU FOR BEGINNERS
DESCRIPTION:No-Gi Jiu-Jitsu an active grappling martial art and sport focusing on ground fighting. This is a great form of physical exercise\, mental toughness\, self-defense\, and community. We’re all beginners here\, and ALL abilities are welcome. Classes are every Monday. Cost: Free for Vets WHO ARE MEMBERS OF ABILITY360/ $3 per session for Vet Family Member. VETERAN MEMBERSHIP IS JUST $25 PER YEAR FOR ALL FITNESS CENTER USAGE\, VET EVENTS\, AND OUTDOOR CLASSES \nLocation – UPSTAIRS FITNESS STUDIO
URL:https://azveterans.com/event/no-gi-jiu-jitsu-for-beginners/2026-08-17/
LOCATION:Ability360 Sports & Fitness Center\, 5031 E Washington St\, Phoenix\, AZ\, 85034\, United States
ORGANIZER;CN="ABILITY360":MAILTO:marykayj@ability360.org
END:VEVENT
BEGIN:VEVENT
DTSTART;TZID=America/Phoenix:20260824T163000
DTEND;TZID=America/Phoenix:20260824T173000
DTSTAMP:20260419T122937
CREATED:20250716T175143Z
LAST-MODIFIED:20250716T175143Z
UID:10002081-1787589000-1787592600@azveterans.com
SUMMARY:NO-GI JIU-JITSU FOR BEGINNERS
DESCRIPTION:No-Gi Jiu-Jitsu an active grappling martial art and sport focusing on ground fighting. This is a great form of physical exercise\, mental toughness\, self-defense\, and community. We’re all beginners here\, and ALL abilities are welcome. Classes are every Monday. Cost: Free for Vets WHO ARE MEMBERS OF ABILITY360/ $3 per session for Vet Family Member. VETERAN MEMBERSHIP IS JUST $25 PER YEAR FOR ALL FITNESS CENTER USAGE\, VET EVENTS\, AND OUTDOOR CLASSES \nLocation – UPSTAIRS FITNESS STUDIO
URL:https://azveterans.com/event/no-gi-jiu-jitsu-for-beginners/2026-08-24/
LOCATION:Ability360 Sports & Fitness Center\, 5031 E Washington St\, Phoenix\, AZ\, 85034\, United States
ORGANIZER;CN="ABILITY360":MAILTO:marykayj@ability360.org
END:VEVENT
BEGIN:VEVENT
DTSTART;TZID=America/Phoenix:20260825T170000
DTEND;TZID=America/Phoenix:20260825T190000
DTSTAMP:20260419T122937
CREATED:20250716T051832Z
LAST-MODIFIED:20250716T051933Z
UID:10001528-1787677200-1787684400@azveterans.com
SUMMARY:MUSIC BY THE POOL
DESCRIPTION:Music by the pool nights are here! As the weather warms up\, we invite our military vets and their families to come out once a month for a couple hours of local musicians\, dancing\, pool games\, and of course… the snack bar!
URL:https://azveterans.com/event/music-by-the-pool/2026-08-25/
LOCATION:Ability360 Sports & Fitness Center\, 5031 E Washington St\, Phoenix\, AZ\, 85034\, United States
ORGANIZER;CN="ABILITY360":MAILTO:marykayj@ability360.org
END:VEVENT
BEGIN:VEVENT
DTSTART;TZID=America/Phoenix:20260831T163000
DTEND;TZID=America/Phoenix:20260831T173000
DTSTAMP:20260419T122937
CREATED:20250716T175143Z
LAST-MODIFIED:20250716T175143Z
UID:10002082-1788193800-1788197400@azveterans.com
SUMMARY:NO-GI JIU-JITSU FOR BEGINNERS
DESCRIPTION:No-Gi Jiu-Jitsu an active grappling martial art and sport focusing on ground fighting. This is a great form of physical exercise\, mental toughness\, self-defense\, and community. We’re all beginners here\, and ALL abilities are welcome. Classes are every Monday. Cost: Free for Vets WHO ARE MEMBERS OF ABILITY360/ $3 per session for Vet Family Member. VETERAN MEMBERSHIP IS JUST $25 PER YEAR FOR ALL FITNESS CENTER USAGE\, VET EVENTS\, AND OUTDOOR CLASSES \nLocation – UPSTAIRS FITNESS STUDIO
URL:https://azveterans.com/event/no-gi-jiu-jitsu-for-beginners/2026-08-31/
LOCATION:Ability360 Sports & Fitness Center\, 5031 E Washington St\, Phoenix\, AZ\, 85034\, United States
ORGANIZER;CN="ABILITY360":MAILTO:marykayj@ability360.org
END:VEVENT
BEGIN:VEVENT
DTSTART;TZID=America/Phoenix:20260907T163000
DTEND;TZID=America/Phoenix:20260907T173000
DTSTAMP:20260419T122937
CREATED:20250716T175143Z
LAST-MODIFIED:20250716T175143Z
UID:10002083-1788798600-1788802200@azveterans.com
SUMMARY:NO-GI JIU-JITSU FOR BEGINNERS
DESCRIPTION:No-Gi Jiu-Jitsu an active grappling martial art and sport focusing on ground fighting. This is a great form of physical exercise\, mental toughness\, self-defense\, and community. We’re all beginners here\, and ALL abilities are welcome. Classes are every Monday. Cost: Free for Vets WHO ARE MEMBERS OF ABILITY360/ $3 per session for Vet Family Member. VETERAN MEMBERSHIP IS JUST $25 PER YEAR FOR ALL FITNESS CENTER USAGE\, VET EVENTS\, AND OUTDOOR CLASSES \nLocation – UPSTAIRS FITNESS STUDIO
URL:https://azveterans.com/event/no-gi-jiu-jitsu-for-beginners/2026-09-07/
LOCATION:Ability360 Sports & Fitness Center\, 5031 E Washington St\, Phoenix\, AZ\, 85034\, United States
ORGANIZER;CN="ABILITY360":MAILTO:marykayj@ability360.org
END:VEVENT
BEGIN:VEVENT
DTSTART;TZID=America/Phoenix:20260914T163000
DTEND;TZID=America/Phoenix:20260914T173000
DTSTAMP:20260419T122937
CREATED:20250716T175143Z
LAST-MODIFIED:20250716T175143Z
UID:10002084-1789403400-1789407000@azveterans.com
SUMMARY:NO-GI JIU-JITSU FOR BEGINNERS
DESCRIPTION:No-Gi Jiu-Jitsu an active grappling martial art and sport focusing on ground fighting. This is a great form of physical exercise\, mental toughness\, self-defense\, and community. We’re all beginners here\, and ALL abilities are welcome. Classes are every Monday. Cost: Free for Vets WHO ARE MEMBERS OF ABILITY360/ $3 per session for Vet Family Member. VETERAN MEMBERSHIP IS JUST $25 PER YEAR FOR ALL FITNESS CENTER USAGE\, VET EVENTS\, AND OUTDOOR CLASSES \nLocation – UPSTAIRS FITNESS STUDIO
URL:https://azveterans.com/event/no-gi-jiu-jitsu-for-beginners/2026-09-14/
LOCATION:Ability360 Sports & Fitness Center\, 5031 E Washington St\, Phoenix\, AZ\, 85034\, United States
ORGANIZER;CN="ABILITY360":MAILTO:marykayj@ability360.org
END:VEVENT
BEGIN:VEVENT
DTSTART;TZID=America/Phoenix:20260921T163000
DTEND;TZID=America/Phoenix:20260921T173000
DTSTAMP:20260419T122937
CREATED:20250716T175143Z
LAST-MODIFIED:20250716T175143Z
UID:10002085-1790008200-1790011800@azveterans.com
SUMMARY:NO-GI JIU-JITSU FOR BEGINNERS
DESCRIPTION:No-Gi Jiu-Jitsu an active grappling martial art and sport focusing on ground fighting. This is a great form of physical exercise\, mental toughness\, self-defense\, and community. We’re all beginners here\, and ALL abilities are welcome. Classes are every Monday. Cost: Free for Vets WHO ARE MEMBERS OF ABILITY360/ $3 per session for Vet Family Member. VETERAN MEMBERSHIP IS JUST $25 PER YEAR FOR ALL FITNESS CENTER USAGE\, VET EVENTS\, AND OUTDOOR CLASSES \nLocation – UPSTAIRS FITNESS STUDIO
URL:https://azveterans.com/event/no-gi-jiu-jitsu-for-beginners/2026-09-21/
LOCATION:Ability360 Sports & Fitness Center\, 5031 E Washington St\, Phoenix\, AZ\, 85034\, United States
ORGANIZER;CN="ABILITY360":MAILTO:marykayj@ability360.org
END:VEVENT
BEGIN:VEVENT
DTSTART;TZID=America/Phoenix:20260928T163000
DTEND;TZID=America/Phoenix:20260928T173000
DTSTAMP:20260419T122937
CREATED:20250716T175143Z
LAST-MODIFIED:20250716T175143Z
UID:10002086-1790613000-1790616600@azveterans.com
SUMMARY:NO-GI JIU-JITSU FOR BEGINNERS
DESCRIPTION:No-Gi Jiu-Jitsu an active grappling martial art and sport focusing on ground fighting. This is a great form of physical exercise\, mental toughness\, self-defense\, and community. We’re all beginners here\, and ALL abilities are welcome. Classes are every Monday. Cost: Free for Vets WHO ARE MEMBERS OF ABILITY360/ $3 per session for Vet Family Member. VETERAN MEMBERSHIP IS JUST $25 PER YEAR FOR ALL FITNESS CENTER USAGE\, VET EVENTS\, AND OUTDOOR CLASSES \nLocation – UPSTAIRS FITNESS STUDIO
URL:https://azveterans.com/event/no-gi-jiu-jitsu-for-beginners/2026-09-28/
LOCATION:Ability360 Sports & Fitness Center\, 5031 E Washington St\, Phoenix\, AZ\, 85034\, United States
ORGANIZER;CN="ABILITY360":MAILTO:marykayj@ability360.org
END:VEVENT
BEGIN:VEVENT
DTSTART;TZID=America/Phoenix:20260929T170000
DTEND;TZID=America/Phoenix:20260929T190000
DTSTAMP:20260419T122937
CREATED:20250716T051832Z
LAST-MODIFIED:20250716T051933Z
UID:10001529-1790701200-1790708400@azveterans.com
SUMMARY:MUSIC BY THE POOL
DESCRIPTION:Music by the pool nights are here! As the weather warms up\, we invite our military vets and their families to come out once a month for a couple hours of local musicians\, dancing\, pool games\, and of course… the snack bar!
URL:https://azveterans.com/event/music-by-the-pool/2026-09-29/
LOCATION:Ability360 Sports & Fitness Center\, 5031 E Washington St\, Phoenix\, AZ\, 85034\, United States
ORGANIZER;CN="ABILITY360":MAILTO:marykayj@ability360.org
END:VEVENT
END:VCALENDAR