BEGIN:VCALENDAR
VERSION:2.0
PRODID:-//AZ Veterans - ECPv6.15.20//NONSGML v1.0//EN
CALSCALE:GREGORIAN
METHOD:PUBLISH
X-WR-CALNAME:AZ Veterans
X-ORIGINAL-URL:https://azveterans.com
X-WR-CALDESC:Events for AZ Veterans
REFRESH-INTERVAL;VALUE=DURATION:PT1H
X-Robots-Tag:noindex
X-PUBLISHED-TTL:PT1H
BEGIN:VTIMEZONE
TZID:America/Phoenix
BEGIN:STANDARD
TZOFFSETFROM:-0700
TZOFFSETTO:-0700
TZNAME:MST
DTSTART:20280101T000000
END:STANDARD
END:VTIMEZONE
BEGIN:VEVENT
DTSTART;TZID=America/Phoenix:20290117T070000
DTEND;TZID=America/Phoenix:20290117T090000
DTSTAMP:20260423T153724
CREATED:20251126T000421Z
LAST-MODIFIED:20260112T034052Z
UID:10002893-1863327600-1863334800@azveterans.com
SUMMARY:NEW!!! – VET-TOGETHERS
DESCRIPTION:NEW!!! – VET-TOGETHERSOpen to ALL Veterans in the Ahwatukee Community\n\nJoin us for these informal\, no-host gatherings designed for camaraderie\, connection\, and networking with fellow Veterans right here in our community. \n1st & 4th Wednesdays – Happy Hour Meetups1530–1900 hrs (3:30 PM – 7:00 PM) \n2nd & 3rd Wednesdays – Morning Coffee Connections0700 hrs (7:00 AM) \nCome for the conversation\, stay for the connection. No agenda — just Veterans supporting Veterans. \nSpread the word and bring a buddy!
URL:https://azveterans.com/event/new-vet-togethers-4/2029-01-17/
LOCATION:THE BUZZED GOAT\, 4302 E RAY RD STE 106\, Phoenix\, 85044\, United States
END:VEVENT
BEGIN:VEVENT
DTSTART;TZID=America/Phoenix:20290207T153000
DTEND;TZID=America/Phoenix:20290207T190000
DTSTAMP:20260423T153724
CREATED:20251126T000219Z
LAST-MODIFIED:20251126T000219Z
UID:10002582-1865172600-1865185200@azveterans.com
SUMMARY:NEW!!! – VET-TOGETHERS
DESCRIPTION:NEW!!! – VET-TOGETHERSOpen to ALL Veterans in the Ahwatukee Community \nJoin us for these informal\, no-host gatherings designed for camaraderie\, connection\, and networking with fellow Veterans right here in our community. \n1st & 4th Wednesdays – Happy Hour Meetups1530–1900 hrs (3:30 PM – 7:00 PM) \n2nd & 3rd Wednesdays – Morning Coffee Connections0700 hrs (7:00 AM) \nCome for the conversation\, stay for the connection. No agenda — just Veterans supporting Veterans. \nSpread the word and bring a buddy!
URL:https://azveterans.com/event/new-vet-togethers/2029-02-07/
LOCATION:THE BUZZED GOAT\, 4302 E RAY RD STE 106\, Phoenix\, 85044\, United States
END:VEVENT
BEGIN:VEVENT
DTSTART;TZID=America/Phoenix:20290214T070000
DTEND;TZID=America/Phoenix:20290214T210000
DTSTAMP:20260423T153724
CREATED:20251126T000353Z
LAST-MODIFIED:20251126T000353Z
UID:10002790-1865746800-1865797200@azveterans.com
SUMMARY:NEW!!! – VET-TOGETHERS
DESCRIPTION:NEW!!! – VET-TOGETHERSOpen to ALL Veterans in the Ahwatukee Community \nJoin us for these informal\, no-host gatherings designed for camaraderie\, connection\, and networking with fellow Veterans right here in our community. \n1st & 4th Wednesdays – Happy Hour Meetups1530–1900 hrs (3:30 PM – 7:00 PM) \n2nd & 3rd Wednesdays – Morning Coffee Connections0700 hrs (7:00 AM) \nCome for the conversation\, stay for the connection. No agenda — just Veterans supporting Veterans. \nSpread the word and bring a buddy!
URL:https://azveterans.com/event/new-vet-togethers-3/2029-02-14/
LOCATION:THE BUZZED GOAT\, 4302 E RAY RD STE 106\, Phoenix\, 85044\, United States
END:VEVENT
BEGIN:VEVENT
DTSTART;TZID=America/Phoenix:20290221T070000
DTEND;TZID=America/Phoenix:20290221T090000
DTSTAMP:20260423T153724
CREATED:20251126T000421Z
LAST-MODIFIED:20260112T034052Z
UID:10002894-1866351600-1866358800@azveterans.com
SUMMARY:NEW!!! – VET-TOGETHERS
DESCRIPTION:NEW!!! – VET-TOGETHERSOpen to ALL Veterans in the Ahwatukee Community\n\nJoin us for these informal\, no-host gatherings designed for camaraderie\, connection\, and networking with fellow Veterans right here in our community. \n1st & 4th Wednesdays – Happy Hour Meetups1530–1900 hrs (3:30 PM – 7:00 PM) \n2nd & 3rd Wednesdays – Morning Coffee Connections0700 hrs (7:00 AM) \nCome for the conversation\, stay for the connection. No agenda — just Veterans supporting Veterans. \nSpread the word and bring a buddy!
URL:https://azveterans.com/event/new-vet-togethers-4/2029-02-21/
LOCATION:THE BUZZED GOAT\, 4302 E RAY RD STE 106\, Phoenix\, 85044\, United States
END:VEVENT
BEGIN:VEVENT
DTSTART;TZID=America/Phoenix:20290307T153000
DTEND;TZID=America/Phoenix:20290307T190000
DTSTAMP:20260423T153724
CREATED:20251126T000219Z
LAST-MODIFIED:20251126T000219Z
UID:10002583-1867591800-1867604400@azveterans.com
SUMMARY:NEW!!! – VET-TOGETHERS
DESCRIPTION:NEW!!! – VET-TOGETHERSOpen to ALL Veterans in the Ahwatukee Community \nJoin us for these informal\, no-host gatherings designed for camaraderie\, connection\, and networking with fellow Veterans right here in our community. \n1st & 4th Wednesdays – Happy Hour Meetups1530–1900 hrs (3:30 PM – 7:00 PM) \n2nd & 3rd Wednesdays – Morning Coffee Connections0700 hrs (7:00 AM) \nCome for the conversation\, stay for the connection. No agenda — just Veterans supporting Veterans. \nSpread the word and bring a buddy!
URL:https://azveterans.com/event/new-vet-togethers/2029-03-07/
LOCATION:THE BUZZED GOAT\, 4302 E RAY RD STE 106\, Phoenix\, 85044\, United States
END:VEVENT
BEGIN:VEVENT
DTSTART;TZID=America/Phoenix:20290314T070000
DTEND;TZID=America/Phoenix:20290314T210000
DTSTAMP:20260423T153724
CREATED:20251126T000353Z
LAST-MODIFIED:20251126T000353Z
UID:10002791-1868166000-1868216400@azveterans.com
SUMMARY:NEW!!! – VET-TOGETHERS
DESCRIPTION:NEW!!! – VET-TOGETHERSOpen to ALL Veterans in the Ahwatukee Community \nJoin us for these informal\, no-host gatherings designed for camaraderie\, connection\, and networking with fellow Veterans right here in our community. \n1st & 4th Wednesdays – Happy Hour Meetups1530–1900 hrs (3:30 PM – 7:00 PM) \n2nd & 3rd Wednesdays – Morning Coffee Connections0700 hrs (7:00 AM) \nCome for the conversation\, stay for the connection. No agenda — just Veterans supporting Veterans. \nSpread the word and bring a buddy!
URL:https://azveterans.com/event/new-vet-togethers-3/2029-03-14/
LOCATION:THE BUZZED GOAT\, 4302 E RAY RD STE 106\, Phoenix\, 85044\, United States
END:VEVENT
BEGIN:VEVENT
DTSTART;TZID=America/Phoenix:20290321T070000
DTEND;TZID=America/Phoenix:20290321T090000
DTSTAMP:20260423T153724
CREATED:20251126T000421Z
LAST-MODIFIED:20260112T034052Z
UID:10002895-1868770800-1868778000@azveterans.com
SUMMARY:NEW!!! – VET-TOGETHERS
DESCRIPTION:NEW!!! – VET-TOGETHERSOpen to ALL Veterans in the Ahwatukee Community\n\nJoin us for these informal\, no-host gatherings designed for camaraderie\, connection\, and networking with fellow Veterans right here in our community. \n1st & 4th Wednesdays – Happy Hour Meetups1530–1900 hrs (3:30 PM – 7:00 PM) \n2nd & 3rd Wednesdays – Morning Coffee Connections0700 hrs (7:00 AM) \nCome for the conversation\, stay for the connection. No agenda — just Veterans supporting Veterans. \nSpread the word and bring a buddy!
URL:https://azveterans.com/event/new-vet-togethers-4/2029-03-21/
LOCATION:THE BUZZED GOAT\, 4302 E RAY RD STE 106\, Phoenix\, 85044\, United States
END:VEVENT
BEGIN:VEVENT
DTSTART;TZID=America/Phoenix:20290404T153000
DTEND;TZID=America/Phoenix:20290404T190000
DTSTAMP:20260423T153724
CREATED:20251126T000219Z
LAST-MODIFIED:20251126T000219Z
UID:10002584-1870011000-1870023600@azveterans.com
SUMMARY:NEW!!! – VET-TOGETHERS
DESCRIPTION:NEW!!! – VET-TOGETHERSOpen to ALL Veterans in the Ahwatukee Community \nJoin us for these informal\, no-host gatherings designed for camaraderie\, connection\, and networking with fellow Veterans right here in our community. \n1st & 4th Wednesdays – Happy Hour Meetups1530–1900 hrs (3:30 PM – 7:00 PM) \n2nd & 3rd Wednesdays – Morning Coffee Connections0700 hrs (7:00 AM) \nCome for the conversation\, stay for the connection. No agenda — just Veterans supporting Veterans. \nSpread the word and bring a buddy!
URL:https://azveterans.com/event/new-vet-togethers/2029-04-04/
LOCATION:THE BUZZED GOAT\, 4302 E RAY RD STE 106\, Phoenix\, 85044\, United States
END:VEVENT
BEGIN:VEVENT
DTSTART;TZID=America/Phoenix:20290411T070000
DTEND;TZID=America/Phoenix:20290411T210000
DTSTAMP:20260423T153724
CREATED:20251126T000353Z
LAST-MODIFIED:20251126T000353Z
UID:10002792-1870585200-1870635600@azveterans.com
SUMMARY:NEW!!! – VET-TOGETHERS
DESCRIPTION:NEW!!! – VET-TOGETHERSOpen to ALL Veterans in the Ahwatukee Community \nJoin us for these informal\, no-host gatherings designed for camaraderie\, connection\, and networking with fellow Veterans right here in our community. \n1st & 4th Wednesdays – Happy Hour Meetups1530–1900 hrs (3:30 PM – 7:00 PM) \n2nd & 3rd Wednesdays – Morning Coffee Connections0700 hrs (7:00 AM) \nCome for the conversation\, stay for the connection. No agenda — just Veterans supporting Veterans. \nSpread the word and bring a buddy!
URL:https://azveterans.com/event/new-vet-togethers-3/2029-04-11/
LOCATION:THE BUZZED GOAT\, 4302 E RAY RD STE 106\, Phoenix\, 85044\, United States
END:VEVENT
BEGIN:VEVENT
DTSTART;TZID=America/Phoenix:20290418T070000
DTEND;TZID=America/Phoenix:20290418T090000
DTSTAMP:20260423T153724
CREATED:20251126T000421Z
LAST-MODIFIED:20260112T034052Z
UID:10002896-1871190000-1871197200@azveterans.com
SUMMARY:NEW!!! – VET-TOGETHERS
DESCRIPTION:NEW!!! – VET-TOGETHERSOpen to ALL Veterans in the Ahwatukee Community\n\nJoin us for these informal\, no-host gatherings designed for camaraderie\, connection\, and networking with fellow Veterans right here in our community. \n1st & 4th Wednesdays – Happy Hour Meetups1530–1900 hrs (3:30 PM – 7:00 PM) \n2nd & 3rd Wednesdays – Morning Coffee Connections0700 hrs (7:00 AM) \nCome for the conversation\, stay for the connection. No agenda — just Veterans supporting Veterans. \nSpread the word and bring a buddy!
URL:https://azveterans.com/event/new-vet-togethers-4/2029-04-18/
LOCATION:THE BUZZED GOAT\, 4302 E RAY RD STE 106\, Phoenix\, 85044\, United States
END:VEVENT
BEGIN:VEVENT
DTSTART;TZID=America/Phoenix:20290502T153000
DTEND;TZID=America/Phoenix:20290502T190000
DTSTAMP:20260423T153724
CREATED:20251126T000219Z
LAST-MODIFIED:20251126T000219Z
UID:10002585-1872430200-1872442800@azveterans.com
SUMMARY:NEW!!! – VET-TOGETHERS
DESCRIPTION:NEW!!! – VET-TOGETHERSOpen to ALL Veterans in the Ahwatukee Community \nJoin us for these informal\, no-host gatherings designed for camaraderie\, connection\, and networking with fellow Veterans right here in our community. \n1st & 4th Wednesdays – Happy Hour Meetups1530–1900 hrs (3:30 PM – 7:00 PM) \n2nd & 3rd Wednesdays – Morning Coffee Connections0700 hrs (7:00 AM) \nCome for the conversation\, stay for the connection. No agenda — just Veterans supporting Veterans. \nSpread the word and bring a buddy!
URL:https://azveterans.com/event/new-vet-togethers/2029-05-02/
LOCATION:THE BUZZED GOAT\, 4302 E RAY RD STE 106\, Phoenix\, 85044\, United States
END:VEVENT
BEGIN:VEVENT
DTSTART;TZID=America/Phoenix:20290509T070000
DTEND;TZID=America/Phoenix:20290509T210000
DTSTAMP:20260423T153724
CREATED:20251126T000353Z
LAST-MODIFIED:20251126T000353Z
UID:10002793-1873004400-1873054800@azveterans.com
SUMMARY:NEW!!! – VET-TOGETHERS
DESCRIPTION:NEW!!! – VET-TOGETHERSOpen to ALL Veterans in the Ahwatukee Community \nJoin us for these informal\, no-host gatherings designed for camaraderie\, connection\, and networking with fellow Veterans right here in our community. \n1st & 4th Wednesdays – Happy Hour Meetups1530–1900 hrs (3:30 PM – 7:00 PM) \n2nd & 3rd Wednesdays – Morning Coffee Connections0700 hrs (7:00 AM) \nCome for the conversation\, stay for the connection. No agenda — just Veterans supporting Veterans. \nSpread the word and bring a buddy!
URL:https://azveterans.com/event/new-vet-togethers-3/2029-05-09/
LOCATION:THE BUZZED GOAT\, 4302 E RAY RD STE 106\, Phoenix\, 85044\, United States
END:VEVENT
BEGIN:VEVENT
DTSTART;TZID=America/Phoenix:20290516T070000
DTEND;TZID=America/Phoenix:20290516T090000
DTSTAMP:20260423T153724
CREATED:20251126T000421Z
LAST-MODIFIED:20260112T034052Z
UID:10002897-1873609200-1873616400@azveterans.com
SUMMARY:NEW!!! – VET-TOGETHERS
DESCRIPTION:NEW!!! – VET-TOGETHERSOpen to ALL Veterans in the Ahwatukee Community\n\nJoin us for these informal\, no-host gatherings designed for camaraderie\, connection\, and networking with fellow Veterans right here in our community. \n1st & 4th Wednesdays – Happy Hour Meetups1530–1900 hrs (3:30 PM – 7:00 PM) \n2nd & 3rd Wednesdays – Morning Coffee Connections0700 hrs (7:00 AM) \nCome for the conversation\, stay for the connection. No agenda — just Veterans supporting Veterans. \nSpread the word and bring a buddy!
URL:https://azveterans.com/event/new-vet-togethers-4/2029-05-16/
LOCATION:THE BUZZED GOAT\, 4302 E RAY RD STE 106\, Phoenix\, 85044\, United States
END:VEVENT
BEGIN:VEVENT
DTSTART;TZID=America/Phoenix:20290606T153000
DTEND;TZID=America/Phoenix:20290606T190000
DTSTAMP:20260423T153724
CREATED:20251126T000219Z
LAST-MODIFIED:20251126T000219Z
UID:10002586-1875454200-1875466800@azveterans.com
SUMMARY:NEW!!! – VET-TOGETHERS
DESCRIPTION:NEW!!! – VET-TOGETHERSOpen to ALL Veterans in the Ahwatukee Community \nJoin us for these informal\, no-host gatherings designed for camaraderie\, connection\, and networking with fellow Veterans right here in our community. \n1st & 4th Wednesdays – Happy Hour Meetups1530–1900 hrs (3:30 PM – 7:00 PM) \n2nd & 3rd Wednesdays – Morning Coffee Connections0700 hrs (7:00 AM) \nCome for the conversation\, stay for the connection. No agenda — just Veterans supporting Veterans. \nSpread the word and bring a buddy!
URL:https://azveterans.com/event/new-vet-togethers/2029-06-06/
LOCATION:THE BUZZED GOAT\, 4302 E RAY RD STE 106\, Phoenix\, 85044\, United States
END:VEVENT
BEGIN:VEVENT
DTSTART;TZID=America/Phoenix:20290613T070000
DTEND;TZID=America/Phoenix:20290613T210000
DTSTAMP:20260423T153724
CREATED:20251126T000353Z
LAST-MODIFIED:20251126T000353Z
UID:10002794-1876028400-1876078800@azveterans.com
SUMMARY:NEW!!! – VET-TOGETHERS
DESCRIPTION:NEW!!! – VET-TOGETHERSOpen to ALL Veterans in the Ahwatukee Community \nJoin us for these informal\, no-host gatherings designed for camaraderie\, connection\, and networking with fellow Veterans right here in our community. \n1st & 4th Wednesdays – Happy Hour Meetups1530–1900 hrs (3:30 PM – 7:00 PM) \n2nd & 3rd Wednesdays – Morning Coffee Connections0700 hrs (7:00 AM) \nCome for the conversation\, stay for the connection. No agenda — just Veterans supporting Veterans. \nSpread the word and bring a buddy!
URL:https://azveterans.com/event/new-vet-togethers-3/2029-06-13/
LOCATION:THE BUZZED GOAT\, 4302 E RAY RD STE 106\, Phoenix\, 85044\, United States
END:VEVENT
BEGIN:VEVENT
DTSTART;TZID=America/Phoenix:20290620T070000
DTEND;TZID=America/Phoenix:20290620T090000
DTSTAMP:20260423T153724
CREATED:20251126T000421Z
LAST-MODIFIED:20260112T034052Z
UID:10002898-1876633200-1876640400@azveterans.com
SUMMARY:NEW!!! – VET-TOGETHERS
DESCRIPTION:NEW!!! – VET-TOGETHERSOpen to ALL Veterans in the Ahwatukee Community\n\nJoin us for these informal\, no-host gatherings designed for camaraderie\, connection\, and networking with fellow Veterans right here in our community. \n1st & 4th Wednesdays – Happy Hour Meetups1530–1900 hrs (3:30 PM – 7:00 PM) \n2nd & 3rd Wednesdays – Morning Coffee Connections0700 hrs (7:00 AM) \nCome for the conversation\, stay for the connection. No agenda — just Veterans supporting Veterans. \nSpread the word and bring a buddy!
URL:https://azveterans.com/event/new-vet-togethers-4/2029-06-20/
LOCATION:THE BUZZED GOAT\, 4302 E RAY RD STE 106\, Phoenix\, 85044\, United States
END:VEVENT
BEGIN:VEVENT
DTSTART;TZID=America/Phoenix:20290704T153000
DTEND;TZID=America/Phoenix:20290704T190000
DTSTAMP:20260423T153724
CREATED:20251126T000219Z
LAST-MODIFIED:20251126T000219Z
UID:10002587-1877873400-1877886000@azveterans.com
SUMMARY:NEW!!! – VET-TOGETHERS
DESCRIPTION:NEW!!! – VET-TOGETHERSOpen to ALL Veterans in the Ahwatukee Community \nJoin us for these informal\, no-host gatherings designed for camaraderie\, connection\, and networking with fellow Veterans right here in our community. \n1st & 4th Wednesdays – Happy Hour Meetups1530–1900 hrs (3:30 PM – 7:00 PM) \n2nd & 3rd Wednesdays – Morning Coffee Connections0700 hrs (7:00 AM) \nCome for the conversation\, stay for the connection. No agenda — just Veterans supporting Veterans. \nSpread the word and bring a buddy!
URL:https://azveterans.com/event/new-vet-togethers/2029-07-04/
LOCATION:THE BUZZED GOAT\, 4302 E RAY RD STE 106\, Phoenix\, 85044\, United States
END:VEVENT
BEGIN:VEVENT
DTSTART;TZID=America/Phoenix:20290711T070000
DTEND;TZID=America/Phoenix:20290711T210000
DTSTAMP:20260423T153724
CREATED:20251126T000353Z
LAST-MODIFIED:20251126T000353Z
UID:10002795-1878447600-1878498000@azveterans.com
SUMMARY:NEW!!! – VET-TOGETHERS
DESCRIPTION:NEW!!! – VET-TOGETHERSOpen to ALL Veterans in the Ahwatukee Community \nJoin us for these informal\, no-host gatherings designed for camaraderie\, connection\, and networking with fellow Veterans right here in our community. \n1st & 4th Wednesdays – Happy Hour Meetups1530–1900 hrs (3:30 PM – 7:00 PM) \n2nd & 3rd Wednesdays – Morning Coffee Connections0700 hrs (7:00 AM) \nCome for the conversation\, stay for the connection. No agenda — just Veterans supporting Veterans. \nSpread the word and bring a buddy!
URL:https://azveterans.com/event/new-vet-togethers-3/2029-07-11/
LOCATION:THE BUZZED GOAT\, 4302 E RAY RD STE 106\, Phoenix\, 85044\, United States
END:VEVENT
BEGIN:VEVENT
DTSTART;TZID=America/Phoenix:20290718T070000
DTEND;TZID=America/Phoenix:20290718T090000
DTSTAMP:20260423T153724
CREATED:20251126T000421Z
LAST-MODIFIED:20260112T034052Z
UID:10002899-1879052400-1879059600@azveterans.com
SUMMARY:NEW!!! – VET-TOGETHERS
DESCRIPTION:NEW!!! – VET-TOGETHERSOpen to ALL Veterans in the Ahwatukee Community\n\nJoin us for these informal\, no-host gatherings designed for camaraderie\, connection\, and networking with fellow Veterans right here in our community. \n1st & 4th Wednesdays – Happy Hour Meetups1530–1900 hrs (3:30 PM – 7:00 PM) \n2nd & 3rd Wednesdays – Morning Coffee Connections0700 hrs (7:00 AM) \nCome for the conversation\, stay for the connection. No agenda — just Veterans supporting Veterans. \nSpread the word and bring a buddy!
URL:https://azveterans.com/event/new-vet-togethers-4/2029-07-18/
LOCATION:THE BUZZED GOAT\, 4302 E RAY RD STE 106\, Phoenix\, 85044\, United States
END:VEVENT
BEGIN:VEVENT
DTSTART;TZID=America/Phoenix:20290801T153000
DTEND;TZID=America/Phoenix:20290801T190000
DTSTAMP:20260423T153724
CREATED:20251126T000219Z
LAST-MODIFIED:20251126T000219Z
UID:10002588-1880292600-1880305200@azveterans.com
SUMMARY:NEW!!! – VET-TOGETHERS
DESCRIPTION:NEW!!! – VET-TOGETHERSOpen to ALL Veterans in the Ahwatukee Community \nJoin us for these informal\, no-host gatherings designed for camaraderie\, connection\, and networking with fellow Veterans right here in our community. \n1st & 4th Wednesdays – Happy Hour Meetups1530–1900 hrs (3:30 PM – 7:00 PM) \n2nd & 3rd Wednesdays – Morning Coffee Connections0700 hrs (7:00 AM) \nCome for the conversation\, stay for the connection. No agenda — just Veterans supporting Veterans. \nSpread the word and bring a buddy!
URL:https://azveterans.com/event/new-vet-togethers/2029-08-01/
LOCATION:THE BUZZED GOAT\, 4302 E RAY RD STE 106\, Phoenix\, 85044\, United States
END:VEVENT
BEGIN:VEVENT
DTSTART;TZID=America/Phoenix:20290808T070000
DTEND;TZID=America/Phoenix:20290808T210000
DTSTAMP:20260423T153724
CREATED:20251126T000353Z
LAST-MODIFIED:20251126T000353Z
UID:10002796-1880866800-1880917200@azveterans.com
SUMMARY:NEW!!! – VET-TOGETHERS
DESCRIPTION:NEW!!! – VET-TOGETHERSOpen to ALL Veterans in the Ahwatukee Community \nJoin us for these informal\, no-host gatherings designed for camaraderie\, connection\, and networking with fellow Veterans right here in our community. \n1st & 4th Wednesdays – Happy Hour Meetups1530–1900 hrs (3:30 PM – 7:00 PM) \n2nd & 3rd Wednesdays – Morning Coffee Connections0700 hrs (7:00 AM) \nCome for the conversation\, stay for the connection. No agenda — just Veterans supporting Veterans. \nSpread the word and bring a buddy!
URL:https://azveterans.com/event/new-vet-togethers-3/2029-08-08/
LOCATION:THE BUZZED GOAT\, 4302 E RAY RD STE 106\, Phoenix\, 85044\, United States
END:VEVENT
BEGIN:VEVENT
DTSTART;TZID=America/Phoenix:20290815T070000
DTEND;TZID=America/Phoenix:20290815T090000
DTSTAMP:20260423T153724
CREATED:20251126T000421Z
LAST-MODIFIED:20260112T034052Z
UID:10002900-1881471600-1881478800@azveterans.com
SUMMARY:NEW!!! – VET-TOGETHERS
DESCRIPTION:NEW!!! – VET-TOGETHERSOpen to ALL Veterans in the Ahwatukee Community\n\nJoin us for these informal\, no-host gatherings designed for camaraderie\, connection\, and networking with fellow Veterans right here in our community. \n1st & 4th Wednesdays – Happy Hour Meetups1530–1900 hrs (3:30 PM – 7:00 PM) \n2nd & 3rd Wednesdays – Morning Coffee Connections0700 hrs (7:00 AM) \nCome for the conversation\, stay for the connection. No agenda — just Veterans supporting Veterans. \nSpread the word and bring a buddy!
URL:https://azveterans.com/event/new-vet-togethers-4/2029-08-15/
LOCATION:THE BUZZED GOAT\, 4302 E RAY RD STE 106\, Phoenix\, 85044\, United States
END:VEVENT
BEGIN:VEVENT
DTSTART;TZID=America/Phoenix:20290905T153000
DTEND;TZID=America/Phoenix:20290905T190000
DTSTAMP:20260423T153724
CREATED:20251126T000219Z
LAST-MODIFIED:20251126T000219Z
UID:10002589-1883316600-1883329200@azveterans.com
SUMMARY:NEW!!! – VET-TOGETHERS
DESCRIPTION:NEW!!! – VET-TOGETHERSOpen to ALL Veterans in the Ahwatukee Community \nJoin us for these informal\, no-host gatherings designed for camaraderie\, connection\, and networking with fellow Veterans right here in our community. \n1st & 4th Wednesdays – Happy Hour Meetups1530–1900 hrs (3:30 PM – 7:00 PM) \n2nd & 3rd Wednesdays – Morning Coffee Connections0700 hrs (7:00 AM) \nCome for the conversation\, stay for the connection. No agenda — just Veterans supporting Veterans. \nSpread the word and bring a buddy!
URL:https://azveterans.com/event/new-vet-togethers/2029-09-05/
LOCATION:THE BUZZED GOAT\, 4302 E RAY RD STE 106\, Phoenix\, 85044\, United States
END:VEVENT
BEGIN:VEVENT
DTSTART;TZID=America/Phoenix:20290912T070000
DTEND;TZID=America/Phoenix:20290912T210000
DTSTAMP:20260423T153724
CREATED:20251126T000353Z
LAST-MODIFIED:20251126T000353Z
UID:10002797-1883890800-1883941200@azveterans.com
SUMMARY:NEW!!! – VET-TOGETHERS
DESCRIPTION:NEW!!! – VET-TOGETHERSOpen to ALL Veterans in the Ahwatukee Community \nJoin us for these informal\, no-host gatherings designed for camaraderie\, connection\, and networking with fellow Veterans right here in our community. \n1st & 4th Wednesdays – Happy Hour Meetups1530–1900 hrs (3:30 PM – 7:00 PM) \n2nd & 3rd Wednesdays – Morning Coffee Connections0700 hrs (7:00 AM) \nCome for the conversation\, stay for the connection. No agenda — just Veterans supporting Veterans. \nSpread the word and bring a buddy!
URL:https://azveterans.com/event/new-vet-togethers-3/2029-09-12/
LOCATION:THE BUZZED GOAT\, 4302 E RAY RD STE 106\, Phoenix\, 85044\, United States
END:VEVENT
BEGIN:VEVENT
DTSTART;TZID=America/Phoenix:20290919T070000
DTEND;TZID=America/Phoenix:20290919T090000
DTSTAMP:20260423T153724
CREATED:20251126T000421Z
LAST-MODIFIED:20260112T034052Z
UID:10002901-1884495600-1884502800@azveterans.com
SUMMARY:NEW!!! – VET-TOGETHERS
DESCRIPTION:NEW!!! – VET-TOGETHERSOpen to ALL Veterans in the Ahwatukee Community\n\nJoin us for these informal\, no-host gatherings designed for camaraderie\, connection\, and networking with fellow Veterans right here in our community. \n1st & 4th Wednesdays – Happy Hour Meetups1530–1900 hrs (3:30 PM – 7:00 PM) \n2nd & 3rd Wednesdays – Morning Coffee Connections0700 hrs (7:00 AM) \nCome for the conversation\, stay for the connection. No agenda — just Veterans supporting Veterans. \nSpread the word and bring a buddy!
URL:https://azveterans.com/event/new-vet-togethers-4/2029-09-19/
LOCATION:THE BUZZED GOAT\, 4302 E RAY RD STE 106\, Phoenix\, 85044\, United States
END:VEVENT
BEGIN:VEVENT
DTSTART;TZID=America/Phoenix:20291003T153000
DTEND;TZID=America/Phoenix:20291003T190000
DTSTAMP:20260423T153724
CREATED:20251126T000219Z
LAST-MODIFIED:20251126T000219Z
UID:10002590-1885735800-1885748400@azveterans.com
SUMMARY:NEW!!! – VET-TOGETHERS
DESCRIPTION:NEW!!! – VET-TOGETHERSOpen to ALL Veterans in the Ahwatukee Community \nJoin us for these informal\, no-host gatherings designed for camaraderie\, connection\, and networking with fellow Veterans right here in our community. \n1st & 4th Wednesdays – Happy Hour Meetups1530–1900 hrs (3:30 PM – 7:00 PM) \n2nd & 3rd Wednesdays – Morning Coffee Connections0700 hrs (7:00 AM) \nCome for the conversation\, stay for the connection. No agenda — just Veterans supporting Veterans. \nSpread the word and bring a buddy!
URL:https://azveterans.com/event/new-vet-togethers/2029-10-03/
LOCATION:THE BUZZED GOAT\, 4302 E RAY RD STE 106\, Phoenix\, 85044\, United States
END:VEVENT
BEGIN:VEVENT
DTSTART;TZID=America/Phoenix:20291010T070000
DTEND;TZID=America/Phoenix:20291010T210000
DTSTAMP:20260423T153724
CREATED:20251126T000353Z
LAST-MODIFIED:20251126T000353Z
UID:10002798-1886310000-1886360400@azveterans.com
SUMMARY:NEW!!! – VET-TOGETHERS
DESCRIPTION:NEW!!! – VET-TOGETHERSOpen to ALL Veterans in the Ahwatukee Community \nJoin us for these informal\, no-host gatherings designed for camaraderie\, connection\, and networking with fellow Veterans right here in our community. \n1st & 4th Wednesdays – Happy Hour Meetups1530–1900 hrs (3:30 PM – 7:00 PM) \n2nd & 3rd Wednesdays – Morning Coffee Connections0700 hrs (7:00 AM) \nCome for the conversation\, stay for the connection. No agenda — just Veterans supporting Veterans. \nSpread the word and bring a buddy!
URL:https://azveterans.com/event/new-vet-togethers-3/2029-10-10/
LOCATION:THE BUZZED GOAT\, 4302 E RAY RD STE 106\, Phoenix\, 85044\, United States
END:VEVENT
BEGIN:VEVENT
DTSTART;TZID=America/Phoenix:20291017T070000
DTEND;TZID=America/Phoenix:20291017T090000
DTSTAMP:20260423T153724
CREATED:20251126T000421Z
LAST-MODIFIED:20260112T034052Z
UID:10002902-1886914800-1886922000@azveterans.com
SUMMARY:NEW!!! – VET-TOGETHERS
DESCRIPTION:NEW!!! – VET-TOGETHERSOpen to ALL Veterans in the Ahwatukee Community\n\nJoin us for these informal\, no-host gatherings designed for camaraderie\, connection\, and networking with fellow Veterans right here in our community. \n1st & 4th Wednesdays – Happy Hour Meetups1530–1900 hrs (3:30 PM – 7:00 PM) \n2nd & 3rd Wednesdays – Morning Coffee Connections0700 hrs (7:00 AM) \nCome for the conversation\, stay for the connection. No agenda — just Veterans supporting Veterans. \nSpread the word and bring a buddy!
URL:https://azveterans.com/event/new-vet-togethers-4/2029-10-17/
LOCATION:THE BUZZED GOAT\, 4302 E RAY RD STE 106\, Phoenix\, 85044\, United States
END:VEVENT
BEGIN:VEVENT
DTSTART;TZID=America/Phoenix:20291107T153000
DTEND;TZID=America/Phoenix:20291107T190000
DTSTAMP:20260423T153724
CREATED:20251126T000219Z
LAST-MODIFIED:20251126T000219Z
UID:10002591-1888759800-1888772400@azveterans.com
SUMMARY:NEW!!! – VET-TOGETHERS
DESCRIPTION:NEW!!! – VET-TOGETHERSOpen to ALL Veterans in the Ahwatukee Community \nJoin us for these informal\, no-host gatherings designed for camaraderie\, connection\, and networking with fellow Veterans right here in our community. \n1st & 4th Wednesdays – Happy Hour Meetups1530–1900 hrs (3:30 PM – 7:00 PM) \n2nd & 3rd Wednesdays – Morning Coffee Connections0700 hrs (7:00 AM) \nCome for the conversation\, stay for the connection. No agenda — just Veterans supporting Veterans. \nSpread the word and bring a buddy!
URL:https://azveterans.com/event/new-vet-togethers/2029-11-07/
LOCATION:THE BUZZED GOAT\, 4302 E RAY RD STE 106\, Phoenix\, 85044\, United States
END:VEVENT
BEGIN:VEVENT
DTSTART;TZID=America/Phoenix:20291114T070000
DTEND;TZID=America/Phoenix:20291114T210000
DTSTAMP:20260423T153724
CREATED:20251126T000353Z
LAST-MODIFIED:20251126T000353Z
UID:10002799-1889334000-1889384400@azveterans.com
SUMMARY:NEW!!! – VET-TOGETHERS
DESCRIPTION:NEW!!! – VET-TOGETHERSOpen to ALL Veterans in the Ahwatukee Community \nJoin us for these informal\, no-host gatherings designed for camaraderie\, connection\, and networking with fellow Veterans right here in our community. \n1st & 4th Wednesdays – Happy Hour Meetups1530–1900 hrs (3:30 PM – 7:00 PM) \n2nd & 3rd Wednesdays – Morning Coffee Connections0700 hrs (7:00 AM) \nCome for the conversation\, stay for the connection. No agenda — just Veterans supporting Veterans. \nSpread the word and bring a buddy!
URL:https://azveterans.com/event/new-vet-togethers-3/2029-11-14/
LOCATION:THE BUZZED GOAT\, 4302 E RAY RD STE 106\, Phoenix\, 85044\, United States
END:VEVENT
END:VCALENDAR