BEGIN:VCALENDAR
VERSION:2.0
PRODID:-//AZ Veterans - ECPv6.15.20//NONSGML v1.0//EN
CALSCALE:GREGORIAN
METHOD:PUBLISH
X-WR-CALNAME:AZ Veterans
X-ORIGINAL-URL:https://azveterans.com
X-WR-CALDESC:Events for AZ Veterans
REFRESH-INTERVAL;VALUE=DURATION:PT1H
X-Robots-Tag:noindex
X-PUBLISHED-TTL:PT1H
BEGIN:VTIMEZONE
TZID:America/Phoenix
BEGIN:STANDARD
TZOFFSETFROM:-0700
TZOFFSETTO:-0700
TZNAME:MST
DTSTART:20270101T000000
END:STANDARD
END:VTIMEZONE
BEGIN:VEVENT
DTSTART;TZID=America/Phoenix:20280705T153000
DTEND;TZID=America/Phoenix:20280705T190000
DTSTAMP:20260423T141221
CREATED:20251126T000219Z
LAST-MODIFIED:20251126T000219Z
UID:10002575-1846423800-1846436400@azveterans.com
SUMMARY:NEW!!! – VET-TOGETHERS
DESCRIPTION:NEW!!! – VET-TOGETHERSOpen to ALL Veterans in the Ahwatukee Community \nJoin us for these informal\, no-host gatherings designed for camaraderie\, connection\, and networking with fellow Veterans right here in our community. \n1st & 4th Wednesdays – Happy Hour Meetups1530–1900 hrs (3:30 PM – 7:00 PM) \n2nd & 3rd Wednesdays – Morning Coffee Connections0700 hrs (7:00 AM) \nCome for the conversation\, stay for the connection. No agenda — just Veterans supporting Veterans. \nSpread the word and bring a buddy!
URL:https://azveterans.com/event/new-vet-togethers/2028-07-05/
LOCATION:THE BUZZED GOAT\, 4302 E RAY RD STE 106\, Phoenix\, 85044\, United States
END:VEVENT
BEGIN:VEVENT
DTSTART;TZID=America/Phoenix:20280712T070000
DTEND;TZID=America/Phoenix:20280712T210000
DTSTAMP:20260423T141221
CREATED:20251126T000353Z
LAST-MODIFIED:20251126T000353Z
UID:10002783-1846998000-1847048400@azveterans.com
SUMMARY:NEW!!! – VET-TOGETHERS
DESCRIPTION:NEW!!! – VET-TOGETHERSOpen to ALL Veterans in the Ahwatukee Community \nJoin us for these informal\, no-host gatherings designed for camaraderie\, connection\, and networking with fellow Veterans right here in our community. \n1st & 4th Wednesdays – Happy Hour Meetups1530–1900 hrs (3:30 PM – 7:00 PM) \n2nd & 3rd Wednesdays – Morning Coffee Connections0700 hrs (7:00 AM) \nCome for the conversation\, stay for the connection. No agenda — just Veterans supporting Veterans. \nSpread the word and bring a buddy!
URL:https://azveterans.com/event/new-vet-togethers-3/2028-07-12/
LOCATION:THE BUZZED GOAT\, 4302 E RAY RD STE 106\, Phoenix\, 85044\, United States
END:VEVENT
BEGIN:VEVENT
DTSTART;TZID=America/Phoenix:20280719T070000
DTEND;TZID=America/Phoenix:20280719T090000
DTSTAMP:20260423T141221
CREATED:20251126T000421Z
LAST-MODIFIED:20260112T034052Z
UID:10002887-1847602800-1847610000@azveterans.com
SUMMARY:NEW!!! – VET-TOGETHERS
DESCRIPTION:NEW!!! – VET-TOGETHERSOpen to ALL Veterans in the Ahwatukee Community\n\nJoin us for these informal\, no-host gatherings designed for camaraderie\, connection\, and networking with fellow Veterans right here in our community. \n1st & 4th Wednesdays – Happy Hour Meetups1530–1900 hrs (3:30 PM – 7:00 PM) \n2nd & 3rd Wednesdays – Morning Coffee Connections0700 hrs (7:00 AM) \nCome for the conversation\, stay for the connection. No agenda — just Veterans supporting Veterans. \nSpread the word and bring a buddy!
URL:https://azveterans.com/event/new-vet-togethers-4/2028-07-19/
LOCATION:THE BUZZED GOAT\, 4302 E RAY RD STE 106\, Phoenix\, 85044\, United States
END:VEVENT
BEGIN:VEVENT
DTSTART;TZID=America/Phoenix:20280802T153000
DTEND;TZID=America/Phoenix:20280802T190000
DTSTAMP:20260423T141221
CREATED:20251126T000219Z
LAST-MODIFIED:20251126T000219Z
UID:10002576-1848843000-1848855600@azveterans.com
SUMMARY:NEW!!! – VET-TOGETHERS
DESCRIPTION:NEW!!! – VET-TOGETHERSOpen to ALL Veterans in the Ahwatukee Community \nJoin us for these informal\, no-host gatherings designed for camaraderie\, connection\, and networking with fellow Veterans right here in our community. \n1st & 4th Wednesdays – Happy Hour Meetups1530–1900 hrs (3:30 PM – 7:00 PM) \n2nd & 3rd Wednesdays – Morning Coffee Connections0700 hrs (7:00 AM) \nCome for the conversation\, stay for the connection. No agenda — just Veterans supporting Veterans. \nSpread the word and bring a buddy!
URL:https://azveterans.com/event/new-vet-togethers/2028-08-02/
LOCATION:THE BUZZED GOAT\, 4302 E RAY RD STE 106\, Phoenix\, 85044\, United States
END:VEVENT
BEGIN:VEVENT
DTSTART;TZID=America/Phoenix:20280809T070000
DTEND;TZID=America/Phoenix:20280809T210000
DTSTAMP:20260423T141221
CREATED:20251126T000353Z
LAST-MODIFIED:20251126T000353Z
UID:10002784-1849417200-1849467600@azveterans.com
SUMMARY:NEW!!! – VET-TOGETHERS
DESCRIPTION:NEW!!! – VET-TOGETHERSOpen to ALL Veterans in the Ahwatukee Community \nJoin us for these informal\, no-host gatherings designed for camaraderie\, connection\, and networking with fellow Veterans right here in our community. \n1st & 4th Wednesdays – Happy Hour Meetups1530–1900 hrs (3:30 PM – 7:00 PM) \n2nd & 3rd Wednesdays – Morning Coffee Connections0700 hrs (7:00 AM) \nCome for the conversation\, stay for the connection. No agenda — just Veterans supporting Veterans. \nSpread the word and bring a buddy!
URL:https://azveterans.com/event/new-vet-togethers-3/2028-08-09/
LOCATION:THE BUZZED GOAT\, 4302 E RAY RD STE 106\, Phoenix\, 85044\, United States
END:VEVENT
BEGIN:VEVENT
DTSTART;TZID=America/Phoenix:20280816T070000
DTEND;TZID=America/Phoenix:20280816T090000
DTSTAMP:20260423T141221
CREATED:20251126T000421Z
LAST-MODIFIED:20260112T034052Z
UID:10002888-1850022000-1850029200@azveterans.com
SUMMARY:NEW!!! – VET-TOGETHERS
DESCRIPTION:NEW!!! – VET-TOGETHERSOpen to ALL Veterans in the Ahwatukee Community\n\nJoin us for these informal\, no-host gatherings designed for camaraderie\, connection\, and networking with fellow Veterans right here in our community. \n1st & 4th Wednesdays – Happy Hour Meetups1530–1900 hrs (3:30 PM – 7:00 PM) \n2nd & 3rd Wednesdays – Morning Coffee Connections0700 hrs (7:00 AM) \nCome for the conversation\, stay for the connection. No agenda — just Veterans supporting Veterans. \nSpread the word and bring a buddy!
URL:https://azveterans.com/event/new-vet-togethers-4/2028-08-16/
LOCATION:THE BUZZED GOAT\, 4302 E RAY RD STE 106\, Phoenix\, 85044\, United States
END:VEVENT
BEGIN:VEVENT
DTSTART;TZID=America/Phoenix:20280906T153000
DTEND;TZID=America/Phoenix:20280906T190000
DTSTAMP:20260423T141221
CREATED:20251126T000219Z
LAST-MODIFIED:20251126T000219Z
UID:10002577-1851867000-1851879600@azveterans.com
SUMMARY:NEW!!! – VET-TOGETHERS
DESCRIPTION:NEW!!! – VET-TOGETHERSOpen to ALL Veterans in the Ahwatukee Community \nJoin us for these informal\, no-host gatherings designed for camaraderie\, connection\, and networking with fellow Veterans right here in our community. \n1st & 4th Wednesdays – Happy Hour Meetups1530–1900 hrs (3:30 PM – 7:00 PM) \n2nd & 3rd Wednesdays – Morning Coffee Connections0700 hrs (7:00 AM) \nCome for the conversation\, stay for the connection. No agenda — just Veterans supporting Veterans. \nSpread the word and bring a buddy!
URL:https://azveterans.com/event/new-vet-togethers/2028-09-06/
LOCATION:THE BUZZED GOAT\, 4302 E RAY RD STE 106\, Phoenix\, 85044\, United States
END:VEVENT
BEGIN:VEVENT
DTSTART;TZID=America/Phoenix:20280913T070000
DTEND;TZID=America/Phoenix:20280913T210000
DTSTAMP:20260423T141221
CREATED:20251126T000353Z
LAST-MODIFIED:20251126T000353Z
UID:10002785-1852441200-1852491600@azveterans.com
SUMMARY:NEW!!! – VET-TOGETHERS
DESCRIPTION:NEW!!! – VET-TOGETHERSOpen to ALL Veterans in the Ahwatukee Community \nJoin us for these informal\, no-host gatherings designed for camaraderie\, connection\, and networking with fellow Veterans right here in our community. \n1st & 4th Wednesdays – Happy Hour Meetups1530–1900 hrs (3:30 PM – 7:00 PM) \n2nd & 3rd Wednesdays – Morning Coffee Connections0700 hrs (7:00 AM) \nCome for the conversation\, stay for the connection. No agenda — just Veterans supporting Veterans. \nSpread the word and bring a buddy!
URL:https://azveterans.com/event/new-vet-togethers-3/2028-09-13/
LOCATION:THE BUZZED GOAT\, 4302 E RAY RD STE 106\, Phoenix\, 85044\, United States
END:VEVENT
BEGIN:VEVENT
DTSTART;TZID=America/Phoenix:20280920T070000
DTEND;TZID=America/Phoenix:20280920T090000
DTSTAMP:20260423T141221
CREATED:20251126T000421Z
LAST-MODIFIED:20260112T034052Z
UID:10002889-1853046000-1853053200@azveterans.com
SUMMARY:NEW!!! – VET-TOGETHERS
DESCRIPTION:NEW!!! – VET-TOGETHERSOpen to ALL Veterans in the Ahwatukee Community\n\nJoin us for these informal\, no-host gatherings designed for camaraderie\, connection\, and networking with fellow Veterans right here in our community. \n1st & 4th Wednesdays – Happy Hour Meetups1530–1900 hrs (3:30 PM – 7:00 PM) \n2nd & 3rd Wednesdays – Morning Coffee Connections0700 hrs (7:00 AM) \nCome for the conversation\, stay for the connection. No agenda — just Veterans supporting Veterans. \nSpread the word and bring a buddy!
URL:https://azveterans.com/event/new-vet-togethers-4/2028-09-20/
LOCATION:THE BUZZED GOAT\, 4302 E RAY RD STE 106\, Phoenix\, 85044\, United States
END:VEVENT
BEGIN:VEVENT
DTSTART;TZID=America/Phoenix:20281004T153000
DTEND;TZID=America/Phoenix:20281004T190000
DTSTAMP:20260423T141221
CREATED:20251126T000219Z
LAST-MODIFIED:20251126T000219Z
UID:10002578-1854286200-1854298800@azveterans.com
SUMMARY:NEW!!! – VET-TOGETHERS
DESCRIPTION:NEW!!! – VET-TOGETHERSOpen to ALL Veterans in the Ahwatukee Community \nJoin us for these informal\, no-host gatherings designed for camaraderie\, connection\, and networking with fellow Veterans right here in our community. \n1st & 4th Wednesdays – Happy Hour Meetups1530–1900 hrs (3:30 PM – 7:00 PM) \n2nd & 3rd Wednesdays – Morning Coffee Connections0700 hrs (7:00 AM) \nCome for the conversation\, stay for the connection. No agenda — just Veterans supporting Veterans. \nSpread the word and bring a buddy!
URL:https://azveterans.com/event/new-vet-togethers/2028-10-04/
LOCATION:THE BUZZED GOAT\, 4302 E RAY RD STE 106\, Phoenix\, 85044\, United States
END:VEVENT
BEGIN:VEVENT
DTSTART;TZID=America/Phoenix:20281011T070000
DTEND;TZID=America/Phoenix:20281011T210000
DTSTAMP:20260423T141221
CREATED:20251126T000353Z
LAST-MODIFIED:20251126T000353Z
UID:10002786-1854860400-1854910800@azveterans.com
SUMMARY:NEW!!! – VET-TOGETHERS
DESCRIPTION:NEW!!! – VET-TOGETHERSOpen to ALL Veterans in the Ahwatukee Community \nJoin us for these informal\, no-host gatherings designed for camaraderie\, connection\, and networking with fellow Veterans right here in our community. \n1st & 4th Wednesdays – Happy Hour Meetups1530–1900 hrs (3:30 PM – 7:00 PM) \n2nd & 3rd Wednesdays – Morning Coffee Connections0700 hrs (7:00 AM) \nCome for the conversation\, stay for the connection. No agenda — just Veterans supporting Veterans. \nSpread the word and bring a buddy!
URL:https://azveterans.com/event/new-vet-togethers-3/2028-10-11/
LOCATION:THE BUZZED GOAT\, 4302 E RAY RD STE 106\, Phoenix\, 85044\, United States
END:VEVENT
BEGIN:VEVENT
DTSTART;TZID=America/Phoenix:20281018T070000
DTEND;TZID=America/Phoenix:20281018T090000
DTSTAMP:20260423T141221
CREATED:20251126T000421Z
LAST-MODIFIED:20260112T034052Z
UID:10002890-1855465200-1855472400@azveterans.com
SUMMARY:NEW!!! – VET-TOGETHERS
DESCRIPTION:NEW!!! – VET-TOGETHERSOpen to ALL Veterans in the Ahwatukee Community\n\nJoin us for these informal\, no-host gatherings designed for camaraderie\, connection\, and networking with fellow Veterans right here in our community. \n1st & 4th Wednesdays – Happy Hour Meetups1530–1900 hrs (3:30 PM – 7:00 PM) \n2nd & 3rd Wednesdays – Morning Coffee Connections0700 hrs (7:00 AM) \nCome for the conversation\, stay for the connection. No agenda — just Veterans supporting Veterans. \nSpread the word and bring a buddy!
URL:https://azveterans.com/event/new-vet-togethers-4/2028-10-18/
LOCATION:THE BUZZED GOAT\, 4302 E RAY RD STE 106\, Phoenix\, 85044\, United States
END:VEVENT
BEGIN:VEVENT
DTSTART;TZID=America/Phoenix:20281101T153000
DTEND;TZID=America/Phoenix:20281101T190000
DTSTAMP:20260423T141221
CREATED:20251126T000219Z
LAST-MODIFIED:20251126T000219Z
UID:10002579-1856705400-1856718000@azveterans.com
SUMMARY:NEW!!! – VET-TOGETHERS
DESCRIPTION:NEW!!! – VET-TOGETHERSOpen to ALL Veterans in the Ahwatukee Community \nJoin us for these informal\, no-host gatherings designed for camaraderie\, connection\, and networking with fellow Veterans right here in our community. \n1st & 4th Wednesdays – Happy Hour Meetups1530–1900 hrs (3:30 PM – 7:00 PM) \n2nd & 3rd Wednesdays – Morning Coffee Connections0700 hrs (7:00 AM) \nCome for the conversation\, stay for the connection. No agenda — just Veterans supporting Veterans. \nSpread the word and bring a buddy!
URL:https://azveterans.com/event/new-vet-togethers/2028-11-01/
LOCATION:THE BUZZED GOAT\, 4302 E RAY RD STE 106\, Phoenix\, 85044\, United States
END:VEVENT
BEGIN:VEVENT
DTSTART;TZID=America/Phoenix:20281108T070000
DTEND;TZID=America/Phoenix:20281108T210000
DTSTAMP:20260423T141221
CREATED:20251126T000353Z
LAST-MODIFIED:20251126T000353Z
UID:10002787-1857279600-1857330000@azveterans.com
SUMMARY:NEW!!! – VET-TOGETHERS
DESCRIPTION:NEW!!! – VET-TOGETHERSOpen to ALL Veterans in the Ahwatukee Community \nJoin us for these informal\, no-host gatherings designed for camaraderie\, connection\, and networking with fellow Veterans right here in our community. \n1st & 4th Wednesdays – Happy Hour Meetups1530–1900 hrs (3:30 PM – 7:00 PM) \n2nd & 3rd Wednesdays – Morning Coffee Connections0700 hrs (7:00 AM) \nCome for the conversation\, stay for the connection. No agenda — just Veterans supporting Veterans. \nSpread the word and bring a buddy!
URL:https://azveterans.com/event/new-vet-togethers-3/2028-11-08/
LOCATION:THE BUZZED GOAT\, 4302 E RAY RD STE 106\, Phoenix\, 85044\, United States
END:VEVENT
BEGIN:VEVENT
DTSTART;TZID=America/Phoenix:20281115T070000
DTEND;TZID=America/Phoenix:20281115T090000
DTSTAMP:20260423T141221
CREATED:20251126T000421Z
LAST-MODIFIED:20260112T034052Z
UID:10002891-1857884400-1857891600@azveterans.com
SUMMARY:NEW!!! – VET-TOGETHERS
DESCRIPTION:NEW!!! – VET-TOGETHERSOpen to ALL Veterans in the Ahwatukee Community\n\nJoin us for these informal\, no-host gatherings designed for camaraderie\, connection\, and networking with fellow Veterans right here in our community. \n1st & 4th Wednesdays – Happy Hour Meetups1530–1900 hrs (3:30 PM – 7:00 PM) \n2nd & 3rd Wednesdays – Morning Coffee Connections0700 hrs (7:00 AM) \nCome for the conversation\, stay for the connection. No agenda — just Veterans supporting Veterans. \nSpread the word and bring a buddy!
URL:https://azveterans.com/event/new-vet-togethers-4/2028-11-15/
LOCATION:THE BUZZED GOAT\, 4302 E RAY RD STE 106\, Phoenix\, 85044\, United States
END:VEVENT
BEGIN:VEVENT
DTSTART;TZID=America/Phoenix:20281206T153000
DTEND;TZID=America/Phoenix:20281206T190000
DTSTAMP:20260423T141221
CREATED:20251126T000219Z
LAST-MODIFIED:20251126T000219Z
UID:10002580-1859729400-1859742000@azveterans.com
SUMMARY:NEW!!! – VET-TOGETHERS
DESCRIPTION:NEW!!! – VET-TOGETHERSOpen to ALL Veterans in the Ahwatukee Community \nJoin us for these informal\, no-host gatherings designed for camaraderie\, connection\, and networking with fellow Veterans right here in our community. \n1st & 4th Wednesdays – Happy Hour Meetups1530–1900 hrs (3:30 PM – 7:00 PM) \n2nd & 3rd Wednesdays – Morning Coffee Connections0700 hrs (7:00 AM) \nCome for the conversation\, stay for the connection. No agenda — just Veterans supporting Veterans. \nSpread the word and bring a buddy!
URL:https://azveterans.com/event/new-vet-togethers/2028-12-06/
LOCATION:THE BUZZED GOAT\, 4302 E RAY RD STE 106\, Phoenix\, 85044\, United States
END:VEVENT
BEGIN:VEVENT
DTSTART;TZID=America/Phoenix:20281213T070000
DTEND;TZID=America/Phoenix:20281213T210000
DTSTAMP:20260423T141221
CREATED:20251126T000353Z
LAST-MODIFIED:20251126T000353Z
UID:10002788-1860303600-1860354000@azveterans.com
SUMMARY:NEW!!! – VET-TOGETHERS
DESCRIPTION:NEW!!! – VET-TOGETHERSOpen to ALL Veterans in the Ahwatukee Community \nJoin us for these informal\, no-host gatherings designed for camaraderie\, connection\, and networking with fellow Veterans right here in our community. \n1st & 4th Wednesdays – Happy Hour Meetups1530–1900 hrs (3:30 PM – 7:00 PM) \n2nd & 3rd Wednesdays – Morning Coffee Connections0700 hrs (7:00 AM) \nCome for the conversation\, stay for the connection. No agenda — just Veterans supporting Veterans. \nSpread the word and bring a buddy!
URL:https://azveterans.com/event/new-vet-togethers-3/2028-12-13/
LOCATION:THE BUZZED GOAT\, 4302 E RAY RD STE 106\, Phoenix\, 85044\, United States
END:VEVENT
BEGIN:VEVENT
DTSTART;TZID=America/Phoenix:20281220T070000
DTEND;TZID=America/Phoenix:20281220T090000
DTSTAMP:20260423T141221
CREATED:20251126T000421Z
LAST-MODIFIED:20260112T034052Z
UID:10002892-1860908400-1860915600@azveterans.com
SUMMARY:NEW!!! – VET-TOGETHERS
DESCRIPTION:NEW!!! – VET-TOGETHERSOpen to ALL Veterans in the Ahwatukee Community\n\nJoin us for these informal\, no-host gatherings designed for camaraderie\, connection\, and networking with fellow Veterans right here in our community. \n1st & 4th Wednesdays – Happy Hour Meetups1530–1900 hrs (3:30 PM – 7:00 PM) \n2nd & 3rd Wednesdays – Morning Coffee Connections0700 hrs (7:00 AM) \nCome for the conversation\, stay for the connection. No agenda — just Veterans supporting Veterans. \nSpread the word and bring a buddy!
URL:https://azveterans.com/event/new-vet-togethers-4/2028-12-20/
LOCATION:THE BUZZED GOAT\, 4302 E RAY RD STE 106\, Phoenix\, 85044\, United States
END:VEVENT
BEGIN:VEVENT
DTSTART;TZID=America/Phoenix:20290103T153000
DTEND;TZID=America/Phoenix:20290103T190000
DTSTAMP:20260423T141221
CREATED:20251126T000219Z
LAST-MODIFIED:20251126T000219Z
UID:10002581-1862148600-1862161200@azveterans.com
SUMMARY:NEW!!! – VET-TOGETHERS
DESCRIPTION:NEW!!! – VET-TOGETHERSOpen to ALL Veterans in the Ahwatukee Community \nJoin us for these informal\, no-host gatherings designed for camaraderie\, connection\, and networking with fellow Veterans right here in our community. \n1st & 4th Wednesdays – Happy Hour Meetups1530–1900 hrs (3:30 PM – 7:00 PM) \n2nd & 3rd Wednesdays – Morning Coffee Connections0700 hrs (7:00 AM) \nCome for the conversation\, stay for the connection. No agenda — just Veterans supporting Veterans. \nSpread the word and bring a buddy!
URL:https://azveterans.com/event/new-vet-togethers/2029-01-03/
LOCATION:THE BUZZED GOAT\, 4302 E RAY RD STE 106\, Phoenix\, 85044\, United States
END:VEVENT
BEGIN:VEVENT
DTSTART;TZID=America/Phoenix:20290110T070000
DTEND;TZID=America/Phoenix:20290110T210000
DTSTAMP:20260423T141221
CREATED:20251126T000353Z
LAST-MODIFIED:20251126T000353Z
UID:10002789-1862722800-1862773200@azveterans.com
SUMMARY:NEW!!! – VET-TOGETHERS
DESCRIPTION:NEW!!! – VET-TOGETHERSOpen to ALL Veterans in the Ahwatukee Community \nJoin us for these informal\, no-host gatherings designed for camaraderie\, connection\, and networking with fellow Veterans right here in our community. \n1st & 4th Wednesdays – Happy Hour Meetups1530–1900 hrs (3:30 PM – 7:00 PM) \n2nd & 3rd Wednesdays – Morning Coffee Connections0700 hrs (7:00 AM) \nCome for the conversation\, stay for the connection. No agenda — just Veterans supporting Veterans. \nSpread the word and bring a buddy!
URL:https://azveterans.com/event/new-vet-togethers-3/2029-01-10/
LOCATION:THE BUZZED GOAT\, 4302 E RAY RD STE 106\, Phoenix\, 85044\, United States
END:VEVENT
BEGIN:VEVENT
DTSTART;TZID=America/Phoenix:20290117T070000
DTEND;TZID=America/Phoenix:20290117T090000
DTSTAMP:20260423T141221
CREATED:20251126T000421Z
LAST-MODIFIED:20260112T034052Z
UID:10002893-1863327600-1863334800@azveterans.com
SUMMARY:NEW!!! – VET-TOGETHERS
DESCRIPTION:NEW!!! – VET-TOGETHERSOpen to ALL Veterans in the Ahwatukee Community\n\nJoin us for these informal\, no-host gatherings designed for camaraderie\, connection\, and networking with fellow Veterans right here in our community. \n1st & 4th Wednesdays – Happy Hour Meetups1530–1900 hrs (3:30 PM – 7:00 PM) \n2nd & 3rd Wednesdays – Morning Coffee Connections0700 hrs (7:00 AM) \nCome for the conversation\, stay for the connection. No agenda — just Veterans supporting Veterans. \nSpread the word and bring a buddy!
URL:https://azveterans.com/event/new-vet-togethers-4/2029-01-17/
LOCATION:THE BUZZED GOAT\, 4302 E RAY RD STE 106\, Phoenix\, 85044\, United States
END:VEVENT
BEGIN:VEVENT
DTSTART;TZID=America/Phoenix:20290207T153000
DTEND;TZID=America/Phoenix:20290207T190000
DTSTAMP:20260423T141221
CREATED:20251126T000219Z
LAST-MODIFIED:20251126T000219Z
UID:10002582-1865172600-1865185200@azveterans.com
SUMMARY:NEW!!! – VET-TOGETHERS
DESCRIPTION:NEW!!! – VET-TOGETHERSOpen to ALL Veterans in the Ahwatukee Community \nJoin us for these informal\, no-host gatherings designed for camaraderie\, connection\, and networking with fellow Veterans right here in our community. \n1st & 4th Wednesdays – Happy Hour Meetups1530–1900 hrs (3:30 PM – 7:00 PM) \n2nd & 3rd Wednesdays – Morning Coffee Connections0700 hrs (7:00 AM) \nCome for the conversation\, stay for the connection. No agenda — just Veterans supporting Veterans. \nSpread the word and bring a buddy!
URL:https://azveterans.com/event/new-vet-togethers/2029-02-07/
LOCATION:THE BUZZED GOAT\, 4302 E RAY RD STE 106\, Phoenix\, 85044\, United States
END:VEVENT
BEGIN:VEVENT
DTSTART;TZID=America/Phoenix:20290214T070000
DTEND;TZID=America/Phoenix:20290214T210000
DTSTAMP:20260423T141221
CREATED:20251126T000353Z
LAST-MODIFIED:20251126T000353Z
UID:10002790-1865746800-1865797200@azveterans.com
SUMMARY:NEW!!! – VET-TOGETHERS
DESCRIPTION:NEW!!! – VET-TOGETHERSOpen to ALL Veterans in the Ahwatukee Community \nJoin us for these informal\, no-host gatherings designed for camaraderie\, connection\, and networking with fellow Veterans right here in our community. \n1st & 4th Wednesdays – Happy Hour Meetups1530–1900 hrs (3:30 PM – 7:00 PM) \n2nd & 3rd Wednesdays – Morning Coffee Connections0700 hrs (7:00 AM) \nCome for the conversation\, stay for the connection. No agenda — just Veterans supporting Veterans. \nSpread the word and bring a buddy!
URL:https://azveterans.com/event/new-vet-togethers-3/2029-02-14/
LOCATION:THE BUZZED GOAT\, 4302 E RAY RD STE 106\, Phoenix\, 85044\, United States
END:VEVENT
BEGIN:VEVENT
DTSTART;TZID=America/Phoenix:20290221T070000
DTEND;TZID=America/Phoenix:20290221T090000
DTSTAMP:20260423T141221
CREATED:20251126T000421Z
LAST-MODIFIED:20260112T034052Z
UID:10002894-1866351600-1866358800@azveterans.com
SUMMARY:NEW!!! – VET-TOGETHERS
DESCRIPTION:NEW!!! – VET-TOGETHERSOpen to ALL Veterans in the Ahwatukee Community\n\nJoin us for these informal\, no-host gatherings designed for camaraderie\, connection\, and networking with fellow Veterans right here in our community. \n1st & 4th Wednesdays – Happy Hour Meetups1530–1900 hrs (3:30 PM – 7:00 PM) \n2nd & 3rd Wednesdays – Morning Coffee Connections0700 hrs (7:00 AM) \nCome for the conversation\, stay for the connection. No agenda — just Veterans supporting Veterans. \nSpread the word and bring a buddy!
URL:https://azveterans.com/event/new-vet-togethers-4/2029-02-21/
LOCATION:THE BUZZED GOAT\, 4302 E RAY RD STE 106\, Phoenix\, 85044\, United States
END:VEVENT
BEGIN:VEVENT
DTSTART;TZID=America/Phoenix:20290307T153000
DTEND;TZID=America/Phoenix:20290307T190000
DTSTAMP:20260423T141221
CREATED:20251126T000219Z
LAST-MODIFIED:20251126T000219Z
UID:10002583-1867591800-1867604400@azveterans.com
SUMMARY:NEW!!! – VET-TOGETHERS
DESCRIPTION:NEW!!! – VET-TOGETHERSOpen to ALL Veterans in the Ahwatukee Community \nJoin us for these informal\, no-host gatherings designed for camaraderie\, connection\, and networking with fellow Veterans right here in our community. \n1st & 4th Wednesdays – Happy Hour Meetups1530–1900 hrs (3:30 PM – 7:00 PM) \n2nd & 3rd Wednesdays – Morning Coffee Connections0700 hrs (7:00 AM) \nCome for the conversation\, stay for the connection. No agenda — just Veterans supporting Veterans. \nSpread the word and bring a buddy!
URL:https://azveterans.com/event/new-vet-togethers/2029-03-07/
LOCATION:THE BUZZED GOAT\, 4302 E RAY RD STE 106\, Phoenix\, 85044\, United States
END:VEVENT
BEGIN:VEVENT
DTSTART;TZID=America/Phoenix:20290314T070000
DTEND;TZID=America/Phoenix:20290314T210000
DTSTAMP:20260423T141221
CREATED:20251126T000353Z
LAST-MODIFIED:20251126T000353Z
UID:10002791-1868166000-1868216400@azveterans.com
SUMMARY:NEW!!! – VET-TOGETHERS
DESCRIPTION:NEW!!! – VET-TOGETHERSOpen to ALL Veterans in the Ahwatukee Community \nJoin us for these informal\, no-host gatherings designed for camaraderie\, connection\, and networking with fellow Veterans right here in our community. \n1st & 4th Wednesdays – Happy Hour Meetups1530–1900 hrs (3:30 PM – 7:00 PM) \n2nd & 3rd Wednesdays – Morning Coffee Connections0700 hrs (7:00 AM) \nCome for the conversation\, stay for the connection. No agenda — just Veterans supporting Veterans. \nSpread the word and bring a buddy!
URL:https://azveterans.com/event/new-vet-togethers-3/2029-03-14/
LOCATION:THE BUZZED GOAT\, 4302 E RAY RD STE 106\, Phoenix\, 85044\, United States
END:VEVENT
BEGIN:VEVENT
DTSTART;TZID=America/Phoenix:20290321T070000
DTEND;TZID=America/Phoenix:20290321T090000
DTSTAMP:20260423T141221
CREATED:20251126T000421Z
LAST-MODIFIED:20260112T034052Z
UID:10002895-1868770800-1868778000@azveterans.com
SUMMARY:NEW!!! – VET-TOGETHERS
DESCRIPTION:NEW!!! – VET-TOGETHERSOpen to ALL Veterans in the Ahwatukee Community\n\nJoin us for these informal\, no-host gatherings designed for camaraderie\, connection\, and networking with fellow Veterans right here in our community. \n1st & 4th Wednesdays – Happy Hour Meetups1530–1900 hrs (3:30 PM – 7:00 PM) \n2nd & 3rd Wednesdays – Morning Coffee Connections0700 hrs (7:00 AM) \nCome for the conversation\, stay for the connection. No agenda — just Veterans supporting Veterans. \nSpread the word and bring a buddy!
URL:https://azveterans.com/event/new-vet-togethers-4/2029-03-21/
LOCATION:THE BUZZED GOAT\, 4302 E RAY RD STE 106\, Phoenix\, 85044\, United States
END:VEVENT
BEGIN:VEVENT
DTSTART;TZID=America/Phoenix:20290404T153000
DTEND;TZID=America/Phoenix:20290404T190000
DTSTAMP:20260423T141221
CREATED:20251126T000219Z
LAST-MODIFIED:20251126T000219Z
UID:10002584-1870011000-1870023600@azveterans.com
SUMMARY:NEW!!! – VET-TOGETHERS
DESCRIPTION:NEW!!! – VET-TOGETHERSOpen to ALL Veterans in the Ahwatukee Community \nJoin us for these informal\, no-host gatherings designed for camaraderie\, connection\, and networking with fellow Veterans right here in our community. \n1st & 4th Wednesdays – Happy Hour Meetups1530–1900 hrs (3:30 PM – 7:00 PM) \n2nd & 3rd Wednesdays – Morning Coffee Connections0700 hrs (7:00 AM) \nCome for the conversation\, stay for the connection. No agenda — just Veterans supporting Veterans. \nSpread the word and bring a buddy!
URL:https://azveterans.com/event/new-vet-togethers/2029-04-04/
LOCATION:THE BUZZED GOAT\, 4302 E RAY RD STE 106\, Phoenix\, 85044\, United States
END:VEVENT
BEGIN:VEVENT
DTSTART;TZID=America/Phoenix:20290411T070000
DTEND;TZID=America/Phoenix:20290411T210000
DTSTAMP:20260423T141221
CREATED:20251126T000353Z
LAST-MODIFIED:20251126T000353Z
UID:10002792-1870585200-1870635600@azveterans.com
SUMMARY:NEW!!! – VET-TOGETHERS
DESCRIPTION:NEW!!! – VET-TOGETHERSOpen to ALL Veterans in the Ahwatukee Community \nJoin us for these informal\, no-host gatherings designed for camaraderie\, connection\, and networking with fellow Veterans right here in our community. \n1st & 4th Wednesdays – Happy Hour Meetups1530–1900 hrs (3:30 PM – 7:00 PM) \n2nd & 3rd Wednesdays – Morning Coffee Connections0700 hrs (7:00 AM) \nCome for the conversation\, stay for the connection. No agenda — just Veterans supporting Veterans. \nSpread the word and bring a buddy!
URL:https://azveterans.com/event/new-vet-togethers-3/2029-04-11/
LOCATION:THE BUZZED GOAT\, 4302 E RAY RD STE 106\, Phoenix\, 85044\, United States
END:VEVENT
BEGIN:VEVENT
DTSTART;TZID=America/Phoenix:20290418T070000
DTEND;TZID=America/Phoenix:20290418T090000
DTSTAMP:20260423T141221
CREATED:20251126T000421Z
LAST-MODIFIED:20260112T034052Z
UID:10002896-1871190000-1871197200@azveterans.com
SUMMARY:NEW!!! – VET-TOGETHERS
DESCRIPTION:NEW!!! – VET-TOGETHERSOpen to ALL Veterans in the Ahwatukee Community\n\nJoin us for these informal\, no-host gatherings designed for camaraderie\, connection\, and networking with fellow Veterans right here in our community. \n1st & 4th Wednesdays – Happy Hour Meetups1530–1900 hrs (3:30 PM – 7:00 PM) \n2nd & 3rd Wednesdays – Morning Coffee Connections0700 hrs (7:00 AM) \nCome for the conversation\, stay for the connection. No agenda — just Veterans supporting Veterans. \nSpread the word and bring a buddy!
URL:https://azveterans.com/event/new-vet-togethers-4/2029-04-18/
LOCATION:THE BUZZED GOAT\, 4302 E RAY RD STE 106\, Phoenix\, 85044\, United States
END:VEVENT
END:VCALENDAR