BEGIN:VCALENDAR
VERSION:2.0
PRODID:-//AZ Veterans - ECPv6.15.20//NONSGML v1.0//EN
CALSCALE:GREGORIAN
METHOD:PUBLISH
X-ORIGINAL-URL:https://azveterans.com
X-WR-CALDESC:Events for AZ Veterans
REFRESH-INTERVAL;VALUE=DURATION:PT1H
X-Robots-Tag:noindex
X-PUBLISHED-TTL:PT1H
BEGIN:VTIMEZONE
TZID:America/Phoenix
BEGIN:STANDARD
TZOFFSETFROM:-0700
TZOFFSETTO:-0700
TZNAME:MST
DTSTART:20260101T000000
END:STANDARD
END:VTIMEZONE
BEGIN:VEVENT
DTSTART;TZID=America/Phoenix:20270519T070000
DTEND;TZID=America/Phoenix:20270519T090000
DTSTAMP:20260423T111744
CREATED:20251126T000421Z
LAST-MODIFIED:20260112T034052Z
UID:10002873-1810710000-1810717200@azveterans.com
SUMMARY:NEW!!! – VET-TOGETHERS
DESCRIPTION:NEW!!! – VET-TOGETHERSOpen to ALL Veterans in the Ahwatukee Community\n\nJoin us for these informal\, no-host gatherings designed for camaraderie\, connection\, and networking with fellow Veterans right here in our community. \n1st & 4th Wednesdays – Happy Hour Meetups1530–1900 hrs (3:30 PM – 7:00 PM) \n2nd & 3rd Wednesdays – Morning Coffee Connections0700 hrs (7:00 AM) \nCome for the conversation\, stay for the connection. No agenda — just Veterans supporting Veterans. \nSpread the word and bring a buddy!
URL:https://azveterans.com/event/new-vet-togethers-4/2027-05-19/
LOCATION:THE BUZZED GOAT\, 4302 E RAY RD STE 106\, Phoenix\, 85044\, United States
END:VEVENT
BEGIN:VEVENT
DTSTART;TZID=America/Phoenix:20270602T153000
DTEND;TZID=America/Phoenix:20270602T190000
DTSTAMP:20260423T111744
CREATED:20251126T000219Z
LAST-MODIFIED:20251126T000219Z
UID:10002562-1811950200-1811962800@azveterans.com
SUMMARY:NEW!!! – VET-TOGETHERS
DESCRIPTION:NEW!!! – VET-TOGETHERSOpen to ALL Veterans in the Ahwatukee Community \nJoin us for these informal\, no-host gatherings designed for camaraderie\, connection\, and networking with fellow Veterans right here in our community. \n1st & 4th Wednesdays – Happy Hour Meetups1530–1900 hrs (3:30 PM – 7:00 PM) \n2nd & 3rd Wednesdays – Morning Coffee Connections0700 hrs (7:00 AM) \nCome for the conversation\, stay for the connection. No agenda — just Veterans supporting Veterans. \nSpread the word and bring a buddy!
URL:https://azveterans.com/event/new-vet-togethers/2027-06-02/
LOCATION:THE BUZZED GOAT\, 4302 E RAY RD STE 106\, Phoenix\, 85044\, United States
END:VEVENT
BEGIN:VEVENT
DTSTART;TZID=America/Phoenix:20270609T070000
DTEND;TZID=America/Phoenix:20270609T210000
DTSTAMP:20260423T111744
CREATED:20251126T000353Z
LAST-MODIFIED:20251126T000353Z
UID:10002770-1812524400-1812574800@azveterans.com
SUMMARY:NEW!!! – VET-TOGETHERS
DESCRIPTION:NEW!!! – VET-TOGETHERSOpen to ALL Veterans in the Ahwatukee Community \nJoin us for these informal\, no-host gatherings designed for camaraderie\, connection\, and networking with fellow Veterans right here in our community. \n1st & 4th Wednesdays – Happy Hour Meetups1530–1900 hrs (3:30 PM – 7:00 PM) \n2nd & 3rd Wednesdays – Morning Coffee Connections0700 hrs (7:00 AM) \nCome for the conversation\, stay for the connection. No agenda — just Veterans supporting Veterans. \nSpread the word and bring a buddy!
URL:https://azveterans.com/event/new-vet-togethers-3/2027-06-09/
LOCATION:THE BUZZED GOAT\, 4302 E RAY RD STE 106\, Phoenix\, 85044\, United States
END:VEVENT
BEGIN:VEVENT
DTSTART;TZID=America/Phoenix:20270616T070000
DTEND;TZID=America/Phoenix:20270616T090000
DTSTAMP:20260423T111744
CREATED:20251126T000421Z
LAST-MODIFIED:20260112T034052Z
UID:10002874-1813129200-1813136400@azveterans.com
SUMMARY:NEW!!! – VET-TOGETHERS
DESCRIPTION:NEW!!! – VET-TOGETHERSOpen to ALL Veterans in the Ahwatukee Community\n\nJoin us for these informal\, no-host gatherings designed for camaraderie\, connection\, and networking with fellow Veterans right here in our community. \n1st & 4th Wednesdays – Happy Hour Meetups1530–1900 hrs (3:30 PM – 7:00 PM) \n2nd & 3rd Wednesdays – Morning Coffee Connections0700 hrs (7:00 AM) \nCome for the conversation\, stay for the connection. No agenda — just Veterans supporting Veterans. \nSpread the word and bring a buddy!
URL:https://azveterans.com/event/new-vet-togethers-4/2027-06-16/
LOCATION:THE BUZZED GOAT\, 4302 E RAY RD STE 106\, Phoenix\, 85044\, United States
END:VEVENT
BEGIN:VEVENT
DTSTART;TZID=America/Phoenix:20270707T153000
DTEND;TZID=America/Phoenix:20270707T190000
DTSTAMP:20260423T111744
CREATED:20251126T000219Z
LAST-MODIFIED:20251126T000219Z
UID:10002563-1814974200-1814986800@azveterans.com
SUMMARY:NEW!!! – VET-TOGETHERS
DESCRIPTION:NEW!!! – VET-TOGETHERSOpen to ALL Veterans in the Ahwatukee Community \nJoin us for these informal\, no-host gatherings designed for camaraderie\, connection\, and networking with fellow Veterans right here in our community. \n1st & 4th Wednesdays – Happy Hour Meetups1530–1900 hrs (3:30 PM – 7:00 PM) \n2nd & 3rd Wednesdays – Morning Coffee Connections0700 hrs (7:00 AM) \nCome for the conversation\, stay for the connection. No agenda — just Veterans supporting Veterans. \nSpread the word and bring a buddy!
URL:https://azveterans.com/event/new-vet-togethers/2027-07-07/
LOCATION:THE BUZZED GOAT\, 4302 E RAY RD STE 106\, Phoenix\, 85044\, United States
END:VEVENT
BEGIN:VEVENT
DTSTART;TZID=America/Phoenix:20270714T070000
DTEND;TZID=America/Phoenix:20270714T210000
DTSTAMP:20260423T111744
CREATED:20251126T000353Z
LAST-MODIFIED:20251126T000353Z
UID:10002771-1815548400-1815598800@azveterans.com
SUMMARY:NEW!!! – VET-TOGETHERS
DESCRIPTION:NEW!!! – VET-TOGETHERSOpen to ALL Veterans in the Ahwatukee Community \nJoin us for these informal\, no-host gatherings designed for camaraderie\, connection\, and networking with fellow Veterans right here in our community. \n1st & 4th Wednesdays – Happy Hour Meetups1530–1900 hrs (3:30 PM – 7:00 PM) \n2nd & 3rd Wednesdays – Morning Coffee Connections0700 hrs (7:00 AM) \nCome for the conversation\, stay for the connection. No agenda — just Veterans supporting Veterans. \nSpread the word and bring a buddy!
URL:https://azveterans.com/event/new-vet-togethers-3/2027-07-14/
LOCATION:THE BUZZED GOAT\, 4302 E RAY RD STE 106\, Phoenix\, 85044\, United States
END:VEVENT
BEGIN:VEVENT
DTSTART;TZID=America/Phoenix:20270721T070000
DTEND;TZID=America/Phoenix:20270721T090000
DTSTAMP:20260423T111744
CREATED:20251126T000421Z
LAST-MODIFIED:20260112T034052Z
UID:10002875-1816153200-1816160400@azveterans.com
SUMMARY:NEW!!! – VET-TOGETHERS
DESCRIPTION:NEW!!! – VET-TOGETHERSOpen to ALL Veterans in the Ahwatukee Community\n\nJoin us for these informal\, no-host gatherings designed for camaraderie\, connection\, and networking with fellow Veterans right here in our community. \n1st & 4th Wednesdays – Happy Hour Meetups1530–1900 hrs (3:30 PM – 7:00 PM) \n2nd & 3rd Wednesdays – Morning Coffee Connections0700 hrs (7:00 AM) \nCome for the conversation\, stay for the connection. No agenda — just Veterans supporting Veterans. \nSpread the word and bring a buddy!
URL:https://azveterans.com/event/new-vet-togethers-4/2027-07-21/
LOCATION:THE BUZZED GOAT\, 4302 E RAY RD STE 106\, Phoenix\, 85044\, United States
END:VEVENT
BEGIN:VEVENT
DTSTART;TZID=America/Phoenix:20270804T153000
DTEND;TZID=America/Phoenix:20270804T190000
DTSTAMP:20260423T111744
CREATED:20251126T000219Z
LAST-MODIFIED:20251126T000219Z
UID:10002564-1817393400-1817406000@azveterans.com
SUMMARY:NEW!!! – VET-TOGETHERS
DESCRIPTION:NEW!!! – VET-TOGETHERSOpen to ALL Veterans in the Ahwatukee Community \nJoin us for these informal\, no-host gatherings designed for camaraderie\, connection\, and networking with fellow Veterans right here in our community. \n1st & 4th Wednesdays – Happy Hour Meetups1530–1900 hrs (3:30 PM – 7:00 PM) \n2nd & 3rd Wednesdays – Morning Coffee Connections0700 hrs (7:00 AM) \nCome for the conversation\, stay for the connection. No agenda — just Veterans supporting Veterans. \nSpread the word and bring a buddy!
URL:https://azveterans.com/event/new-vet-togethers/2027-08-04/
LOCATION:THE BUZZED GOAT\, 4302 E RAY RD STE 106\, Phoenix\, 85044\, United States
END:VEVENT
BEGIN:VEVENT
DTSTART;TZID=America/Phoenix:20270811T070000
DTEND;TZID=America/Phoenix:20270811T210000
DTSTAMP:20260423T111744
CREATED:20251126T000353Z
LAST-MODIFIED:20251126T000353Z
UID:10002772-1817967600-1818018000@azveterans.com
SUMMARY:NEW!!! – VET-TOGETHERS
DESCRIPTION:NEW!!! – VET-TOGETHERSOpen to ALL Veterans in the Ahwatukee Community \nJoin us for these informal\, no-host gatherings designed for camaraderie\, connection\, and networking with fellow Veterans right here in our community. \n1st & 4th Wednesdays – Happy Hour Meetups1530–1900 hrs (3:30 PM – 7:00 PM) \n2nd & 3rd Wednesdays – Morning Coffee Connections0700 hrs (7:00 AM) \nCome for the conversation\, stay for the connection. No agenda — just Veterans supporting Veterans. \nSpread the word and bring a buddy!
URL:https://azveterans.com/event/new-vet-togethers-3/2027-08-11/
LOCATION:THE BUZZED GOAT\, 4302 E RAY RD STE 106\, Phoenix\, 85044\, United States
END:VEVENT
BEGIN:VEVENT
DTSTART;TZID=America/Phoenix:20270818T070000
DTEND;TZID=America/Phoenix:20270818T090000
DTSTAMP:20260423T111744
CREATED:20251126T000421Z
LAST-MODIFIED:20260112T034052Z
UID:10002876-1818572400-1818579600@azveterans.com
SUMMARY:NEW!!! – VET-TOGETHERS
DESCRIPTION:NEW!!! – VET-TOGETHERSOpen to ALL Veterans in the Ahwatukee Community\n\nJoin us for these informal\, no-host gatherings designed for camaraderie\, connection\, and networking with fellow Veterans right here in our community. \n1st & 4th Wednesdays – Happy Hour Meetups1530–1900 hrs (3:30 PM – 7:00 PM) \n2nd & 3rd Wednesdays – Morning Coffee Connections0700 hrs (7:00 AM) \nCome for the conversation\, stay for the connection. No agenda — just Veterans supporting Veterans. \nSpread the word and bring a buddy!
URL:https://azveterans.com/event/new-vet-togethers-4/2027-08-18/
LOCATION:THE BUZZED GOAT\, 4302 E RAY RD STE 106\, Phoenix\, 85044\, United States
END:VEVENT
BEGIN:VEVENT
DTSTART;TZID=America/Phoenix:20270901T153000
DTEND;TZID=America/Phoenix:20270901T190000
DTSTAMP:20260423T111744
CREATED:20251126T000219Z
LAST-MODIFIED:20251126T000219Z
UID:10002565-1819812600-1819825200@azveterans.com
SUMMARY:NEW!!! – VET-TOGETHERS
DESCRIPTION:NEW!!! – VET-TOGETHERSOpen to ALL Veterans in the Ahwatukee Community \nJoin us for these informal\, no-host gatherings designed for camaraderie\, connection\, and networking with fellow Veterans right here in our community. \n1st & 4th Wednesdays – Happy Hour Meetups1530–1900 hrs (3:30 PM – 7:00 PM) \n2nd & 3rd Wednesdays – Morning Coffee Connections0700 hrs (7:00 AM) \nCome for the conversation\, stay for the connection. No agenda — just Veterans supporting Veterans. \nSpread the word and bring a buddy!
URL:https://azveterans.com/event/new-vet-togethers/2027-09-01/
LOCATION:THE BUZZED GOAT\, 4302 E RAY RD STE 106\, Phoenix\, 85044\, United States
END:VEVENT
BEGIN:VEVENT
DTSTART;TZID=America/Phoenix:20270908T070000
DTEND;TZID=America/Phoenix:20270908T210000
DTSTAMP:20260423T111744
CREATED:20251126T000353Z
LAST-MODIFIED:20251126T000353Z
UID:10002773-1820386800-1820437200@azveterans.com
SUMMARY:NEW!!! – VET-TOGETHERS
DESCRIPTION:NEW!!! – VET-TOGETHERSOpen to ALL Veterans in the Ahwatukee Community \nJoin us for these informal\, no-host gatherings designed for camaraderie\, connection\, and networking with fellow Veterans right here in our community. \n1st & 4th Wednesdays – Happy Hour Meetups1530–1900 hrs (3:30 PM – 7:00 PM) \n2nd & 3rd Wednesdays – Morning Coffee Connections0700 hrs (7:00 AM) \nCome for the conversation\, stay for the connection. No agenda — just Veterans supporting Veterans. \nSpread the word and bring a buddy!
URL:https://azveterans.com/event/new-vet-togethers-3/2027-09-08/
LOCATION:THE BUZZED GOAT\, 4302 E RAY RD STE 106\, Phoenix\, 85044\, United States
END:VEVENT
BEGIN:VEVENT
DTSTART;TZID=America/Phoenix:20270915T070000
DTEND;TZID=America/Phoenix:20270915T090000
DTSTAMP:20260423T111744
CREATED:20251126T000421Z
LAST-MODIFIED:20260112T034052Z
UID:10002877-1820991600-1820998800@azveterans.com
SUMMARY:NEW!!! – VET-TOGETHERS
DESCRIPTION:NEW!!! – VET-TOGETHERSOpen to ALL Veterans in the Ahwatukee Community\n\nJoin us for these informal\, no-host gatherings designed for camaraderie\, connection\, and networking with fellow Veterans right here in our community. \n1st & 4th Wednesdays – Happy Hour Meetups1530–1900 hrs (3:30 PM – 7:00 PM) \n2nd & 3rd Wednesdays – Morning Coffee Connections0700 hrs (7:00 AM) \nCome for the conversation\, stay for the connection. No agenda — just Veterans supporting Veterans. \nSpread the word and bring a buddy!
URL:https://azveterans.com/event/new-vet-togethers-4/2027-09-15/
LOCATION:THE BUZZED GOAT\, 4302 E RAY RD STE 106\, Phoenix\, 85044\, United States
END:VEVENT
BEGIN:VEVENT
DTSTART;TZID=America/Phoenix:20271006T153000
DTEND;TZID=America/Phoenix:20271006T190000
DTSTAMP:20260423T111744
CREATED:20251126T000219Z
LAST-MODIFIED:20251126T000219Z
UID:10002566-1822836600-1822849200@azveterans.com
SUMMARY:NEW!!! – VET-TOGETHERS
DESCRIPTION:NEW!!! – VET-TOGETHERSOpen to ALL Veterans in the Ahwatukee Community \nJoin us for these informal\, no-host gatherings designed for camaraderie\, connection\, and networking with fellow Veterans right here in our community. \n1st & 4th Wednesdays – Happy Hour Meetups1530–1900 hrs (3:30 PM – 7:00 PM) \n2nd & 3rd Wednesdays – Morning Coffee Connections0700 hrs (7:00 AM) \nCome for the conversation\, stay for the connection. No agenda — just Veterans supporting Veterans. \nSpread the word and bring a buddy!
URL:https://azveterans.com/event/new-vet-togethers/2027-10-06/
LOCATION:THE BUZZED GOAT\, 4302 E RAY RD STE 106\, Phoenix\, 85044\, United States
END:VEVENT
BEGIN:VEVENT
DTSTART;TZID=America/Phoenix:20271013T070000
DTEND;TZID=America/Phoenix:20271013T210000
DTSTAMP:20260423T111744
CREATED:20251126T000353Z
LAST-MODIFIED:20251126T000353Z
UID:10002774-1823410800-1823461200@azveterans.com
SUMMARY:NEW!!! – VET-TOGETHERS
DESCRIPTION:NEW!!! – VET-TOGETHERSOpen to ALL Veterans in the Ahwatukee Community \nJoin us for these informal\, no-host gatherings designed for camaraderie\, connection\, and networking with fellow Veterans right here in our community. \n1st & 4th Wednesdays – Happy Hour Meetups1530–1900 hrs (3:30 PM – 7:00 PM) \n2nd & 3rd Wednesdays – Morning Coffee Connections0700 hrs (7:00 AM) \nCome for the conversation\, stay for the connection. No agenda — just Veterans supporting Veterans. \nSpread the word and bring a buddy!
URL:https://azveterans.com/event/new-vet-togethers-3/2027-10-13/
LOCATION:THE BUZZED GOAT\, 4302 E RAY RD STE 106\, Phoenix\, 85044\, United States
END:VEVENT
BEGIN:VEVENT
DTSTART;TZID=America/Phoenix:20271020T070000
DTEND;TZID=America/Phoenix:20271020T090000
DTSTAMP:20260423T111744
CREATED:20251126T000421Z
LAST-MODIFIED:20260112T034052Z
UID:10002878-1824015600-1824022800@azveterans.com
SUMMARY:NEW!!! – VET-TOGETHERS
DESCRIPTION:NEW!!! – VET-TOGETHERSOpen to ALL Veterans in the Ahwatukee Community\n\nJoin us for these informal\, no-host gatherings designed for camaraderie\, connection\, and networking with fellow Veterans right here in our community. \n1st & 4th Wednesdays – Happy Hour Meetups1530–1900 hrs (3:30 PM – 7:00 PM) \n2nd & 3rd Wednesdays – Morning Coffee Connections0700 hrs (7:00 AM) \nCome for the conversation\, stay for the connection. No agenda — just Veterans supporting Veterans. \nSpread the word and bring a buddy!
URL:https://azveterans.com/event/new-vet-togethers-4/2027-10-20/
LOCATION:THE BUZZED GOAT\, 4302 E RAY RD STE 106\, Phoenix\, 85044\, United States
END:VEVENT
BEGIN:VEVENT
DTSTART;TZID=America/Phoenix:20271103T153000
DTEND;TZID=America/Phoenix:20271103T190000
DTSTAMP:20260423T111744
CREATED:20251126T000219Z
LAST-MODIFIED:20251126T000219Z
UID:10002567-1825255800-1825268400@azveterans.com
SUMMARY:NEW!!! – VET-TOGETHERS
DESCRIPTION:NEW!!! – VET-TOGETHERSOpen to ALL Veterans in the Ahwatukee Community \nJoin us for these informal\, no-host gatherings designed for camaraderie\, connection\, and networking with fellow Veterans right here in our community. \n1st & 4th Wednesdays – Happy Hour Meetups1530–1900 hrs (3:30 PM – 7:00 PM) \n2nd & 3rd Wednesdays – Morning Coffee Connections0700 hrs (7:00 AM) \nCome for the conversation\, stay for the connection. No agenda — just Veterans supporting Veterans. \nSpread the word and bring a buddy!
URL:https://azveterans.com/event/new-vet-togethers/2027-11-03/
LOCATION:THE BUZZED GOAT\, 4302 E RAY RD STE 106\, Phoenix\, 85044\, United States
END:VEVENT
BEGIN:VEVENT
DTSTART;TZID=America/Phoenix:20271110T070000
DTEND;TZID=America/Phoenix:20271110T210000
DTSTAMP:20260423T111744
CREATED:20251126T000353Z
LAST-MODIFIED:20251126T000353Z
UID:10002775-1825830000-1825880400@azveterans.com
SUMMARY:NEW!!! – VET-TOGETHERS
DESCRIPTION:NEW!!! – VET-TOGETHERSOpen to ALL Veterans in the Ahwatukee Community \nJoin us for these informal\, no-host gatherings designed for camaraderie\, connection\, and networking with fellow Veterans right here in our community. \n1st & 4th Wednesdays – Happy Hour Meetups1530–1900 hrs (3:30 PM – 7:00 PM) \n2nd & 3rd Wednesdays – Morning Coffee Connections0700 hrs (7:00 AM) \nCome for the conversation\, stay for the connection. No agenda — just Veterans supporting Veterans. \nSpread the word and bring a buddy!
URL:https://azveterans.com/event/new-vet-togethers-3/2027-11-10/
LOCATION:THE BUZZED GOAT\, 4302 E RAY RD STE 106\, Phoenix\, 85044\, United States
END:VEVENT
BEGIN:VEVENT
DTSTART;TZID=America/Phoenix:20271117T070000
DTEND;TZID=America/Phoenix:20271117T090000
DTSTAMP:20260423T111744
CREATED:20251126T000421Z
LAST-MODIFIED:20260112T034052Z
UID:10002879-1826434800-1826442000@azveterans.com
SUMMARY:NEW!!! – VET-TOGETHERS
DESCRIPTION:NEW!!! – VET-TOGETHERSOpen to ALL Veterans in the Ahwatukee Community\n\nJoin us for these informal\, no-host gatherings designed for camaraderie\, connection\, and networking with fellow Veterans right here in our community. \n1st & 4th Wednesdays – Happy Hour Meetups1530–1900 hrs (3:30 PM – 7:00 PM) \n2nd & 3rd Wednesdays – Morning Coffee Connections0700 hrs (7:00 AM) \nCome for the conversation\, stay for the connection. No agenda — just Veterans supporting Veterans. \nSpread the word and bring a buddy!
URL:https://azveterans.com/event/new-vet-togethers-4/2027-11-17/
LOCATION:THE BUZZED GOAT\, 4302 E RAY RD STE 106\, Phoenix\, 85044\, United States
END:VEVENT
BEGIN:VEVENT
DTSTART;TZID=America/Phoenix:20271201T153000
DTEND;TZID=America/Phoenix:20271201T190000
DTSTAMP:20260423T111744
CREATED:20251126T000219Z
LAST-MODIFIED:20251126T000219Z
UID:10002568-1827675000-1827687600@azveterans.com
SUMMARY:NEW!!! – VET-TOGETHERS
DESCRIPTION:NEW!!! – VET-TOGETHERSOpen to ALL Veterans in the Ahwatukee Community \nJoin us for these informal\, no-host gatherings designed for camaraderie\, connection\, and networking with fellow Veterans right here in our community. \n1st & 4th Wednesdays – Happy Hour Meetups1530–1900 hrs (3:30 PM – 7:00 PM) \n2nd & 3rd Wednesdays – Morning Coffee Connections0700 hrs (7:00 AM) \nCome for the conversation\, stay for the connection. No agenda — just Veterans supporting Veterans. \nSpread the word and bring a buddy!
URL:https://azveterans.com/event/new-vet-togethers/2027-12-01/
LOCATION:THE BUZZED GOAT\, 4302 E RAY RD STE 106\, Phoenix\, 85044\, United States
END:VEVENT
BEGIN:VEVENT
DTSTART;TZID=America/Phoenix:20271208T070000
DTEND;TZID=America/Phoenix:20271208T210000
DTSTAMP:20260423T111744
CREATED:20251126T000353Z
LAST-MODIFIED:20251126T000353Z
UID:10002776-1828249200-1828299600@azveterans.com
SUMMARY:NEW!!! – VET-TOGETHERS
DESCRIPTION:NEW!!! – VET-TOGETHERSOpen to ALL Veterans in the Ahwatukee Community \nJoin us for these informal\, no-host gatherings designed for camaraderie\, connection\, and networking with fellow Veterans right here in our community. \n1st & 4th Wednesdays – Happy Hour Meetups1530–1900 hrs (3:30 PM – 7:00 PM) \n2nd & 3rd Wednesdays – Morning Coffee Connections0700 hrs (7:00 AM) \nCome for the conversation\, stay for the connection. No agenda — just Veterans supporting Veterans. \nSpread the word and bring a buddy!
URL:https://azveterans.com/event/new-vet-togethers-3/2027-12-08/
LOCATION:THE BUZZED GOAT\, 4302 E RAY RD STE 106\, Phoenix\, 85044\, United States
END:VEVENT
BEGIN:VEVENT
DTSTART;TZID=America/Phoenix:20271215T070000
DTEND;TZID=America/Phoenix:20271215T090000
DTSTAMP:20260423T111744
CREATED:20251126T000421Z
LAST-MODIFIED:20260112T034052Z
UID:10002880-1828854000-1828861200@azveterans.com
SUMMARY:NEW!!! – VET-TOGETHERS
DESCRIPTION:NEW!!! – VET-TOGETHERSOpen to ALL Veterans in the Ahwatukee Community\n\nJoin us for these informal\, no-host gatherings designed for camaraderie\, connection\, and networking with fellow Veterans right here in our community. \n1st & 4th Wednesdays – Happy Hour Meetups1530–1900 hrs (3:30 PM – 7:00 PM) \n2nd & 3rd Wednesdays – Morning Coffee Connections0700 hrs (7:00 AM) \nCome for the conversation\, stay for the connection. No agenda — just Veterans supporting Veterans. \nSpread the word and bring a buddy!
URL:https://azveterans.com/event/new-vet-togethers-4/2027-12-15/
LOCATION:THE BUZZED GOAT\, 4302 E RAY RD STE 106\, Phoenix\, 85044\, United States
END:VEVENT
BEGIN:VEVENT
DTSTART;TZID=America/Phoenix:20280105T153000
DTEND;TZID=America/Phoenix:20280105T190000
DTSTAMP:20260423T111744
CREATED:20251126T000219Z
LAST-MODIFIED:20251126T000219Z
UID:10002569-1830699000-1830711600@azveterans.com
SUMMARY:NEW!!! – VET-TOGETHERS
DESCRIPTION:NEW!!! – VET-TOGETHERSOpen to ALL Veterans in the Ahwatukee Community \nJoin us for these informal\, no-host gatherings designed for camaraderie\, connection\, and networking with fellow Veterans right here in our community. \n1st & 4th Wednesdays – Happy Hour Meetups1530–1900 hrs (3:30 PM – 7:00 PM) \n2nd & 3rd Wednesdays – Morning Coffee Connections0700 hrs (7:00 AM) \nCome for the conversation\, stay for the connection. No agenda — just Veterans supporting Veterans. \nSpread the word and bring a buddy!
URL:https://azveterans.com/event/new-vet-togethers/2028-01-05/
LOCATION:THE BUZZED GOAT\, 4302 E RAY RD STE 106\, Phoenix\, 85044\, United States
END:VEVENT
BEGIN:VEVENT
DTSTART;TZID=America/Phoenix:20280112T070000
DTEND;TZID=America/Phoenix:20280112T210000
DTSTAMP:20260423T111744
CREATED:20251126T000353Z
LAST-MODIFIED:20251126T000353Z
UID:10002777-1831273200-1831323600@azveterans.com
SUMMARY:NEW!!! – VET-TOGETHERS
DESCRIPTION:NEW!!! – VET-TOGETHERSOpen to ALL Veterans in the Ahwatukee Community \nJoin us for these informal\, no-host gatherings designed for camaraderie\, connection\, and networking with fellow Veterans right here in our community. \n1st & 4th Wednesdays – Happy Hour Meetups1530–1900 hrs (3:30 PM – 7:00 PM) \n2nd & 3rd Wednesdays – Morning Coffee Connections0700 hrs (7:00 AM) \nCome for the conversation\, stay for the connection. No agenda — just Veterans supporting Veterans. \nSpread the word and bring a buddy!
URL:https://azveterans.com/event/new-vet-togethers-3/2028-01-12/
LOCATION:THE BUZZED GOAT\, 4302 E RAY RD STE 106\, Phoenix\, 85044\, United States
END:VEVENT
BEGIN:VEVENT
DTSTART;TZID=America/Phoenix:20280119T070000
DTEND;TZID=America/Phoenix:20280119T090000
DTSTAMP:20260423T111744
CREATED:20251126T000421Z
LAST-MODIFIED:20260112T034052Z
UID:10002881-1831878000-1831885200@azveterans.com
SUMMARY:NEW!!! – VET-TOGETHERS
DESCRIPTION:NEW!!! – VET-TOGETHERSOpen to ALL Veterans in the Ahwatukee Community\n\nJoin us for these informal\, no-host gatherings designed for camaraderie\, connection\, and networking with fellow Veterans right here in our community. \n1st & 4th Wednesdays – Happy Hour Meetups1530–1900 hrs (3:30 PM – 7:00 PM) \n2nd & 3rd Wednesdays – Morning Coffee Connections0700 hrs (7:00 AM) \nCome for the conversation\, stay for the connection. No agenda — just Veterans supporting Veterans. \nSpread the word and bring a buddy!
URL:https://azveterans.com/event/new-vet-togethers-4/2028-01-19/
LOCATION:THE BUZZED GOAT\, 4302 E RAY RD STE 106\, Phoenix\, 85044\, United States
END:VEVENT
BEGIN:VEVENT
DTSTART;TZID=America/Phoenix:20280202T153000
DTEND;TZID=America/Phoenix:20280202T190000
DTSTAMP:20260423T111744
CREATED:20251126T000219Z
LAST-MODIFIED:20251126T000219Z
UID:10002570-1833118200-1833130800@azveterans.com
SUMMARY:NEW!!! – VET-TOGETHERS
DESCRIPTION:NEW!!! – VET-TOGETHERSOpen to ALL Veterans in the Ahwatukee Community \nJoin us for these informal\, no-host gatherings designed for camaraderie\, connection\, and networking with fellow Veterans right here in our community. \n1st & 4th Wednesdays – Happy Hour Meetups1530–1900 hrs (3:30 PM – 7:00 PM) \n2nd & 3rd Wednesdays – Morning Coffee Connections0700 hrs (7:00 AM) \nCome for the conversation\, stay for the connection. No agenda — just Veterans supporting Veterans. \nSpread the word and bring a buddy!
URL:https://azveterans.com/event/new-vet-togethers/2028-02-02/
LOCATION:THE BUZZED GOAT\, 4302 E RAY RD STE 106\, Phoenix\, 85044\, United States
END:VEVENT
BEGIN:VEVENT
DTSTART;TZID=America/Phoenix:20280209T070000
DTEND;TZID=America/Phoenix:20280209T210000
DTSTAMP:20260423T111744
CREATED:20251126T000353Z
LAST-MODIFIED:20251126T000353Z
UID:10002778-1833692400-1833742800@azveterans.com
SUMMARY:NEW!!! – VET-TOGETHERS
DESCRIPTION:NEW!!! – VET-TOGETHERSOpen to ALL Veterans in the Ahwatukee Community \nJoin us for these informal\, no-host gatherings designed for camaraderie\, connection\, and networking with fellow Veterans right here in our community. \n1st & 4th Wednesdays – Happy Hour Meetups1530–1900 hrs (3:30 PM – 7:00 PM) \n2nd & 3rd Wednesdays – Morning Coffee Connections0700 hrs (7:00 AM) \nCome for the conversation\, stay for the connection. No agenda — just Veterans supporting Veterans. \nSpread the word and bring a buddy!
URL:https://azveterans.com/event/new-vet-togethers-3/2028-02-09/
LOCATION:THE BUZZED GOAT\, 4302 E RAY RD STE 106\, Phoenix\, 85044\, United States
END:VEVENT
BEGIN:VEVENT
DTSTART;TZID=America/Phoenix:20280216T070000
DTEND;TZID=America/Phoenix:20280216T090000
DTSTAMP:20260423T111744
CREATED:20251126T000421Z
LAST-MODIFIED:20260112T034052Z
UID:10002882-1834297200-1834304400@azveterans.com
SUMMARY:NEW!!! – VET-TOGETHERS
DESCRIPTION:NEW!!! – VET-TOGETHERSOpen to ALL Veterans in the Ahwatukee Community\n\nJoin us for these informal\, no-host gatherings designed for camaraderie\, connection\, and networking with fellow Veterans right here in our community. \n1st & 4th Wednesdays – Happy Hour Meetups1530–1900 hrs (3:30 PM – 7:00 PM) \n2nd & 3rd Wednesdays – Morning Coffee Connections0700 hrs (7:00 AM) \nCome for the conversation\, stay for the connection. No agenda — just Veterans supporting Veterans. \nSpread the word and bring a buddy!
URL:https://azveterans.com/event/new-vet-togethers-4/2028-02-16/
LOCATION:THE BUZZED GOAT\, 4302 E RAY RD STE 106\, Phoenix\, 85044\, United States
END:VEVENT
BEGIN:VEVENT
DTSTART;TZID=America/Phoenix:20280301T153000
DTEND;TZID=America/Phoenix:20280301T190000
DTSTAMP:20260423T111744
CREATED:20251126T000219Z
LAST-MODIFIED:20251126T000219Z
UID:10002571-1835537400-1835550000@azveterans.com
SUMMARY:NEW!!! – VET-TOGETHERS
DESCRIPTION:NEW!!! – VET-TOGETHERSOpen to ALL Veterans in the Ahwatukee Community \nJoin us for these informal\, no-host gatherings designed for camaraderie\, connection\, and networking with fellow Veterans right here in our community. \n1st & 4th Wednesdays – Happy Hour Meetups1530–1900 hrs (3:30 PM – 7:00 PM) \n2nd & 3rd Wednesdays – Morning Coffee Connections0700 hrs (7:00 AM) \nCome for the conversation\, stay for the connection. No agenda — just Veterans supporting Veterans. \nSpread the word and bring a buddy!
URL:https://azveterans.com/event/new-vet-togethers/2028-03-01/
LOCATION:THE BUZZED GOAT\, 4302 E RAY RD STE 106\, Phoenix\, 85044\, United States
END:VEVENT
BEGIN:VEVENT
DTSTART;TZID=America/Phoenix:20280308T070000
DTEND;TZID=America/Phoenix:20280308T210000
DTSTAMP:20260423T111744
CREATED:20251126T000353Z
LAST-MODIFIED:20251126T000353Z
UID:10002779-1836111600-1836162000@azveterans.com
SUMMARY:NEW!!! – VET-TOGETHERS
DESCRIPTION:NEW!!! – VET-TOGETHERSOpen to ALL Veterans in the Ahwatukee Community \nJoin us for these informal\, no-host gatherings designed for camaraderie\, connection\, and networking with fellow Veterans right here in our community. \n1st & 4th Wednesdays – Happy Hour Meetups1530–1900 hrs (3:30 PM – 7:00 PM) \n2nd & 3rd Wednesdays – Morning Coffee Connections0700 hrs (7:00 AM) \nCome for the conversation\, stay for the connection. No agenda — just Veterans supporting Veterans. \nSpread the word and bring a buddy!
URL:https://azveterans.com/event/new-vet-togethers-3/2028-03-08/
LOCATION:THE BUZZED GOAT\, 4302 E RAY RD STE 106\, Phoenix\, 85044\, United States
END:VEVENT
END:VCALENDAR