BEGIN:VCALENDAR
VERSION:2.0
PRODID:-//AZ Veterans - ECPv6.15.20//NONSGML v1.0//EN
CALSCALE:GREGORIAN
METHOD:PUBLISH
X-WR-CALNAME:AZ Veterans
X-ORIGINAL-URL:https://azveterans.com
X-WR-CALDESC:Events for AZ Veterans
REFRESH-INTERVAL;VALUE=DURATION:PT1H
X-Robots-Tag:noindex
X-PUBLISHED-TTL:PT1H
BEGIN:VTIMEZONE
TZID:America/Phoenix
BEGIN:STANDARD
TZOFFSETFROM:-0700
TZOFFSETTO:-0700
TZNAME:MST
DTSTART:20290101T000000
END:STANDARD
END:VTIMEZONE
BEGIN:VEVENT
DTSTART;TZID=America/Phoenix:20300313T070000
DTEND;TZID=America/Phoenix:20300313T210000
DTSTAMP:20260419T104439
CREATED:20251126T000353Z
LAST-MODIFIED:20251126T000353Z
UID:10002803-1899615600-1899666000@azveterans.com
SUMMARY:NEW!!! – VET-TOGETHERS
DESCRIPTION:NEW!!! – VET-TOGETHERSOpen to ALL Veterans in the Ahwatukee Community \nJoin us for these informal\, no-host gatherings designed for camaraderie\, connection\, and networking with fellow Veterans right here in our community. \n1st & 4th Wednesdays – Happy Hour Meetups1530–1900 hrs (3:30 PM – 7:00 PM) \n2nd & 3rd Wednesdays – Morning Coffee Connections0700 hrs (7:00 AM) \nCome for the conversation\, stay for the connection. No agenda — just Veterans supporting Veterans. \nSpread the word and bring a buddy!
URL:https://azveterans.com/event/new-vet-togethers-3/2030-03-13/
LOCATION:THE BUZZED GOAT\, 4302 E RAY RD STE 106\, Phoenix\, 85044\, United States
END:VEVENT
BEGIN:VEVENT
DTSTART;TZID=America/Phoenix:20300320T070000
DTEND;TZID=America/Phoenix:20300320T090000
DTSTAMP:20260419T104439
CREATED:20251126T000421Z
LAST-MODIFIED:20260112T034052Z
UID:10002907-1900220400-1900227600@azveterans.com
SUMMARY:NEW!!! – VET-TOGETHERS
DESCRIPTION:NEW!!! – VET-TOGETHERSOpen to ALL Veterans in the Ahwatukee Community\n\nJoin us for these informal\, no-host gatherings designed for camaraderie\, connection\, and networking with fellow Veterans right here in our community. \n1st & 4th Wednesdays – Happy Hour Meetups1530–1900 hrs (3:30 PM – 7:00 PM) \n2nd & 3rd Wednesdays – Morning Coffee Connections0700 hrs (7:00 AM) \nCome for the conversation\, stay for the connection. No agenda — just Veterans supporting Veterans. \nSpread the word and bring a buddy!
URL:https://azveterans.com/event/new-vet-togethers-4/2030-03-20/
LOCATION:THE BUZZED GOAT\, 4302 E RAY RD STE 106\, Phoenix\, 85044\, United States
END:VEVENT
BEGIN:VEVENT
DTSTART;TZID=America/Phoenix:20300327T153000
DTEND;TZID=America/Phoenix:20300327T190000
DTSTAMP:20260419T104439
CREATED:20251126T000304Z
LAST-MODIFIED:20251126T000304Z
UID:10002699-1900855800-1900868400@azveterans.com
SUMMARY:NEW!!! – VET-TOGETHERS
DESCRIPTION:NEW!!! – VET-TOGETHERSOpen to ALL Veterans in the Ahwatukee Community \nJoin us for these informal\, no-host gatherings designed for camaraderie\, connection\, and networking with fellow Veterans right here in our community. \n1st & 4th Wednesdays – Happy Hour Meetups1530–1900 hrs (3:30 PM – 7:00 PM) \n2nd & 3rd Wednesdays – Morning Coffee Connections0700 hrs (7:00 AM) \nCome for the conversation\, stay for the connection. No agenda — just Veterans supporting Veterans. \nSpread the word and bring a buddy!
URL:https://azveterans.com/event/new-vet-togethers-2/2030-03-27/
LOCATION:THE BUZZED GOAT\, 4302 E RAY RD STE 106\, Phoenix\, 85044\, United States
END:VEVENT
BEGIN:VEVENT
DTSTART;TZID=America/Phoenix:20300413T090000
DTEND;TZID=America/Phoenix:20300413T100000
DTSTAMP:20260419T104439
CREATED:20260401T161908Z
LAST-MODIFIED:20260401T161908Z
UID:10003402-1902301200-1902304800@azveterans.com
SUMMARY:COFFEE & DONUTS WITH A VETERAN
DESCRIPTION:Join us for great conversation\, coffee\, and fresh donuts! \nConnect with local veterans and community members in a relaxed\, welcoming setting. \n\nLocation: Drizzle Donuts20311 S Ellsworth Rd Ste 114 • Queen Creek\, AZ \nWhen: 2nd Saturday of Every Month \nTime: 9:00 AM \n☑ Open to Veterans\, Families & Community☑ Meet new people & share stories☑ Enjoy coffee & donuts together \n\nHosted by:Duane Ellsworth American Legion Post 129 \n☑ Open to Veterans\, Families & Community☑ Meet new people & share stories☑ Enjoy coffee & donuts together \n\nThe American Legion Family
URL:https://azveterans.com/event/coffee-donuts-with-a-veteran/2030-04-13/
LOCATION:Drizzle Donuts\, 20311 S Ellsworth Rd Ste 114\, Queen Creek\, 85142\, United States
END:VEVENT
BEGIN:VEVENT
DTSTART;TZID=America/Phoenix:20300511T090000
DTEND;TZID=America/Phoenix:20300511T100000
DTSTAMP:20260419T104439
CREATED:20260401T161908Z
LAST-MODIFIED:20260401T161908Z
UID:10003403-1904720400-1904724000@azveterans.com
SUMMARY:COFFEE & DONUTS WITH A VETERAN
DESCRIPTION:Join us for great conversation\, coffee\, and fresh donuts! \nConnect with local veterans and community members in a relaxed\, welcoming setting. \n\nLocation: Drizzle Donuts20311 S Ellsworth Rd Ste 114 • Queen Creek\, AZ \nWhen: 2nd Saturday of Every Month \nTime: 9:00 AM \n☑ Open to Veterans\, Families & Community☑ Meet new people & share stories☑ Enjoy coffee & donuts together \n\nHosted by:Duane Ellsworth American Legion Post 129 \n☑ Open to Veterans\, Families & Community☑ Meet new people & share stories☑ Enjoy coffee & donuts together \n\nThe American Legion Family
URL:https://azveterans.com/event/coffee-donuts-with-a-veteran/2030-05-11/
LOCATION:Drizzle Donuts\, 20311 S Ellsworth Rd Ste 114\, Queen Creek\, 85142\, United States
END:VEVENT
BEGIN:VEVENT
DTSTART;TZID=America/Phoenix:20300608T090000
DTEND;TZID=America/Phoenix:20300608T100000
DTSTAMP:20260419T104439
CREATED:20260401T161908Z
LAST-MODIFIED:20260401T161908Z
UID:10003404-1907139600-1907143200@azveterans.com
SUMMARY:COFFEE & DONUTS WITH A VETERAN
DESCRIPTION:Join us for great conversation\, coffee\, and fresh donuts! \nConnect with local veterans and community members in a relaxed\, welcoming setting. \n\nLocation: Drizzle Donuts20311 S Ellsworth Rd Ste 114 • Queen Creek\, AZ \nWhen: 2nd Saturday of Every Month \nTime: 9:00 AM \n☑ Open to Veterans\, Families & Community☑ Meet new people & share stories☑ Enjoy coffee & donuts together \n\nHosted by:Duane Ellsworth American Legion Post 129 \n☑ Open to Veterans\, Families & Community☑ Meet new people & share stories☑ Enjoy coffee & donuts together \n\nThe American Legion Family
URL:https://azveterans.com/event/coffee-donuts-with-a-veteran/2030-06-08/
LOCATION:Drizzle Donuts\, 20311 S Ellsworth Rd Ste 114\, Queen Creek\, 85142\, United States
END:VEVENT
BEGIN:VEVENT
DTSTART;TZID=America/Phoenix:20300713T090000
DTEND;TZID=America/Phoenix:20300713T100000
DTSTAMP:20260419T104439
CREATED:20260401T161908Z
LAST-MODIFIED:20260401T161908Z
UID:10003405-1910163600-1910167200@azveterans.com
SUMMARY:COFFEE & DONUTS WITH A VETERAN
DESCRIPTION:Join us for great conversation\, coffee\, and fresh donuts! \nConnect with local veterans and community members in a relaxed\, welcoming setting. \n\nLocation: Drizzle Donuts20311 S Ellsworth Rd Ste 114 • Queen Creek\, AZ \nWhen: 2nd Saturday of Every Month \nTime: 9:00 AM \n☑ Open to Veterans\, Families & Community☑ Meet new people & share stories☑ Enjoy coffee & donuts together \n\nHosted by:Duane Ellsworth American Legion Post 129 \n☑ Open to Veterans\, Families & Community☑ Meet new people & share stories☑ Enjoy coffee & donuts together \n\nThe American Legion Family
URL:https://azveterans.com/event/coffee-donuts-with-a-veteran/2030-07-13/
LOCATION:Drizzle Donuts\, 20311 S Ellsworth Rd Ste 114\, Queen Creek\, 85142\, United States
END:VEVENT
BEGIN:VEVENT
DTSTART;TZID=America/Phoenix:20301109T073000
DTEND;TZID=America/Phoenix:20301109T113000
DTSTAMP:20260419T104439
CREATED:20250605T180853Z
LAST-MODIFIED:20250605T181011Z
UID:10001225-1920439800-1920454200@azveterans.com
SUMMARY:AZ Veterans Day Half Marathon - 10K - 5K - 1M
DESCRIPTION:Join Team RWB Phoenix and StartLine Racing as we host the 13th Annual AZ Veterans Day Run on Sunday\, November 9\, 2025 at the Peoria Sports Complex! This year will feature a Half Marathon\, 10K\, 5K and 1M distances. Whether you are a competitive runner\, a casual runner looking to run your first event\, or just looking for a fun\, family activity on a beautiful morning\, all ages and ability levels are welcome! A Portion of the proceeds will go directly to Team Red\, White and Blue. Team RWB’s mission is to enrich the lives of America’s veterans by connecting them to their community through physical and social activity.
URL:https://azveterans.com/event/az-veterans-day-half-marathon-10k-5k-1m/2030-11-09/
LOCATION:Peoria Sports Complex\, 16101 N 83rd Avenue\, Peoria\, 85382\, United States
ORGANIZER;CN="StartLine Racing":MAILTO:info@startlineracing.com
END:VEVENT
BEGIN:VEVENT
DTSTART;TZID=America/Phoenix:20301109T110000
DTEND;TZID=America/Phoenix:20301109T170000
DTSTAMP:20260419T104439
CREATED:20251104T235335Z
LAST-MODIFIED:20251104T235335Z
UID:10002533-1920452400-1920474000@azveterans.com
SUMMARY:GEM CITY VETERANS DAY CELEBRATION
DESCRIPTION:It’s time for the second annual Veterans Day Celebration\, ano this year we are stoked to be joined by even more veteran owned businesses and nonprofits! We also have a great lineup of beverages for everyone to enjoy\, as well as amazing food. Dixxon Flannel *Mental Joe Apparel *Vet Tix *Freedom Trek Expeditions *Home Of Record Project Strap Film Lab *Arizona Mountain Guides *Veterclean Moving Team Six *East Valley Powdercoast *The Armory Happy Dad Hard Seltzer Divini F3 Energy Cider Corps Az Distilling The Shop Beer Co Oro Brewing Stone Brewing Coronado Brewing
URL:https://azveterans.com/event/gem-city-veterans-day-celebration/2030-11-09/
LOCATION:Cider Corps – Mesa\, AZ\, 31 S Robson Suite 103\, Mesa\, AZ\, 85210\, United States
END:VEVENT
BEGIN:VEVENT
DTSTART;TZID=America/Phoenix:20301130T073000
DTEND;TZID=America/Phoenix:20301130T120000
DTSTAMP:20260419T104439
CREATED:20251005T185941Z
LAST-MODIFIED:20251005T185941Z
UID:10002507-1922254200-1922270400@azveterans.com
SUMMARY:Ruck 4 Freedom
DESCRIPTION:5k\, 10k Run/Walk + ruck division. Designed by an Army Mom to bring the community together to walk with our Veterans and First Responders in honor of FREEDOM.
URL:https://azveterans.com/event/ruck-4-freedom/2030-11-30/
LOCATION:Horseshoe Park in Queen Creek AZ\, 20464 E Riggs Rd\, Queen Creek\, 85142\, United States
ORGANIZER;CN="Jen Hilderbrand":MAILTO:jen@hopegives.net
END:VEVENT
BEGIN:VEVENT
DTSTART;TZID=America/Phoenix:20311108T110000
DTEND;TZID=America/Phoenix:20311108T170000
DTSTAMP:20260419T104439
CREATED:20251104T235335Z
LAST-MODIFIED:20251104T235335Z
UID:10002534-1951902000-1951923600@azveterans.com
SUMMARY:GEM CITY VETERANS DAY CELEBRATION
DESCRIPTION:It’s time for the second annual Veterans Day Celebration\, ano this year we are stoked to be joined by even more veteran owned businesses and nonprofits! We also have a great lineup of beverages for everyone to enjoy\, as well as amazing food. Dixxon Flannel *Mental Joe Apparel *Vet Tix *Freedom Trek Expeditions *Home Of Record Project Strap Film Lab *Arizona Mountain Guides *Veterclean Moving Team Six *East Valley Powdercoast *The Armory Happy Dad Hard Seltzer Divini F3 Energy Cider Corps Az Distilling The Shop Beer Co Oro Brewing Stone Brewing Coronado Brewing
URL:https://azveterans.com/event/gem-city-veterans-day-celebration/2031-11-08/
LOCATION:Cider Corps – Mesa\, AZ\, 31 S Robson Suite 103\, Mesa\, AZ\, 85210\, United States
END:VEVENT
BEGIN:VEVENT
DTSTART;TZID=America/Phoenix:20311109T073000
DTEND;TZID=America/Phoenix:20311109T113000
DTSTAMP:20260419T104439
CREATED:20250605T180853Z
LAST-MODIFIED:20250605T181011Z
UID:10001226-1951975800-1951990200@azveterans.com
SUMMARY:AZ Veterans Day Half Marathon - 10K - 5K - 1M
DESCRIPTION:Join Team RWB Phoenix and StartLine Racing as we host the 13th Annual AZ Veterans Day Run on Sunday\, November 9\, 2025 at the Peoria Sports Complex! This year will feature a Half Marathon\, 10K\, 5K and 1M distances. Whether you are a competitive runner\, a casual runner looking to run your first event\, or just looking for a fun\, family activity on a beautiful morning\, all ages and ability levels are welcome! A Portion of the proceeds will go directly to Team Red\, White and Blue. Team RWB’s mission is to enrich the lives of America’s veterans by connecting them to their community through physical and social activity.
URL:https://azveterans.com/event/az-veterans-day-half-marathon-10k-5k-1m/2031-11-09/
LOCATION:Peoria Sports Complex\, 16101 N 83rd Avenue\, Peoria\, 85382\, United States
ORGANIZER;CN="StartLine Racing":MAILTO:info@startlineracing.com
END:VEVENT
BEGIN:VEVENT
DTSTART;TZID=America/Phoenix:20311129T073000
DTEND;TZID=America/Phoenix:20311129T120000
DTSTAMP:20260419T104439
CREATED:20251005T185941Z
LAST-MODIFIED:20251005T185941Z
UID:10002508-1953703800-1953720000@azveterans.com
SUMMARY:Ruck 4 Freedom
DESCRIPTION:5k\, 10k Run/Walk + ruck division. Designed by an Army Mom to bring the community together to walk with our Veterans and First Responders in honor of FREEDOM.
URL:https://azveterans.com/event/ruck-4-freedom/2031-11-29/
LOCATION:Horseshoe Park in Queen Creek AZ\, 20464 E Riggs Rd\, Queen Creek\, 85142\, United States
ORGANIZER;CN="Jen Hilderbrand":MAILTO:jen@hopegives.net
END:VEVENT
BEGIN:VEVENT
DTSTART;TZID=America/Phoenix:20321109T073000
DTEND;TZID=America/Phoenix:20321109T113000
DTSTAMP:20260419T104439
CREATED:20250605T180853Z
LAST-MODIFIED:20250605T181011Z
UID:10001227-1983598200-1983612600@azveterans.com
SUMMARY:AZ Veterans Day Half Marathon - 10K - 5K - 1M
DESCRIPTION:Join Team RWB Phoenix and StartLine Racing as we host the 13th Annual AZ Veterans Day Run on Sunday\, November 9\, 2025 at the Peoria Sports Complex! This year will feature a Half Marathon\, 10K\, 5K and 1M distances. Whether you are a competitive runner\, a casual runner looking to run your first event\, or just looking for a fun\, family activity on a beautiful morning\, all ages and ability levels are welcome! A Portion of the proceeds will go directly to Team Red\, White and Blue. Team RWB’s mission is to enrich the lives of America’s veterans by connecting them to their community through physical and social activity.
URL:https://azveterans.com/event/az-veterans-day-half-marathon-10k-5k-1m/2032-11-09/
LOCATION:Peoria Sports Complex\, 16101 N 83rd Avenue\, Peoria\, 85382\, United States
ORGANIZER;CN="StartLine Racing":MAILTO:info@startlineracing.com
END:VEVENT
BEGIN:VEVENT
DTSTART;TZID=America/Phoenix:20321113T110000
DTEND;TZID=America/Phoenix:20321113T170000
DTSTAMP:20260419T104439
CREATED:20251104T235335Z
LAST-MODIFIED:20251104T235335Z
UID:10002535-1983956400-1983978000@azveterans.com
SUMMARY:GEM CITY VETERANS DAY CELEBRATION
DESCRIPTION:It’s time for the second annual Veterans Day Celebration\, ano this year we are stoked to be joined by even more veteran owned businesses and nonprofits! We also have a great lineup of beverages for everyone to enjoy\, as well as amazing food. Dixxon Flannel *Mental Joe Apparel *Vet Tix *Freedom Trek Expeditions *Home Of Record Project Strap Film Lab *Arizona Mountain Guides *Veterclean Moving Team Six *East Valley Powdercoast *The Armory Happy Dad Hard Seltzer Divini F3 Energy Cider Corps Az Distilling The Shop Beer Co Oro Brewing Stone Brewing Coronado Brewing
URL:https://azveterans.com/event/gem-city-veterans-day-celebration/2032-11-13/
LOCATION:Cider Corps – Mesa\, AZ\, 31 S Robson Suite 103\, Mesa\, AZ\, 85210\, United States
END:VEVENT
BEGIN:VEVENT
DTSTART;TZID=America/Phoenix:20331109T073000
DTEND;TZID=America/Phoenix:20331109T113000
DTSTAMP:20260419T104439
CREATED:20250605T180853Z
LAST-MODIFIED:20250605T181011Z
UID:10001228-2015134200-2015148600@azveterans.com
SUMMARY:AZ Veterans Day Half Marathon - 10K - 5K - 1M
DESCRIPTION:Join Team RWB Phoenix and StartLine Racing as we host the 13th Annual AZ Veterans Day Run on Sunday\, November 9\, 2025 at the Peoria Sports Complex! This year will feature a Half Marathon\, 10K\, 5K and 1M distances. Whether you are a competitive runner\, a casual runner looking to run your first event\, or just looking for a fun\, family activity on a beautiful morning\, all ages and ability levels are welcome! A Portion of the proceeds will go directly to Team Red\, White and Blue. Team RWB’s mission is to enrich the lives of America’s veterans by connecting them to their community through physical and social activity.
URL:https://azveterans.com/event/az-veterans-day-half-marathon-10k-5k-1m/2033-11-09/
LOCATION:Peoria Sports Complex\, 16101 N 83rd Avenue\, Peoria\, 85382\, United States
ORGANIZER;CN="StartLine Racing":MAILTO:info@startlineracing.com
END:VEVENT
BEGIN:VEVENT
DTSTART;TZID=America/Phoenix:20331112T110000
DTEND;TZID=America/Phoenix:20331112T170000
DTSTAMP:20260419T104439
CREATED:20251104T235335Z
LAST-MODIFIED:20251104T235335Z
UID:10002536-2015406000-2015427600@azveterans.com
SUMMARY:GEM CITY VETERANS DAY CELEBRATION
DESCRIPTION:It’s time for the second annual Veterans Day Celebration\, ano this year we are stoked to be joined by even more veteran owned businesses and nonprofits! We also have a great lineup of beverages for everyone to enjoy\, as well as amazing food. Dixxon Flannel *Mental Joe Apparel *Vet Tix *Freedom Trek Expeditions *Home Of Record Project Strap Film Lab *Arizona Mountain Guides *Veterclean Moving Team Six *East Valley Powdercoast *The Armory Happy Dad Hard Seltzer Divini F3 Energy Cider Corps Az Distilling The Shop Beer Co Oro Brewing Stone Brewing Coronado Brewing
URL:https://azveterans.com/event/gem-city-veterans-day-celebration/2033-11-12/
LOCATION:Cider Corps – Mesa\, AZ\, 31 S Robson Suite 103\, Mesa\, AZ\, 85210\, United States
END:VEVENT
BEGIN:VEVENT
DTSTART;TZID=America/Phoenix:20341109T073000
DTEND;TZID=America/Phoenix:20341109T113000
DTSTAMP:20260419T104439
CREATED:20250605T180853Z
LAST-MODIFIED:20250605T181011Z
UID:10001229-2046670200-2046684600@azveterans.com
SUMMARY:AZ Veterans Day Half Marathon - 10K - 5K - 1M
DESCRIPTION:Join Team RWB Phoenix and StartLine Racing as we host the 13th Annual AZ Veterans Day Run on Sunday\, November 9\, 2025 at the Peoria Sports Complex! This year will feature a Half Marathon\, 10K\, 5K and 1M distances. Whether you are a competitive runner\, a casual runner looking to run your first event\, or just looking for a fun\, family activity on a beautiful morning\, all ages and ability levels are welcome! A Portion of the proceeds will go directly to Team Red\, White and Blue. Team RWB’s mission is to enrich the lives of America’s veterans by connecting them to their community through physical and social activity.
URL:https://azveterans.com/event/az-veterans-day-half-marathon-10k-5k-1m/2034-11-09/
LOCATION:Peoria Sports Complex\, 16101 N 83rd Avenue\, Peoria\, 85382\, United States
ORGANIZER;CN="StartLine Racing":MAILTO:info@startlineracing.com
END:VEVENT
BEGIN:VEVENT
DTSTART;TZID=America/Phoenix:20341111T110000
DTEND;TZID=America/Phoenix:20341111T170000
DTSTAMP:20260419T104439
CREATED:20251104T235335Z
LAST-MODIFIED:20251104T235335Z
UID:10002537-2046855600-2046877200@azveterans.com
SUMMARY:GEM CITY VETERANS DAY CELEBRATION
DESCRIPTION:It’s time for the second annual Veterans Day Celebration\, ano this year we are stoked to be joined by even more veteran owned businesses and nonprofits! We also have a great lineup of beverages for everyone to enjoy\, as well as amazing food. Dixxon Flannel *Mental Joe Apparel *Vet Tix *Freedom Trek Expeditions *Home Of Record Project Strap Film Lab *Arizona Mountain Guides *Veterclean Moving Team Six *East Valley Powdercoast *The Armory Happy Dad Hard Seltzer Divini F3 Energy Cider Corps Az Distilling The Shop Beer Co Oro Brewing Stone Brewing Coronado Brewing
URL:https://azveterans.com/event/gem-city-veterans-day-celebration/2034-11-11/
LOCATION:Cider Corps – Mesa\, AZ\, 31 S Robson Suite 103\, Mesa\, AZ\, 85210\, United States
END:VEVENT
BEGIN:VEVENT
DTSTART;TZID=America/Phoenix:20361129T073000
DTEND;TZID=America/Phoenix:20361129T120000
DTSTAMP:20260419T104439
CREATED:20251005T185941Z
LAST-MODIFIED:20251005T185941Z
UID:10002509-2111556600-2111572800@azveterans.com
SUMMARY:Ruck 4 Freedom
DESCRIPTION:5k\, 10k Run/Walk + ruck division. Designed by an Army Mom to bring the community together to walk with our Veterans and First Responders in honor of FREEDOM.
URL:https://azveterans.com/event/ruck-4-freedom/2036-11-29/
LOCATION:Horseshoe Park in Queen Creek AZ\, 20464 E Riggs Rd\, Queen Creek\, 85142\, United States
ORGANIZER;CN="Jen Hilderbrand":MAILTO:jen@hopegives.net
END:VEVENT
BEGIN:VEVENT
DTSTART;TZID=America/Phoenix:20411130T073000
DTEND;TZID=America/Phoenix:20411130T120000
DTSTAMP:20260419T104439
CREATED:20251005T185941Z
LAST-MODIFIED:20251005T185941Z
UID:10002510-2269409400-2269425600@azveterans.com
SUMMARY:Ruck 4 Freedom
DESCRIPTION:5k\, 10k Run/Walk + ruck division. Designed by an Army Mom to bring the community together to walk with our Veterans and First Responders in honor of FREEDOM.
URL:https://azveterans.com/event/ruck-4-freedom/2041-11-30/
LOCATION:Horseshoe Park in Queen Creek AZ\, 20464 E Riggs Rd\, Queen Creek\, 85142\, United States
ORGANIZER;CN="Jen Hilderbrand":MAILTO:jen@hopegives.net
END:VEVENT
BEGIN:VEVENT
DTSTART;TZID=America/Phoenix:20421129T073000
DTEND;TZID=America/Phoenix:20421129T120000
DTSTAMP:20260419T104439
CREATED:20251005T185941Z
LAST-MODIFIED:20251005T185941Z
UID:10002511-2300859000-2300875200@azveterans.com
SUMMARY:Ruck 4 Freedom
DESCRIPTION:5k\, 10k Run/Walk + ruck division. Designed by an Army Mom to bring the community together to walk with our Veterans and First Responders in honor of FREEDOM.
URL:https://azveterans.com/event/ruck-4-freedom/2042-11-29/
LOCATION:Horseshoe Park in Queen Creek AZ\, 20464 E Riggs Rd\, Queen Creek\, 85142\, United States
ORGANIZER;CN="Jen Hilderbrand":MAILTO:jen@hopegives.net
END:VEVENT
BEGIN:VEVENT
DTSTART;TZID=America/Phoenix:20471130T073000
DTEND;TZID=America/Phoenix:20471130T120000
DTSTAMP:20260419T104439
CREATED:20251005T185941Z
LAST-MODIFIED:20251005T185941Z
UID:10002512-2458711800-2458728000@azveterans.com
SUMMARY:Ruck 4 Freedom
DESCRIPTION:5k\, 10k Run/Walk + ruck division. Designed by an Army Mom to bring the community together to walk with our Veterans and First Responders in honor of FREEDOM.
URL:https://azveterans.com/event/ruck-4-freedom/2047-11-30/
LOCATION:Horseshoe Park in Queen Creek AZ\, 20464 E Riggs Rd\, Queen Creek\, 85142\, United States
ORGANIZER;CN="Jen Hilderbrand":MAILTO:jen@hopegives.net
END:VEVENT
BEGIN:VEVENT
DTSTART;TZID=America/Phoenix:20521130T073000
DTEND;TZID=America/Phoenix:20521130T120000
DTSTAMP:20260419T104439
CREATED:20251005T185941Z
LAST-MODIFIED:20251005T185941Z
UID:10002513-2616564600-2616580800@azveterans.com
SUMMARY:Ruck 4 Freedom
DESCRIPTION:5k\, 10k Run/Walk + ruck division. Designed by an Army Mom to bring the community together to walk with our Veterans and First Responders in honor of FREEDOM.
URL:https://azveterans.com/event/ruck-4-freedom/2052-11-30/
LOCATION:Horseshoe Park in Queen Creek AZ\, 20464 E Riggs Rd\, Queen Creek\, 85142\, United States
ORGANIZER;CN="Jen Hilderbrand":MAILTO:jen@hopegives.net
END:VEVENT
BEGIN:VEVENT
DTSTART;TZID=America/Phoenix:20531129T073000
DTEND;TZID=America/Phoenix:20531129T120000
DTSTAMP:20260419T104439
CREATED:20251005T185941Z
LAST-MODIFIED:20251005T185941Z
UID:10002514-2648014200-2648030400@azveterans.com
SUMMARY:Ruck 4 Freedom
DESCRIPTION:5k\, 10k Run/Walk + ruck division. Designed by an Army Mom to bring the community together to walk with our Veterans and First Responders in honor of FREEDOM.
URL:https://azveterans.com/event/ruck-4-freedom/2053-11-29/
LOCATION:Horseshoe Park in Queen Creek AZ\, 20464 E Riggs Rd\, Queen Creek\, 85142\, United States
ORGANIZER;CN="Jen Hilderbrand":MAILTO:jen@hopegives.net
END:VEVENT
BEGIN:VEVENT
DTSTART;TZID=America/Phoenix:20581130T073000
DTEND;TZID=America/Phoenix:20581130T120000
DTSTAMP:20260419T104439
CREATED:20251005T185941Z
LAST-MODIFIED:20251005T185941Z
UID:10002515-2805867000-2805883200@azveterans.com
SUMMARY:Ruck 4 Freedom
DESCRIPTION:5k\, 10k Run/Walk + ruck division. Designed by an Army Mom to bring the community together to walk with our Veterans and First Responders in honor of FREEDOM.
URL:https://azveterans.com/event/ruck-4-freedom/2058-11-30/
LOCATION:Horseshoe Park in Queen Creek AZ\, 20464 E Riggs Rd\, Queen Creek\, 85142\, United States
ORGANIZER;CN="Jen Hilderbrand":MAILTO:jen@hopegives.net
END:VEVENT
END:VCALENDAR