BEGIN:VCALENDAR
VERSION:2.0
PRODID:-//AZ Veterans - ECPv6.15.20//NONSGML v1.0//EN
CALSCALE:GREGORIAN
METHOD:PUBLISH
X-ORIGINAL-URL:https://azveterans.com
X-WR-CALDESC:Events for AZ Veterans
REFRESH-INTERVAL;VALUE=DURATION:PT1H
X-Robots-Tag:noindex
X-PUBLISHED-TTL:PT1H
BEGIN:VTIMEZONE
TZID:America/Phoenix
BEGIN:STANDARD
TZOFFSETFROM:-0700
TZOFFSETTO:-0700
TZNAME:MST
DTSTART:20250101T000000
END:STANDARD
END:VTIMEZONE
BEGIN:VEVENT
DTSTART;TZID=America/Phoenix:20261104T153000
DTEND;TZID=America/Phoenix:20261104T190000
DTSTAMP:20260423T093633
CREATED:20251126T000219Z
LAST-MODIFIED:20251126T000219Z
UID:10002555-1793806200-1793818800@azveterans.com
SUMMARY:NEW!!! – VET-TOGETHERS
DESCRIPTION:NEW!!! – VET-TOGETHERSOpen to ALL Veterans in the Ahwatukee Community \nJoin us for these informal\, no-host gatherings designed for camaraderie\, connection\, and networking with fellow Veterans right here in our community. \n1st & 4th Wednesdays – Happy Hour Meetups1530–1900 hrs (3:30 PM – 7:00 PM) \n2nd & 3rd Wednesdays – Morning Coffee Connections0700 hrs (7:00 AM) \nCome for the conversation\, stay for the connection. No agenda — just Veterans supporting Veterans. \nSpread the word and bring a buddy!
URL:https://azveterans.com/event/new-vet-togethers/2026-11-04/
LOCATION:THE BUZZED GOAT\, 4302 E RAY RD STE 106\, Phoenix\, 85044\, United States
END:VEVENT
BEGIN:VEVENT
DTSTART;TZID=America/Phoenix:20261111T070000
DTEND;TZID=America/Phoenix:20261111T210000
DTSTAMP:20260423T093633
CREATED:20251126T000353Z
LAST-MODIFIED:20251126T000353Z
UID:10002763-1794380400-1794430800@azveterans.com
SUMMARY:NEW!!! – VET-TOGETHERS
DESCRIPTION:NEW!!! – VET-TOGETHERSOpen to ALL Veterans in the Ahwatukee Community \nJoin us for these informal\, no-host gatherings designed for camaraderie\, connection\, and networking with fellow Veterans right here in our community. \n1st & 4th Wednesdays – Happy Hour Meetups1530–1900 hrs (3:30 PM – 7:00 PM) \n2nd & 3rd Wednesdays – Morning Coffee Connections0700 hrs (7:00 AM) \nCome for the conversation\, stay for the connection. No agenda — just Veterans supporting Veterans. \nSpread the word and bring a buddy!
URL:https://azveterans.com/event/new-vet-togethers-3/2026-11-11/
LOCATION:THE BUZZED GOAT\, 4302 E RAY RD STE 106\, Phoenix\, 85044\, United States
END:VEVENT
BEGIN:VEVENT
DTSTART;TZID=America/Phoenix:20261118T070000
DTEND;TZID=America/Phoenix:20261118T090000
DTSTAMP:20260423T093633
CREATED:20251126T000421Z
LAST-MODIFIED:20260112T034052Z
UID:10002867-1794985200-1794992400@azveterans.com
SUMMARY:NEW!!! – VET-TOGETHERS
DESCRIPTION:NEW!!! – VET-TOGETHERSOpen to ALL Veterans in the Ahwatukee Community\n\nJoin us for these informal\, no-host gatherings designed for camaraderie\, connection\, and networking with fellow Veterans right here in our community. \n1st & 4th Wednesdays – Happy Hour Meetups1530–1900 hrs (3:30 PM – 7:00 PM) \n2nd & 3rd Wednesdays – Morning Coffee Connections0700 hrs (7:00 AM) \nCome for the conversation\, stay for the connection. No agenda — just Veterans supporting Veterans. \nSpread the word and bring a buddy!
URL:https://azveterans.com/event/new-vet-togethers-4/2026-11-18/
LOCATION:THE BUZZED GOAT\, 4302 E RAY RD STE 106\, Phoenix\, 85044\, United States
END:VEVENT
BEGIN:VEVENT
DTSTART;TZID=America/Phoenix:20261202T153000
DTEND;TZID=America/Phoenix:20261202T190000
DTSTAMP:20260423T093633
CREATED:20251126T000219Z
LAST-MODIFIED:20251126T000219Z
UID:10002556-1796225400-1796238000@azveterans.com
SUMMARY:NEW!!! – VET-TOGETHERS
DESCRIPTION:NEW!!! – VET-TOGETHERSOpen to ALL Veterans in the Ahwatukee Community \nJoin us for these informal\, no-host gatherings designed for camaraderie\, connection\, and networking with fellow Veterans right here in our community. \n1st & 4th Wednesdays – Happy Hour Meetups1530–1900 hrs (3:30 PM – 7:00 PM) \n2nd & 3rd Wednesdays – Morning Coffee Connections0700 hrs (7:00 AM) \nCome for the conversation\, stay for the connection. No agenda — just Veterans supporting Veterans. \nSpread the word and bring a buddy!
URL:https://azveterans.com/event/new-vet-togethers/2026-12-02/
LOCATION:THE BUZZED GOAT\, 4302 E RAY RD STE 106\, Phoenix\, 85044\, United States
END:VEVENT
BEGIN:VEVENT
DTSTART;TZID=America/Phoenix:20261209T070000
DTEND;TZID=America/Phoenix:20261209T210000
DTSTAMP:20260423T093633
CREATED:20251126T000353Z
LAST-MODIFIED:20251126T000353Z
UID:10002764-1796799600-1796850000@azveterans.com
SUMMARY:NEW!!! – VET-TOGETHERS
DESCRIPTION:NEW!!! – VET-TOGETHERSOpen to ALL Veterans in the Ahwatukee Community \nJoin us for these informal\, no-host gatherings designed for camaraderie\, connection\, and networking with fellow Veterans right here in our community. \n1st & 4th Wednesdays – Happy Hour Meetups1530–1900 hrs (3:30 PM – 7:00 PM) \n2nd & 3rd Wednesdays – Morning Coffee Connections0700 hrs (7:00 AM) \nCome for the conversation\, stay for the connection. No agenda — just Veterans supporting Veterans. \nSpread the word and bring a buddy!
URL:https://azveterans.com/event/new-vet-togethers-3/2026-12-09/
LOCATION:THE BUZZED GOAT\, 4302 E RAY RD STE 106\, Phoenix\, 85044\, United States
END:VEVENT
BEGIN:VEVENT
DTSTART;TZID=America/Phoenix:20261216T070000
DTEND;TZID=America/Phoenix:20261216T090000
DTSTAMP:20260423T093633
CREATED:20251126T000421Z
LAST-MODIFIED:20260112T034052Z
UID:10002868-1797404400-1797411600@azveterans.com
SUMMARY:NEW!!! – VET-TOGETHERS
DESCRIPTION:NEW!!! – VET-TOGETHERSOpen to ALL Veterans in the Ahwatukee Community\n\nJoin us for these informal\, no-host gatherings designed for camaraderie\, connection\, and networking with fellow Veterans right here in our community. \n1st & 4th Wednesdays – Happy Hour Meetups1530–1900 hrs (3:30 PM – 7:00 PM) \n2nd & 3rd Wednesdays – Morning Coffee Connections0700 hrs (7:00 AM) \nCome for the conversation\, stay for the connection. No agenda — just Veterans supporting Veterans. \nSpread the word and bring a buddy!
URL:https://azveterans.com/event/new-vet-togethers-4/2026-12-16/
LOCATION:THE BUZZED GOAT\, 4302 E RAY RD STE 106\, Phoenix\, 85044\, United States
END:VEVENT
BEGIN:VEVENT
DTSTART;TZID=America/Phoenix:20270106T153000
DTEND;TZID=America/Phoenix:20270106T190000
DTSTAMP:20260423T093633
CREATED:20251126T000219Z
LAST-MODIFIED:20251126T000219Z
UID:10002557-1799249400-1799262000@azveterans.com
SUMMARY:NEW!!! – VET-TOGETHERS
DESCRIPTION:NEW!!! – VET-TOGETHERSOpen to ALL Veterans in the Ahwatukee Community \nJoin us for these informal\, no-host gatherings designed for camaraderie\, connection\, and networking with fellow Veterans right here in our community. \n1st & 4th Wednesdays – Happy Hour Meetups1530–1900 hrs (3:30 PM – 7:00 PM) \n2nd & 3rd Wednesdays – Morning Coffee Connections0700 hrs (7:00 AM) \nCome for the conversation\, stay for the connection. No agenda — just Veterans supporting Veterans. \nSpread the word and bring a buddy!
URL:https://azveterans.com/event/new-vet-togethers/2027-01-06/
LOCATION:THE BUZZED GOAT\, 4302 E RAY RD STE 106\, Phoenix\, 85044\, United States
END:VEVENT
BEGIN:VEVENT
DTSTART;TZID=America/Phoenix:20270113T070000
DTEND;TZID=America/Phoenix:20270113T210000
DTSTAMP:20260423T093633
CREATED:20251126T000353Z
LAST-MODIFIED:20251126T000353Z
UID:10002765-1799823600-1799874000@azveterans.com
SUMMARY:NEW!!! – VET-TOGETHERS
DESCRIPTION:NEW!!! – VET-TOGETHERSOpen to ALL Veterans in the Ahwatukee Community \nJoin us for these informal\, no-host gatherings designed for camaraderie\, connection\, and networking with fellow Veterans right here in our community. \n1st & 4th Wednesdays – Happy Hour Meetups1530–1900 hrs (3:30 PM – 7:00 PM) \n2nd & 3rd Wednesdays – Morning Coffee Connections0700 hrs (7:00 AM) \nCome for the conversation\, stay for the connection. No agenda — just Veterans supporting Veterans. \nSpread the word and bring a buddy!
URL:https://azveterans.com/event/new-vet-togethers-3/2027-01-13/
LOCATION:THE BUZZED GOAT\, 4302 E RAY RD STE 106\, Phoenix\, 85044\, United States
END:VEVENT
BEGIN:VEVENT
DTSTART;TZID=America/Phoenix:20270120T070000
DTEND;TZID=America/Phoenix:20270120T090000
DTSTAMP:20260423T093633
CREATED:20251126T000421Z
LAST-MODIFIED:20260112T034052Z
UID:10002869-1800428400-1800435600@azveterans.com
SUMMARY:NEW!!! – VET-TOGETHERS
DESCRIPTION:NEW!!! – VET-TOGETHERSOpen to ALL Veterans in the Ahwatukee Community\n\nJoin us for these informal\, no-host gatherings designed for camaraderie\, connection\, and networking with fellow Veterans right here in our community. \n1st & 4th Wednesdays – Happy Hour Meetups1530–1900 hrs (3:30 PM – 7:00 PM) \n2nd & 3rd Wednesdays – Morning Coffee Connections0700 hrs (7:00 AM) \nCome for the conversation\, stay for the connection. No agenda — just Veterans supporting Veterans. \nSpread the word and bring a buddy!
URL:https://azveterans.com/event/new-vet-togethers-4/2027-01-20/
LOCATION:THE BUZZED GOAT\, 4302 E RAY RD STE 106\, Phoenix\, 85044\, United States
END:VEVENT
BEGIN:VEVENT
DTSTART;TZID=America/Phoenix:20270203T153000
DTEND;TZID=America/Phoenix:20270203T190000
DTSTAMP:20260423T093633
CREATED:20251126T000219Z
LAST-MODIFIED:20251126T000219Z
UID:10002558-1801668600-1801681200@azveterans.com
SUMMARY:NEW!!! – VET-TOGETHERS
DESCRIPTION:NEW!!! – VET-TOGETHERSOpen to ALL Veterans in the Ahwatukee Community \nJoin us for these informal\, no-host gatherings designed for camaraderie\, connection\, and networking with fellow Veterans right here in our community. \n1st & 4th Wednesdays – Happy Hour Meetups1530–1900 hrs (3:30 PM – 7:00 PM) \n2nd & 3rd Wednesdays – Morning Coffee Connections0700 hrs (7:00 AM) \nCome for the conversation\, stay for the connection. No agenda — just Veterans supporting Veterans. \nSpread the word and bring a buddy!
URL:https://azveterans.com/event/new-vet-togethers/2027-02-03/
LOCATION:THE BUZZED GOAT\, 4302 E RAY RD STE 106\, Phoenix\, 85044\, United States
END:VEVENT
BEGIN:VEVENT
DTSTART;TZID=America/Phoenix:20270210T070000
DTEND;TZID=America/Phoenix:20270210T210000
DTSTAMP:20260423T093633
CREATED:20251126T000353Z
LAST-MODIFIED:20251126T000353Z
UID:10002766-1802242800-1802293200@azveterans.com
SUMMARY:NEW!!! – VET-TOGETHERS
DESCRIPTION:NEW!!! – VET-TOGETHERSOpen to ALL Veterans in the Ahwatukee Community \nJoin us for these informal\, no-host gatherings designed for camaraderie\, connection\, and networking with fellow Veterans right here in our community. \n1st & 4th Wednesdays – Happy Hour Meetups1530–1900 hrs (3:30 PM – 7:00 PM) \n2nd & 3rd Wednesdays – Morning Coffee Connections0700 hrs (7:00 AM) \nCome for the conversation\, stay for the connection. No agenda — just Veterans supporting Veterans. \nSpread the word and bring a buddy!
URL:https://azveterans.com/event/new-vet-togethers-3/2027-02-10/
LOCATION:THE BUZZED GOAT\, 4302 E RAY RD STE 106\, Phoenix\, 85044\, United States
END:VEVENT
BEGIN:VEVENT
DTSTART;TZID=America/Phoenix:20270217T070000
DTEND;TZID=America/Phoenix:20270217T090000
DTSTAMP:20260423T093633
CREATED:20251126T000421Z
LAST-MODIFIED:20260112T034052Z
UID:10002870-1802847600-1802854800@azveterans.com
SUMMARY:NEW!!! – VET-TOGETHERS
DESCRIPTION:NEW!!! – VET-TOGETHERSOpen to ALL Veterans in the Ahwatukee Community\n\nJoin us for these informal\, no-host gatherings designed for camaraderie\, connection\, and networking with fellow Veterans right here in our community. \n1st & 4th Wednesdays – Happy Hour Meetups1530–1900 hrs (3:30 PM – 7:00 PM) \n2nd & 3rd Wednesdays – Morning Coffee Connections0700 hrs (7:00 AM) \nCome for the conversation\, stay for the connection. No agenda — just Veterans supporting Veterans. \nSpread the word and bring a buddy!
URL:https://azveterans.com/event/new-vet-togethers-4/2027-02-17/
LOCATION:THE BUZZED GOAT\, 4302 E RAY RD STE 106\, Phoenix\, 85044\, United States
END:VEVENT
BEGIN:VEVENT
DTSTART;TZID=America/Phoenix:20270303T153000
DTEND;TZID=America/Phoenix:20270303T190000
DTSTAMP:20260423T093633
CREATED:20251126T000219Z
LAST-MODIFIED:20251126T000219Z
UID:10002559-1804087800-1804100400@azveterans.com
SUMMARY:NEW!!! – VET-TOGETHERS
DESCRIPTION:NEW!!! – VET-TOGETHERSOpen to ALL Veterans in the Ahwatukee Community \nJoin us for these informal\, no-host gatherings designed for camaraderie\, connection\, and networking with fellow Veterans right here in our community. \n1st & 4th Wednesdays – Happy Hour Meetups1530–1900 hrs (3:30 PM – 7:00 PM) \n2nd & 3rd Wednesdays – Morning Coffee Connections0700 hrs (7:00 AM) \nCome for the conversation\, stay for the connection. No agenda — just Veterans supporting Veterans. \nSpread the word and bring a buddy!
URL:https://azveterans.com/event/new-vet-togethers/2027-03-03/
LOCATION:THE BUZZED GOAT\, 4302 E RAY RD STE 106\, Phoenix\, 85044\, United States
END:VEVENT
BEGIN:VEVENT
DTSTART;TZID=America/Phoenix:20270310T070000
DTEND;TZID=America/Phoenix:20270310T210000
DTSTAMP:20260423T093633
CREATED:20251126T000353Z
LAST-MODIFIED:20251126T000353Z
UID:10002767-1804662000-1804712400@azveterans.com
SUMMARY:NEW!!! – VET-TOGETHERS
DESCRIPTION:NEW!!! – VET-TOGETHERSOpen to ALL Veterans in the Ahwatukee Community \nJoin us for these informal\, no-host gatherings designed for camaraderie\, connection\, and networking with fellow Veterans right here in our community. \n1st & 4th Wednesdays – Happy Hour Meetups1530–1900 hrs (3:30 PM – 7:00 PM) \n2nd & 3rd Wednesdays – Morning Coffee Connections0700 hrs (7:00 AM) \nCome for the conversation\, stay for the connection. No agenda — just Veterans supporting Veterans. \nSpread the word and bring a buddy!
URL:https://azveterans.com/event/new-vet-togethers-3/2027-03-10/
LOCATION:THE BUZZED GOAT\, 4302 E RAY RD STE 106\, Phoenix\, 85044\, United States
END:VEVENT
BEGIN:VEVENT
DTSTART;TZID=America/Phoenix:20270317T070000
DTEND;TZID=America/Phoenix:20270317T090000
DTSTAMP:20260423T093633
CREATED:20251126T000421Z
LAST-MODIFIED:20260112T034052Z
UID:10002871-1805266800-1805274000@azveterans.com
SUMMARY:NEW!!! – VET-TOGETHERS
DESCRIPTION:NEW!!! – VET-TOGETHERSOpen to ALL Veterans in the Ahwatukee Community\n\nJoin us for these informal\, no-host gatherings designed for camaraderie\, connection\, and networking with fellow Veterans right here in our community. \n1st & 4th Wednesdays – Happy Hour Meetups1530–1900 hrs (3:30 PM – 7:00 PM) \n2nd & 3rd Wednesdays – Morning Coffee Connections0700 hrs (7:00 AM) \nCome for the conversation\, stay for the connection. No agenda — just Veterans supporting Veterans. \nSpread the word and bring a buddy!
URL:https://azveterans.com/event/new-vet-togethers-4/2027-03-17/
LOCATION:THE BUZZED GOAT\, 4302 E RAY RD STE 106\, Phoenix\, 85044\, United States
END:VEVENT
BEGIN:VEVENT
DTSTART;TZID=America/Phoenix:20270407T153000
DTEND;TZID=America/Phoenix:20270407T190000
DTSTAMP:20260423T093633
CREATED:20251126T000219Z
LAST-MODIFIED:20251126T000219Z
UID:10002560-1807111800-1807124400@azveterans.com
SUMMARY:NEW!!! – VET-TOGETHERS
DESCRIPTION:NEW!!! – VET-TOGETHERSOpen to ALL Veterans in the Ahwatukee Community \nJoin us for these informal\, no-host gatherings designed for camaraderie\, connection\, and networking with fellow Veterans right here in our community. \n1st & 4th Wednesdays – Happy Hour Meetups1530–1900 hrs (3:30 PM – 7:00 PM) \n2nd & 3rd Wednesdays – Morning Coffee Connections0700 hrs (7:00 AM) \nCome for the conversation\, stay for the connection. No agenda — just Veterans supporting Veterans. \nSpread the word and bring a buddy!
URL:https://azveterans.com/event/new-vet-togethers/2027-04-07/
LOCATION:THE BUZZED GOAT\, 4302 E RAY RD STE 106\, Phoenix\, 85044\, United States
END:VEVENT
BEGIN:VEVENT
DTSTART;TZID=America/Phoenix:20270414T070000
DTEND;TZID=America/Phoenix:20270414T210000
DTSTAMP:20260423T093633
CREATED:20251126T000353Z
LAST-MODIFIED:20251126T000353Z
UID:10002768-1807686000-1807736400@azveterans.com
SUMMARY:NEW!!! – VET-TOGETHERS
DESCRIPTION:NEW!!! – VET-TOGETHERSOpen to ALL Veterans in the Ahwatukee Community \nJoin us for these informal\, no-host gatherings designed for camaraderie\, connection\, and networking with fellow Veterans right here in our community. \n1st & 4th Wednesdays – Happy Hour Meetups1530–1900 hrs (3:30 PM – 7:00 PM) \n2nd & 3rd Wednesdays – Morning Coffee Connections0700 hrs (7:00 AM) \nCome for the conversation\, stay for the connection. No agenda — just Veterans supporting Veterans. \nSpread the word and bring a buddy!
URL:https://azveterans.com/event/new-vet-togethers-3/2027-04-14/
LOCATION:THE BUZZED GOAT\, 4302 E RAY RD STE 106\, Phoenix\, 85044\, United States
END:VEVENT
BEGIN:VEVENT
DTSTART;TZID=America/Phoenix:20270421T070000
DTEND;TZID=America/Phoenix:20270421T090000
DTSTAMP:20260423T093633
CREATED:20251126T000421Z
LAST-MODIFIED:20260112T034052Z
UID:10002872-1808290800-1808298000@azveterans.com
SUMMARY:NEW!!! – VET-TOGETHERS
DESCRIPTION:NEW!!! – VET-TOGETHERSOpen to ALL Veterans in the Ahwatukee Community\n\nJoin us for these informal\, no-host gatherings designed for camaraderie\, connection\, and networking with fellow Veterans right here in our community. \n1st & 4th Wednesdays – Happy Hour Meetups1530–1900 hrs (3:30 PM – 7:00 PM) \n2nd & 3rd Wednesdays – Morning Coffee Connections0700 hrs (7:00 AM) \nCome for the conversation\, stay for the connection. No agenda — just Veterans supporting Veterans. \nSpread the word and bring a buddy!
URL:https://azveterans.com/event/new-vet-togethers-4/2027-04-21/
LOCATION:THE BUZZED GOAT\, 4302 E RAY RD STE 106\, Phoenix\, 85044\, United States
END:VEVENT
BEGIN:VEVENT
DTSTART;TZID=America/Phoenix:20270505T153000
DTEND;TZID=America/Phoenix:20270505T190000
DTSTAMP:20260423T093633
CREATED:20251126T000219Z
LAST-MODIFIED:20251126T000219Z
UID:10002561-1809531000-1809543600@azveterans.com
SUMMARY:NEW!!! – VET-TOGETHERS
DESCRIPTION:NEW!!! – VET-TOGETHERSOpen to ALL Veterans in the Ahwatukee Community \nJoin us for these informal\, no-host gatherings designed for camaraderie\, connection\, and networking with fellow Veterans right here in our community. \n1st & 4th Wednesdays – Happy Hour Meetups1530–1900 hrs (3:30 PM – 7:00 PM) \n2nd & 3rd Wednesdays – Morning Coffee Connections0700 hrs (7:00 AM) \nCome for the conversation\, stay for the connection. No agenda — just Veterans supporting Veterans. \nSpread the word and bring a buddy!
URL:https://azveterans.com/event/new-vet-togethers/2027-05-05/
LOCATION:THE BUZZED GOAT\, 4302 E RAY RD STE 106\, Phoenix\, 85044\, United States
END:VEVENT
BEGIN:VEVENT
DTSTART;TZID=America/Phoenix:20270512T070000
DTEND;TZID=America/Phoenix:20270512T210000
DTSTAMP:20260423T093633
CREATED:20251126T000353Z
LAST-MODIFIED:20251126T000353Z
UID:10002769-1810105200-1810155600@azveterans.com
SUMMARY:NEW!!! – VET-TOGETHERS
DESCRIPTION:NEW!!! – VET-TOGETHERSOpen to ALL Veterans in the Ahwatukee Community \nJoin us for these informal\, no-host gatherings designed for camaraderie\, connection\, and networking with fellow Veterans right here in our community. \n1st & 4th Wednesdays – Happy Hour Meetups1530–1900 hrs (3:30 PM – 7:00 PM) \n2nd & 3rd Wednesdays – Morning Coffee Connections0700 hrs (7:00 AM) \nCome for the conversation\, stay for the connection. No agenda — just Veterans supporting Veterans. \nSpread the word and bring a buddy!
URL:https://azveterans.com/event/new-vet-togethers-3/2027-05-12/
LOCATION:THE BUZZED GOAT\, 4302 E RAY RD STE 106\, Phoenix\, 85044\, United States
END:VEVENT
BEGIN:VEVENT
DTSTART;TZID=America/Phoenix:20270519T070000
DTEND;TZID=America/Phoenix:20270519T090000
DTSTAMP:20260423T093633
CREATED:20251126T000421Z
LAST-MODIFIED:20260112T034052Z
UID:10002873-1810710000-1810717200@azveterans.com
SUMMARY:NEW!!! – VET-TOGETHERS
DESCRIPTION:NEW!!! – VET-TOGETHERSOpen to ALL Veterans in the Ahwatukee Community\n\nJoin us for these informal\, no-host gatherings designed for camaraderie\, connection\, and networking with fellow Veterans right here in our community. \n1st & 4th Wednesdays – Happy Hour Meetups1530–1900 hrs (3:30 PM – 7:00 PM) \n2nd & 3rd Wednesdays – Morning Coffee Connections0700 hrs (7:00 AM) \nCome for the conversation\, stay for the connection. No agenda — just Veterans supporting Veterans. \nSpread the word and bring a buddy!
URL:https://azveterans.com/event/new-vet-togethers-4/2027-05-19/
LOCATION:THE BUZZED GOAT\, 4302 E RAY RD STE 106\, Phoenix\, 85044\, United States
END:VEVENT
BEGIN:VEVENT
DTSTART;TZID=America/Phoenix:20270602T153000
DTEND;TZID=America/Phoenix:20270602T190000
DTSTAMP:20260423T093633
CREATED:20251126T000219Z
LAST-MODIFIED:20251126T000219Z
UID:10002562-1811950200-1811962800@azveterans.com
SUMMARY:NEW!!! – VET-TOGETHERS
DESCRIPTION:NEW!!! – VET-TOGETHERSOpen to ALL Veterans in the Ahwatukee Community \nJoin us for these informal\, no-host gatherings designed for camaraderie\, connection\, and networking with fellow Veterans right here in our community. \n1st & 4th Wednesdays – Happy Hour Meetups1530–1900 hrs (3:30 PM – 7:00 PM) \n2nd & 3rd Wednesdays – Morning Coffee Connections0700 hrs (7:00 AM) \nCome for the conversation\, stay for the connection. No agenda — just Veterans supporting Veterans. \nSpread the word and bring a buddy!
URL:https://azveterans.com/event/new-vet-togethers/2027-06-02/
LOCATION:THE BUZZED GOAT\, 4302 E RAY RD STE 106\, Phoenix\, 85044\, United States
END:VEVENT
BEGIN:VEVENT
DTSTART;TZID=America/Phoenix:20270609T070000
DTEND;TZID=America/Phoenix:20270609T210000
DTSTAMP:20260423T093633
CREATED:20251126T000353Z
LAST-MODIFIED:20251126T000353Z
UID:10002770-1812524400-1812574800@azveterans.com
SUMMARY:NEW!!! – VET-TOGETHERS
DESCRIPTION:NEW!!! – VET-TOGETHERSOpen to ALL Veterans in the Ahwatukee Community \nJoin us for these informal\, no-host gatherings designed for camaraderie\, connection\, and networking with fellow Veterans right here in our community. \n1st & 4th Wednesdays – Happy Hour Meetups1530–1900 hrs (3:30 PM – 7:00 PM) \n2nd & 3rd Wednesdays – Morning Coffee Connections0700 hrs (7:00 AM) \nCome for the conversation\, stay for the connection. No agenda — just Veterans supporting Veterans. \nSpread the word and bring a buddy!
URL:https://azveterans.com/event/new-vet-togethers-3/2027-06-09/
LOCATION:THE BUZZED GOAT\, 4302 E RAY RD STE 106\, Phoenix\, 85044\, United States
END:VEVENT
BEGIN:VEVENT
DTSTART;TZID=America/Phoenix:20270616T070000
DTEND;TZID=America/Phoenix:20270616T090000
DTSTAMP:20260423T093633
CREATED:20251126T000421Z
LAST-MODIFIED:20260112T034052Z
UID:10002874-1813129200-1813136400@azveterans.com
SUMMARY:NEW!!! – VET-TOGETHERS
DESCRIPTION:NEW!!! – VET-TOGETHERSOpen to ALL Veterans in the Ahwatukee Community\n\nJoin us for these informal\, no-host gatherings designed for camaraderie\, connection\, and networking with fellow Veterans right here in our community. \n1st & 4th Wednesdays – Happy Hour Meetups1530–1900 hrs (3:30 PM – 7:00 PM) \n2nd & 3rd Wednesdays – Morning Coffee Connections0700 hrs (7:00 AM) \nCome for the conversation\, stay for the connection. No agenda — just Veterans supporting Veterans. \nSpread the word and bring a buddy!
URL:https://azveterans.com/event/new-vet-togethers-4/2027-06-16/
LOCATION:THE BUZZED GOAT\, 4302 E RAY RD STE 106\, Phoenix\, 85044\, United States
END:VEVENT
BEGIN:VEVENT
DTSTART;TZID=America/Phoenix:20270707T153000
DTEND;TZID=America/Phoenix:20270707T190000
DTSTAMP:20260423T093633
CREATED:20251126T000219Z
LAST-MODIFIED:20251126T000219Z
UID:10002563-1814974200-1814986800@azveterans.com
SUMMARY:NEW!!! – VET-TOGETHERS
DESCRIPTION:NEW!!! – VET-TOGETHERSOpen to ALL Veterans in the Ahwatukee Community \nJoin us for these informal\, no-host gatherings designed for camaraderie\, connection\, and networking with fellow Veterans right here in our community. \n1st & 4th Wednesdays – Happy Hour Meetups1530–1900 hrs (3:30 PM – 7:00 PM) \n2nd & 3rd Wednesdays – Morning Coffee Connections0700 hrs (7:00 AM) \nCome for the conversation\, stay for the connection. No agenda — just Veterans supporting Veterans. \nSpread the word and bring a buddy!
URL:https://azveterans.com/event/new-vet-togethers/2027-07-07/
LOCATION:THE BUZZED GOAT\, 4302 E RAY RD STE 106\, Phoenix\, 85044\, United States
END:VEVENT
BEGIN:VEVENT
DTSTART;TZID=America/Phoenix:20270714T070000
DTEND;TZID=America/Phoenix:20270714T210000
DTSTAMP:20260423T093633
CREATED:20251126T000353Z
LAST-MODIFIED:20251126T000353Z
UID:10002771-1815548400-1815598800@azveterans.com
SUMMARY:NEW!!! – VET-TOGETHERS
DESCRIPTION:NEW!!! – VET-TOGETHERSOpen to ALL Veterans in the Ahwatukee Community \nJoin us for these informal\, no-host gatherings designed for camaraderie\, connection\, and networking with fellow Veterans right here in our community. \n1st & 4th Wednesdays – Happy Hour Meetups1530–1900 hrs (3:30 PM – 7:00 PM) \n2nd & 3rd Wednesdays – Morning Coffee Connections0700 hrs (7:00 AM) \nCome for the conversation\, stay for the connection. No agenda — just Veterans supporting Veterans. \nSpread the word and bring a buddy!
URL:https://azveterans.com/event/new-vet-togethers-3/2027-07-14/
LOCATION:THE BUZZED GOAT\, 4302 E RAY RD STE 106\, Phoenix\, 85044\, United States
END:VEVENT
BEGIN:VEVENT
DTSTART;TZID=America/Phoenix:20270721T070000
DTEND;TZID=America/Phoenix:20270721T090000
DTSTAMP:20260423T093633
CREATED:20251126T000421Z
LAST-MODIFIED:20260112T034052Z
UID:10002875-1816153200-1816160400@azveterans.com
SUMMARY:NEW!!! – VET-TOGETHERS
DESCRIPTION:NEW!!! – VET-TOGETHERSOpen to ALL Veterans in the Ahwatukee Community\n\nJoin us for these informal\, no-host gatherings designed for camaraderie\, connection\, and networking with fellow Veterans right here in our community. \n1st & 4th Wednesdays – Happy Hour Meetups1530–1900 hrs (3:30 PM – 7:00 PM) \n2nd & 3rd Wednesdays – Morning Coffee Connections0700 hrs (7:00 AM) \nCome for the conversation\, stay for the connection. No agenda — just Veterans supporting Veterans. \nSpread the word and bring a buddy!
URL:https://azveterans.com/event/new-vet-togethers-4/2027-07-21/
LOCATION:THE BUZZED GOAT\, 4302 E RAY RD STE 106\, Phoenix\, 85044\, United States
END:VEVENT
BEGIN:VEVENT
DTSTART;TZID=America/Phoenix:20270804T153000
DTEND;TZID=America/Phoenix:20270804T190000
DTSTAMP:20260423T093633
CREATED:20251126T000219Z
LAST-MODIFIED:20251126T000219Z
UID:10002564-1817393400-1817406000@azveterans.com
SUMMARY:NEW!!! – VET-TOGETHERS
DESCRIPTION:NEW!!! – VET-TOGETHERSOpen to ALL Veterans in the Ahwatukee Community \nJoin us for these informal\, no-host gatherings designed for camaraderie\, connection\, and networking with fellow Veterans right here in our community. \n1st & 4th Wednesdays – Happy Hour Meetups1530–1900 hrs (3:30 PM – 7:00 PM) \n2nd & 3rd Wednesdays – Morning Coffee Connections0700 hrs (7:00 AM) \nCome for the conversation\, stay for the connection. No agenda — just Veterans supporting Veterans. \nSpread the word and bring a buddy!
URL:https://azveterans.com/event/new-vet-togethers/2027-08-04/
LOCATION:THE BUZZED GOAT\, 4302 E RAY RD STE 106\, Phoenix\, 85044\, United States
END:VEVENT
BEGIN:VEVENT
DTSTART;TZID=America/Phoenix:20270811T070000
DTEND;TZID=America/Phoenix:20270811T210000
DTSTAMP:20260423T093633
CREATED:20251126T000353Z
LAST-MODIFIED:20251126T000353Z
UID:10002772-1817967600-1818018000@azveterans.com
SUMMARY:NEW!!! – VET-TOGETHERS
DESCRIPTION:NEW!!! – VET-TOGETHERSOpen to ALL Veterans in the Ahwatukee Community \nJoin us for these informal\, no-host gatherings designed for camaraderie\, connection\, and networking with fellow Veterans right here in our community. \n1st & 4th Wednesdays – Happy Hour Meetups1530–1900 hrs (3:30 PM – 7:00 PM) \n2nd & 3rd Wednesdays – Morning Coffee Connections0700 hrs (7:00 AM) \nCome for the conversation\, stay for the connection. No agenda — just Veterans supporting Veterans. \nSpread the word and bring a buddy!
URL:https://azveterans.com/event/new-vet-togethers-3/2027-08-11/
LOCATION:THE BUZZED GOAT\, 4302 E RAY RD STE 106\, Phoenix\, 85044\, United States
END:VEVENT
BEGIN:VEVENT
DTSTART;TZID=America/Phoenix:20270818T070000
DTEND;TZID=America/Phoenix:20270818T090000
DTSTAMP:20260423T093633
CREATED:20251126T000421Z
LAST-MODIFIED:20260112T034052Z
UID:10002876-1818572400-1818579600@azveterans.com
SUMMARY:NEW!!! – VET-TOGETHERS
DESCRIPTION:NEW!!! – VET-TOGETHERSOpen to ALL Veterans in the Ahwatukee Community\n\nJoin us for these informal\, no-host gatherings designed for camaraderie\, connection\, and networking with fellow Veterans right here in our community. \n1st & 4th Wednesdays – Happy Hour Meetups1530–1900 hrs (3:30 PM – 7:00 PM) \n2nd & 3rd Wednesdays – Morning Coffee Connections0700 hrs (7:00 AM) \nCome for the conversation\, stay for the connection. No agenda — just Veterans supporting Veterans. \nSpread the word and bring a buddy!
URL:https://azveterans.com/event/new-vet-togethers-4/2027-08-18/
LOCATION:THE BUZZED GOAT\, 4302 E RAY RD STE 106\, Phoenix\, 85044\, United States
END:VEVENT
END:VCALENDAR