BEGIN:VCALENDAR
VERSION:2.0
PRODID:-//AZ Veterans - ECPv6.15.20//NONSGML v1.0//EN
CALSCALE:GREGORIAN
METHOD:PUBLISH
X-ORIGINAL-URL:https://azveterans.com
X-WR-CALDESC:Events for AZ Veterans
REFRESH-INTERVAL;VALUE=DURATION:PT1H
X-Robots-Tag:noindex
X-PUBLISHED-TTL:PT1H
BEGIN:VTIMEZONE
TZID:America/Phoenix
BEGIN:STANDARD
TZOFFSETFROM:-0700
TZOFFSETTO:-0700
TZNAME:MST
DTSTART:20250101T000000
END:STANDARD
END:VTIMEZONE
BEGIN:VEVENT
DTSTART;TZID=America/Phoenix:20260421T100000
DTEND;TZID=America/Phoenix:20260421T140000
DTSTAMP:20260420T134730
CREATED:20250417T174851Z
LAST-MODIFIED:20250417T183328Z
UID:10000101-1776765600-1776780000@azveterans.com
SUMMARY:VETERANS OUTREACH - Snowflake
DESCRIPTION:SERVICES TO BE OFFERED \n\n\nTRIAGE AND BASIC HEALTH SCREENINGS \n\n\nEMERGENCY FOOD BOXES \n\n\nVETERAN BENEFITS – COMPENSATION & PENSION \n\n\nMEDICARE SPECIALISTS \n\n\nVETERAN WORKFORCE \n\n\nHEALTH INSURANCE AND NUTRITION BENEFIT SPECIALIST \n\n\nASSISTANCE CONNECTING TO SOCIAL SECURITY \n\n\nFOR MORE INFORMATION:MARTY JARVEY 928-369-8455FISHERSFORVETERANS@GMAIL.COM
URL:https://azveterans.com/event/veterans-outreach-snowflake/2026-04-21/
LOCATION:CEDAR HILLS SENIOR CENTER\, 9419 E CONCHO HWY\, Snowflake\, AZ\, 85937\, United States
ORGANIZER;CN="FISHERS OF MEN FOR VETERANS":MAILTO:FISHERSFORVETERANS@GMAIL.COM
END:VEVENT
BEGIN:VEVENT
DTSTART;TZID=America/Phoenix:20260519T100000
DTEND;TZID=America/Phoenix:20260519T140000
DTSTAMP:20260420T134730
CREATED:20250417T174851Z
LAST-MODIFIED:20250417T183328Z
UID:10000102-1779184800-1779199200@azveterans.com
SUMMARY:VETERANS OUTREACH - Snowflake
DESCRIPTION:SERVICES TO BE OFFERED \n\n\nTRIAGE AND BASIC HEALTH SCREENINGS \n\n\nEMERGENCY FOOD BOXES \n\n\nVETERAN BENEFITS – COMPENSATION & PENSION \n\n\nMEDICARE SPECIALISTS \n\n\nVETERAN WORKFORCE \n\n\nHEALTH INSURANCE AND NUTRITION BENEFIT SPECIALIST \n\n\nASSISTANCE CONNECTING TO SOCIAL SECURITY \n\n\nFOR MORE INFORMATION:MARTY JARVEY 928-369-8455FISHERSFORVETERANS@GMAIL.COM
URL:https://azveterans.com/event/veterans-outreach-snowflake/2026-05-19/
LOCATION:CEDAR HILLS SENIOR CENTER\, 9419 E CONCHO HWY\, Snowflake\, AZ\, 85937\, United States
ORGANIZER;CN="FISHERS OF MEN FOR VETERANS":MAILTO:FISHERSFORVETERANS@GMAIL.COM
END:VEVENT
BEGIN:VEVENT
DTSTART;TZID=America/Phoenix:20260616T100000
DTEND;TZID=America/Phoenix:20260616T140000
DTSTAMP:20260420T134730
CREATED:20250417T174851Z
LAST-MODIFIED:20250417T183328Z
UID:10000103-1781604000-1781618400@azveterans.com
SUMMARY:VETERANS OUTREACH - Snowflake
DESCRIPTION:SERVICES TO BE OFFERED \n\n\nTRIAGE AND BASIC HEALTH SCREENINGS \n\n\nEMERGENCY FOOD BOXES \n\n\nVETERAN BENEFITS – COMPENSATION & PENSION \n\n\nMEDICARE SPECIALISTS \n\n\nVETERAN WORKFORCE \n\n\nHEALTH INSURANCE AND NUTRITION BENEFIT SPECIALIST \n\n\nASSISTANCE CONNECTING TO SOCIAL SECURITY \n\n\nFOR MORE INFORMATION:MARTY JARVEY 928-369-8455FISHERSFORVETERANS@GMAIL.COM
URL:https://azveterans.com/event/veterans-outreach-snowflake/2026-06-16/
LOCATION:CEDAR HILLS SENIOR CENTER\, 9419 E CONCHO HWY\, Snowflake\, AZ\, 85937\, United States
ORGANIZER;CN="FISHERS OF MEN FOR VETERANS":MAILTO:FISHERSFORVETERANS@GMAIL.COM
END:VEVENT
BEGIN:VEVENT
DTSTART;TZID=America/Phoenix:20260721T100000
DTEND;TZID=America/Phoenix:20260721T140000
DTSTAMP:20260420T134730
CREATED:20250417T174851Z
LAST-MODIFIED:20250417T183328Z
UID:10000104-1784628000-1784642400@azveterans.com
SUMMARY:VETERANS OUTREACH - Snowflake
DESCRIPTION:SERVICES TO BE OFFERED \n\n\nTRIAGE AND BASIC HEALTH SCREENINGS \n\n\nEMERGENCY FOOD BOXES \n\n\nVETERAN BENEFITS – COMPENSATION & PENSION \n\n\nMEDICARE SPECIALISTS \n\n\nVETERAN WORKFORCE \n\n\nHEALTH INSURANCE AND NUTRITION BENEFIT SPECIALIST \n\n\nASSISTANCE CONNECTING TO SOCIAL SECURITY \n\n\nFOR MORE INFORMATION:MARTY JARVEY 928-369-8455FISHERSFORVETERANS@GMAIL.COM
URL:https://azveterans.com/event/veterans-outreach-snowflake/2026-07-21/
LOCATION:CEDAR HILLS SENIOR CENTER\, 9419 E CONCHO HWY\, Snowflake\, AZ\, 85937\, United States
ORGANIZER;CN="FISHERS OF MEN FOR VETERANS":MAILTO:FISHERSFORVETERANS@GMAIL.COM
END:VEVENT
BEGIN:VEVENT
DTSTART;TZID=America/Phoenix:20260818T100000
DTEND;TZID=America/Phoenix:20260818T140000
DTSTAMP:20260420T134730
CREATED:20250417T174851Z
LAST-MODIFIED:20250417T183328Z
UID:10000105-1787047200-1787061600@azveterans.com
SUMMARY:VETERANS OUTREACH - Snowflake
DESCRIPTION:SERVICES TO BE OFFERED \n\n\nTRIAGE AND BASIC HEALTH SCREENINGS \n\n\nEMERGENCY FOOD BOXES \n\n\nVETERAN BENEFITS – COMPENSATION & PENSION \n\n\nMEDICARE SPECIALISTS \n\n\nVETERAN WORKFORCE \n\n\nHEALTH INSURANCE AND NUTRITION BENEFIT SPECIALIST \n\n\nASSISTANCE CONNECTING TO SOCIAL SECURITY \n\n\nFOR MORE INFORMATION:MARTY JARVEY 928-369-8455FISHERSFORVETERANS@GMAIL.COM
URL:https://azveterans.com/event/veterans-outreach-snowflake/2026-08-18/
LOCATION:CEDAR HILLS SENIOR CENTER\, 9419 E CONCHO HWY\, Snowflake\, AZ\, 85937\, United States
ORGANIZER;CN="FISHERS OF MEN FOR VETERANS":MAILTO:FISHERSFORVETERANS@GMAIL.COM
END:VEVENT
BEGIN:VEVENT
DTSTART;TZID=America/Phoenix:20260915T100000
DTEND;TZID=America/Phoenix:20260915T140000
DTSTAMP:20260420T134730
CREATED:20250417T174851Z
LAST-MODIFIED:20250417T183328Z
UID:10000106-1789466400-1789480800@azveterans.com
SUMMARY:VETERANS OUTREACH - Snowflake
DESCRIPTION:SERVICES TO BE OFFERED \n\n\nTRIAGE AND BASIC HEALTH SCREENINGS \n\n\nEMERGENCY FOOD BOXES \n\n\nVETERAN BENEFITS – COMPENSATION & PENSION \n\n\nMEDICARE SPECIALISTS \n\n\nVETERAN WORKFORCE \n\n\nHEALTH INSURANCE AND NUTRITION BENEFIT SPECIALIST \n\n\nASSISTANCE CONNECTING TO SOCIAL SECURITY \n\n\nFOR MORE INFORMATION:MARTY JARVEY 928-369-8455FISHERSFORVETERANS@GMAIL.COM
URL:https://azveterans.com/event/veterans-outreach-snowflake/2026-09-15/
LOCATION:CEDAR HILLS SENIOR CENTER\, 9419 E CONCHO HWY\, Snowflake\, AZ\, 85937\, United States
ORGANIZER;CN="FISHERS OF MEN FOR VETERANS":MAILTO:FISHERSFORVETERANS@GMAIL.COM
END:VEVENT
BEGIN:VEVENT
DTSTART;TZID=America/Phoenix:20261020T100000
DTEND;TZID=America/Phoenix:20261020T140000
DTSTAMP:20260420T134730
CREATED:20250417T174851Z
LAST-MODIFIED:20250417T183328Z
UID:10000107-1792490400-1792504800@azveterans.com
SUMMARY:VETERANS OUTREACH - Snowflake
DESCRIPTION:SERVICES TO BE OFFERED \n\n\nTRIAGE AND BASIC HEALTH SCREENINGS \n\n\nEMERGENCY FOOD BOXES \n\n\nVETERAN BENEFITS – COMPENSATION & PENSION \n\n\nMEDICARE SPECIALISTS \n\n\nVETERAN WORKFORCE \n\n\nHEALTH INSURANCE AND NUTRITION BENEFIT SPECIALIST \n\n\nASSISTANCE CONNECTING TO SOCIAL SECURITY \n\n\nFOR MORE INFORMATION:MARTY JARVEY 928-369-8455FISHERSFORVETERANS@GMAIL.COM
URL:https://azveterans.com/event/veterans-outreach-snowflake/2026-10-20/
LOCATION:CEDAR HILLS SENIOR CENTER\, 9419 E CONCHO HWY\, Snowflake\, AZ\, 85937\, United States
ORGANIZER;CN="FISHERS OF MEN FOR VETERANS":MAILTO:FISHERSFORVETERANS@GMAIL.COM
END:VEVENT
BEGIN:VEVENT
DTSTART;TZID=America/Phoenix:20261117T100000
DTEND;TZID=America/Phoenix:20261117T140000
DTSTAMP:20260420T134730
CREATED:20250417T174851Z
LAST-MODIFIED:20250417T183328Z
UID:10000108-1794909600-1794924000@azveterans.com
SUMMARY:VETERANS OUTREACH - Snowflake
DESCRIPTION:SERVICES TO BE OFFERED \n\n\nTRIAGE AND BASIC HEALTH SCREENINGS \n\n\nEMERGENCY FOOD BOXES \n\n\nVETERAN BENEFITS – COMPENSATION & PENSION \n\n\nMEDICARE SPECIALISTS \n\n\nVETERAN WORKFORCE \n\n\nHEALTH INSURANCE AND NUTRITION BENEFIT SPECIALIST \n\n\nASSISTANCE CONNECTING TO SOCIAL SECURITY \n\n\nFOR MORE INFORMATION:MARTY JARVEY 928-369-8455FISHERSFORVETERANS@GMAIL.COM
URL:https://azveterans.com/event/veterans-outreach-snowflake/2026-11-17/
LOCATION:CEDAR HILLS SENIOR CENTER\, 9419 E CONCHO HWY\, Snowflake\, AZ\, 85937\, United States
ORGANIZER;CN="FISHERS OF MEN FOR VETERANS":MAILTO:FISHERSFORVETERANS@GMAIL.COM
END:VEVENT
BEGIN:VEVENT
DTSTART;TZID=America/Phoenix:20261215T100000
DTEND;TZID=America/Phoenix:20261215T140000
DTSTAMP:20260420T134730
CREATED:20250417T174851Z
LAST-MODIFIED:20250417T183328Z
UID:10000109-1797328800-1797343200@azveterans.com
SUMMARY:VETERANS OUTREACH - Snowflake
DESCRIPTION:SERVICES TO BE OFFERED \n\n\nTRIAGE AND BASIC HEALTH SCREENINGS \n\n\nEMERGENCY FOOD BOXES \n\n\nVETERAN BENEFITS – COMPENSATION & PENSION \n\n\nMEDICARE SPECIALISTS \n\n\nVETERAN WORKFORCE \n\n\nHEALTH INSURANCE AND NUTRITION BENEFIT SPECIALIST \n\n\nASSISTANCE CONNECTING TO SOCIAL SECURITY \n\n\nFOR MORE INFORMATION:MARTY JARVEY 928-369-8455FISHERSFORVETERANS@GMAIL.COM
URL:https://azveterans.com/event/veterans-outreach-snowflake/2026-12-15/
LOCATION:CEDAR HILLS SENIOR CENTER\, 9419 E CONCHO HWY\, Snowflake\, AZ\, 85937\, United States
ORGANIZER;CN="FISHERS OF MEN FOR VETERANS":MAILTO:FISHERSFORVETERANS@GMAIL.COM
END:VEVENT
BEGIN:VEVENT
DTSTART;TZID=America/Phoenix:20270119T100000
DTEND;TZID=America/Phoenix:20270119T140000
DTSTAMP:20260420T134730
CREATED:20250417T174851Z
LAST-MODIFIED:20250417T183328Z
UID:10000110-1800352800-1800367200@azveterans.com
SUMMARY:VETERANS OUTREACH - Snowflake
DESCRIPTION:SERVICES TO BE OFFERED \n\n\nTRIAGE AND BASIC HEALTH SCREENINGS \n\n\nEMERGENCY FOOD BOXES \n\n\nVETERAN BENEFITS – COMPENSATION & PENSION \n\n\nMEDICARE SPECIALISTS \n\n\nVETERAN WORKFORCE \n\n\nHEALTH INSURANCE AND NUTRITION BENEFIT SPECIALIST \n\n\nASSISTANCE CONNECTING TO SOCIAL SECURITY \n\n\nFOR MORE INFORMATION:MARTY JARVEY 928-369-8455FISHERSFORVETERANS@GMAIL.COM
URL:https://azveterans.com/event/veterans-outreach-snowflake/2027-01-19/
LOCATION:CEDAR HILLS SENIOR CENTER\, 9419 E CONCHO HWY\, Snowflake\, AZ\, 85937\, United States
ORGANIZER;CN="FISHERS OF MEN FOR VETERANS":MAILTO:FISHERSFORVETERANS@GMAIL.COM
END:VEVENT
BEGIN:VEVENT
DTSTART;TZID=America/Phoenix:20270216T100000
DTEND;TZID=America/Phoenix:20270216T140000
DTSTAMP:20260420T134730
CREATED:20250417T174851Z
LAST-MODIFIED:20250417T183328Z
UID:10000111-1802772000-1802786400@azveterans.com
SUMMARY:VETERANS OUTREACH - Snowflake
DESCRIPTION:SERVICES TO BE OFFERED \n\n\nTRIAGE AND BASIC HEALTH SCREENINGS \n\n\nEMERGENCY FOOD BOXES \n\n\nVETERAN BENEFITS – COMPENSATION & PENSION \n\n\nMEDICARE SPECIALISTS \n\n\nVETERAN WORKFORCE \n\n\nHEALTH INSURANCE AND NUTRITION BENEFIT SPECIALIST \n\n\nASSISTANCE CONNECTING TO SOCIAL SECURITY \n\n\nFOR MORE INFORMATION:MARTY JARVEY 928-369-8455FISHERSFORVETERANS@GMAIL.COM
URL:https://azveterans.com/event/veterans-outreach-snowflake/2027-02-16/
LOCATION:CEDAR HILLS SENIOR CENTER\, 9419 E CONCHO HWY\, Snowflake\, AZ\, 85937\, United States
ORGANIZER;CN="FISHERS OF MEN FOR VETERANS":MAILTO:FISHERSFORVETERANS@GMAIL.COM
END:VEVENT
BEGIN:VEVENT
DTSTART;TZID=America/Phoenix:20270316T100000
DTEND;TZID=America/Phoenix:20270316T140000
DTSTAMP:20260420T134730
CREATED:20250417T174851Z
LAST-MODIFIED:20250417T183328Z
UID:10000112-1805191200-1805205600@azveterans.com
SUMMARY:VETERANS OUTREACH - Snowflake
DESCRIPTION:SERVICES TO BE OFFERED \n\n\nTRIAGE AND BASIC HEALTH SCREENINGS \n\n\nEMERGENCY FOOD BOXES \n\n\nVETERAN BENEFITS – COMPENSATION & PENSION \n\n\nMEDICARE SPECIALISTS \n\n\nVETERAN WORKFORCE \n\n\nHEALTH INSURANCE AND NUTRITION BENEFIT SPECIALIST \n\n\nASSISTANCE CONNECTING TO SOCIAL SECURITY \n\n\nFOR MORE INFORMATION:MARTY JARVEY 928-369-8455FISHERSFORVETERANS@GMAIL.COM
URL:https://azveterans.com/event/veterans-outreach-snowflake/2027-03-16/
LOCATION:CEDAR HILLS SENIOR CENTER\, 9419 E CONCHO HWY\, Snowflake\, AZ\, 85937\, United States
ORGANIZER;CN="FISHERS OF MEN FOR VETERANS":MAILTO:FISHERSFORVETERANS@GMAIL.COM
END:VEVENT
BEGIN:VEVENT
DTSTART;TZID=America/Phoenix:20270420T100000
DTEND;TZID=America/Phoenix:20270420T140000
DTSTAMP:20260420T134730
CREATED:20250417T174851Z
LAST-MODIFIED:20250417T183328Z
UID:10000113-1808215200-1808229600@azveterans.com
SUMMARY:VETERANS OUTREACH - Snowflake
DESCRIPTION:SERVICES TO BE OFFERED \n\n\nTRIAGE AND BASIC HEALTH SCREENINGS \n\n\nEMERGENCY FOOD BOXES \n\n\nVETERAN BENEFITS – COMPENSATION & PENSION \n\n\nMEDICARE SPECIALISTS \n\n\nVETERAN WORKFORCE \n\n\nHEALTH INSURANCE AND NUTRITION BENEFIT SPECIALIST \n\n\nASSISTANCE CONNECTING TO SOCIAL SECURITY \n\n\nFOR MORE INFORMATION:MARTY JARVEY 928-369-8455FISHERSFORVETERANS@GMAIL.COM
URL:https://azveterans.com/event/veterans-outreach-snowflake/2027-04-20/
LOCATION:CEDAR HILLS SENIOR CENTER\, 9419 E CONCHO HWY\, Snowflake\, AZ\, 85937\, United States
ORGANIZER;CN="FISHERS OF MEN FOR VETERANS":MAILTO:FISHERSFORVETERANS@GMAIL.COM
END:VEVENT
BEGIN:VEVENT
DTSTART;TZID=America/Phoenix:20270518T100000
DTEND;TZID=America/Phoenix:20270518T140000
DTSTAMP:20260420T134730
CREATED:20250417T174851Z
LAST-MODIFIED:20250417T183328Z
UID:10000114-1810634400-1810648800@azveterans.com
SUMMARY:VETERANS OUTREACH - Snowflake
DESCRIPTION:SERVICES TO BE OFFERED \n\n\nTRIAGE AND BASIC HEALTH SCREENINGS \n\n\nEMERGENCY FOOD BOXES \n\n\nVETERAN BENEFITS – COMPENSATION & PENSION \n\n\nMEDICARE SPECIALISTS \n\n\nVETERAN WORKFORCE \n\n\nHEALTH INSURANCE AND NUTRITION BENEFIT SPECIALIST \n\n\nASSISTANCE CONNECTING TO SOCIAL SECURITY \n\n\nFOR MORE INFORMATION:MARTY JARVEY 928-369-8455FISHERSFORVETERANS@GMAIL.COM
URL:https://azveterans.com/event/veterans-outreach-snowflake/2027-05-18/
LOCATION:CEDAR HILLS SENIOR CENTER\, 9419 E CONCHO HWY\, Snowflake\, AZ\, 85937\, United States
ORGANIZER;CN="FISHERS OF MEN FOR VETERANS":MAILTO:FISHERSFORVETERANS@GMAIL.COM
END:VEVENT
BEGIN:VEVENT
DTSTART;TZID=America/Phoenix:20270615T100000
DTEND;TZID=America/Phoenix:20270615T140000
DTSTAMP:20260420T134730
CREATED:20250417T174851Z
LAST-MODIFIED:20250417T183328Z
UID:10000115-1813053600-1813068000@azveterans.com
SUMMARY:VETERANS OUTREACH - Snowflake
DESCRIPTION:SERVICES TO BE OFFERED \n\n\nTRIAGE AND BASIC HEALTH SCREENINGS \n\n\nEMERGENCY FOOD BOXES \n\n\nVETERAN BENEFITS – COMPENSATION & PENSION \n\n\nMEDICARE SPECIALISTS \n\n\nVETERAN WORKFORCE \n\n\nHEALTH INSURANCE AND NUTRITION BENEFIT SPECIALIST \n\n\nASSISTANCE CONNECTING TO SOCIAL SECURITY \n\n\nFOR MORE INFORMATION:MARTY JARVEY 928-369-8455FISHERSFORVETERANS@GMAIL.COM
URL:https://azveterans.com/event/veterans-outreach-snowflake/2027-06-15/
LOCATION:CEDAR HILLS SENIOR CENTER\, 9419 E CONCHO HWY\, Snowflake\, AZ\, 85937\, United States
ORGANIZER;CN="FISHERS OF MEN FOR VETERANS":MAILTO:FISHERSFORVETERANS@GMAIL.COM
END:VEVENT
BEGIN:VEVENT
DTSTART;TZID=America/Phoenix:20270720T100000
DTEND;TZID=America/Phoenix:20270720T140000
DTSTAMP:20260420T134730
CREATED:20250417T174851Z
LAST-MODIFIED:20250417T183328Z
UID:10000116-1816077600-1816092000@azveterans.com
SUMMARY:VETERANS OUTREACH - Snowflake
DESCRIPTION:SERVICES TO BE OFFERED \n\n\nTRIAGE AND BASIC HEALTH SCREENINGS \n\n\nEMERGENCY FOOD BOXES \n\n\nVETERAN BENEFITS – COMPENSATION & PENSION \n\n\nMEDICARE SPECIALISTS \n\n\nVETERAN WORKFORCE \n\n\nHEALTH INSURANCE AND NUTRITION BENEFIT SPECIALIST \n\n\nASSISTANCE CONNECTING TO SOCIAL SECURITY \n\n\nFOR MORE INFORMATION:MARTY JARVEY 928-369-8455FISHERSFORVETERANS@GMAIL.COM
URL:https://azveterans.com/event/veterans-outreach-snowflake/2027-07-20/
LOCATION:CEDAR HILLS SENIOR CENTER\, 9419 E CONCHO HWY\, Snowflake\, AZ\, 85937\, United States
ORGANIZER;CN="FISHERS OF MEN FOR VETERANS":MAILTO:FISHERSFORVETERANS@GMAIL.COM
END:VEVENT
BEGIN:VEVENT
DTSTART;TZID=America/Phoenix:20270817T100000
DTEND;TZID=America/Phoenix:20270817T140000
DTSTAMP:20260420T134730
CREATED:20250417T174851Z
LAST-MODIFIED:20250417T183328Z
UID:10000117-1818496800-1818511200@azveterans.com
SUMMARY:VETERANS OUTREACH - Snowflake
DESCRIPTION:SERVICES TO BE OFFERED \n\n\nTRIAGE AND BASIC HEALTH SCREENINGS \n\n\nEMERGENCY FOOD BOXES \n\n\nVETERAN BENEFITS – COMPENSATION & PENSION \n\n\nMEDICARE SPECIALISTS \n\n\nVETERAN WORKFORCE \n\n\nHEALTH INSURANCE AND NUTRITION BENEFIT SPECIALIST \n\n\nASSISTANCE CONNECTING TO SOCIAL SECURITY \n\n\nFOR MORE INFORMATION:MARTY JARVEY 928-369-8455FISHERSFORVETERANS@GMAIL.COM
URL:https://azveterans.com/event/veterans-outreach-snowflake/2027-08-17/
LOCATION:CEDAR HILLS SENIOR CENTER\, 9419 E CONCHO HWY\, Snowflake\, AZ\, 85937\, United States
ORGANIZER;CN="FISHERS OF MEN FOR VETERANS":MAILTO:FISHERSFORVETERANS@GMAIL.COM
END:VEVENT
BEGIN:VEVENT
DTSTART;TZID=America/Phoenix:20270921T100000
DTEND;TZID=America/Phoenix:20270921T140000
DTSTAMP:20260420T134730
CREATED:20250417T174851Z
LAST-MODIFIED:20250417T183328Z
UID:10000118-1821520800-1821535200@azveterans.com
SUMMARY:VETERANS OUTREACH - Snowflake
DESCRIPTION:SERVICES TO BE OFFERED \n\n\nTRIAGE AND BASIC HEALTH SCREENINGS \n\n\nEMERGENCY FOOD BOXES \n\n\nVETERAN BENEFITS – COMPENSATION & PENSION \n\n\nMEDICARE SPECIALISTS \n\n\nVETERAN WORKFORCE \n\n\nHEALTH INSURANCE AND NUTRITION BENEFIT SPECIALIST \n\n\nASSISTANCE CONNECTING TO SOCIAL SECURITY \n\n\nFOR MORE INFORMATION:MARTY JARVEY 928-369-8455FISHERSFORVETERANS@GMAIL.COM
URL:https://azveterans.com/event/veterans-outreach-snowflake/2027-09-21/
LOCATION:CEDAR HILLS SENIOR CENTER\, 9419 E CONCHO HWY\, Snowflake\, AZ\, 85937\, United States
ORGANIZER;CN="FISHERS OF MEN FOR VETERANS":MAILTO:FISHERSFORVETERANS@GMAIL.COM
END:VEVENT
BEGIN:VEVENT
DTSTART;TZID=America/Phoenix:20271019T100000
DTEND;TZID=America/Phoenix:20271019T140000
DTSTAMP:20260420T134730
CREATED:20250417T174851Z
LAST-MODIFIED:20250417T183328Z
UID:10000119-1823940000-1823954400@azveterans.com
SUMMARY:VETERANS OUTREACH - Snowflake
DESCRIPTION:SERVICES TO BE OFFERED \n\n\nTRIAGE AND BASIC HEALTH SCREENINGS \n\n\nEMERGENCY FOOD BOXES \n\n\nVETERAN BENEFITS – COMPENSATION & PENSION \n\n\nMEDICARE SPECIALISTS \n\n\nVETERAN WORKFORCE \n\n\nHEALTH INSURANCE AND NUTRITION BENEFIT SPECIALIST \n\n\nASSISTANCE CONNECTING TO SOCIAL SECURITY \n\n\nFOR MORE INFORMATION:MARTY JARVEY 928-369-8455FISHERSFORVETERANS@GMAIL.COM
URL:https://azveterans.com/event/veterans-outreach-snowflake/2027-10-19/
LOCATION:CEDAR HILLS SENIOR CENTER\, 9419 E CONCHO HWY\, Snowflake\, AZ\, 85937\, United States
ORGANIZER;CN="FISHERS OF MEN FOR VETERANS":MAILTO:FISHERSFORVETERANS@GMAIL.COM
END:VEVENT
BEGIN:VEVENT
DTSTART;TZID=America/Phoenix:20271116T100000
DTEND;TZID=America/Phoenix:20271116T140000
DTSTAMP:20260420T134730
CREATED:20250417T174851Z
LAST-MODIFIED:20250417T183328Z
UID:10000120-1826359200-1826373600@azveterans.com
SUMMARY:VETERANS OUTREACH - Snowflake
DESCRIPTION:SERVICES TO BE OFFERED \n\n\nTRIAGE AND BASIC HEALTH SCREENINGS \n\n\nEMERGENCY FOOD BOXES \n\n\nVETERAN BENEFITS – COMPENSATION & PENSION \n\n\nMEDICARE SPECIALISTS \n\n\nVETERAN WORKFORCE \n\n\nHEALTH INSURANCE AND NUTRITION BENEFIT SPECIALIST \n\n\nASSISTANCE CONNECTING TO SOCIAL SECURITY \n\n\nFOR MORE INFORMATION:MARTY JARVEY 928-369-8455FISHERSFORVETERANS@GMAIL.COM
URL:https://azveterans.com/event/veterans-outreach-snowflake/2027-11-16/
LOCATION:CEDAR HILLS SENIOR CENTER\, 9419 E CONCHO HWY\, Snowflake\, AZ\, 85937\, United States
ORGANIZER;CN="FISHERS OF MEN FOR VETERANS":MAILTO:FISHERSFORVETERANS@GMAIL.COM
END:VEVENT
BEGIN:VEVENT
DTSTART;TZID=America/Phoenix:20271221T100000
DTEND;TZID=America/Phoenix:20271221T140000
DTSTAMP:20260420T134730
CREATED:20250417T174851Z
LAST-MODIFIED:20250417T183328Z
UID:10000121-1829383200-1829397600@azveterans.com
SUMMARY:VETERANS OUTREACH - Snowflake
DESCRIPTION:SERVICES TO BE OFFERED \n\n\nTRIAGE AND BASIC HEALTH SCREENINGS \n\n\nEMERGENCY FOOD BOXES \n\n\nVETERAN BENEFITS – COMPENSATION & PENSION \n\n\nMEDICARE SPECIALISTS \n\n\nVETERAN WORKFORCE \n\n\nHEALTH INSURANCE AND NUTRITION BENEFIT SPECIALIST \n\n\nASSISTANCE CONNECTING TO SOCIAL SECURITY \n\n\nFOR MORE INFORMATION:MARTY JARVEY 928-369-8455FISHERSFORVETERANS@GMAIL.COM
URL:https://azveterans.com/event/veterans-outreach-snowflake/2027-12-21/
LOCATION:CEDAR HILLS SENIOR CENTER\, 9419 E CONCHO HWY\, Snowflake\, AZ\, 85937\, United States
ORGANIZER;CN="FISHERS OF MEN FOR VETERANS":MAILTO:FISHERSFORVETERANS@GMAIL.COM
END:VEVENT
BEGIN:VEVENT
DTSTART;TZID=America/Phoenix:20280118T100000
DTEND;TZID=America/Phoenix:20280118T140000
DTSTAMP:20260420T134730
CREATED:20250417T174851Z
LAST-MODIFIED:20250417T183328Z
UID:10000122-1831802400-1831816800@azveterans.com
SUMMARY:VETERANS OUTREACH - Snowflake
DESCRIPTION:SERVICES TO BE OFFERED \n\n\nTRIAGE AND BASIC HEALTH SCREENINGS \n\n\nEMERGENCY FOOD BOXES \n\n\nVETERAN BENEFITS – COMPENSATION & PENSION \n\n\nMEDICARE SPECIALISTS \n\n\nVETERAN WORKFORCE \n\n\nHEALTH INSURANCE AND NUTRITION BENEFIT SPECIALIST \n\n\nASSISTANCE CONNECTING TO SOCIAL SECURITY \n\n\nFOR MORE INFORMATION:MARTY JARVEY 928-369-8455FISHERSFORVETERANS@GMAIL.COM
URL:https://azveterans.com/event/veterans-outreach-snowflake/2028-01-18/
LOCATION:CEDAR HILLS SENIOR CENTER\, 9419 E CONCHO HWY\, Snowflake\, AZ\, 85937\, United States
ORGANIZER;CN="FISHERS OF MEN FOR VETERANS":MAILTO:FISHERSFORVETERANS@GMAIL.COM
END:VEVENT
BEGIN:VEVENT
DTSTART;TZID=America/Phoenix:20280215T100000
DTEND;TZID=America/Phoenix:20280215T140000
DTSTAMP:20260420T134730
CREATED:20250417T174851Z
LAST-MODIFIED:20250417T183328Z
UID:10000123-1834221600-1834236000@azveterans.com
SUMMARY:VETERANS OUTREACH - Snowflake
DESCRIPTION:SERVICES TO BE OFFERED \n\n\nTRIAGE AND BASIC HEALTH SCREENINGS \n\n\nEMERGENCY FOOD BOXES \n\n\nVETERAN BENEFITS – COMPENSATION & PENSION \n\n\nMEDICARE SPECIALISTS \n\n\nVETERAN WORKFORCE \n\n\nHEALTH INSURANCE AND NUTRITION BENEFIT SPECIALIST \n\n\nASSISTANCE CONNECTING TO SOCIAL SECURITY \n\n\nFOR MORE INFORMATION:MARTY JARVEY 928-369-8455FISHERSFORVETERANS@GMAIL.COM
URL:https://azveterans.com/event/veterans-outreach-snowflake/2028-02-15/
LOCATION:CEDAR HILLS SENIOR CENTER\, 9419 E CONCHO HWY\, Snowflake\, AZ\, 85937\, United States
ORGANIZER;CN="FISHERS OF MEN FOR VETERANS":MAILTO:FISHERSFORVETERANS@GMAIL.COM
END:VEVENT
BEGIN:VEVENT
DTSTART;TZID=America/Phoenix:20280321T100000
DTEND;TZID=America/Phoenix:20280321T140000
DTSTAMP:20260420T134730
CREATED:20250417T174851Z
LAST-MODIFIED:20250417T183328Z
UID:10000124-1837245600-1837260000@azveterans.com
SUMMARY:VETERANS OUTREACH - Snowflake
DESCRIPTION:SERVICES TO BE OFFERED \n\n\nTRIAGE AND BASIC HEALTH SCREENINGS \n\n\nEMERGENCY FOOD BOXES \n\n\nVETERAN BENEFITS – COMPENSATION & PENSION \n\n\nMEDICARE SPECIALISTS \n\n\nVETERAN WORKFORCE \n\n\nHEALTH INSURANCE AND NUTRITION BENEFIT SPECIALIST \n\n\nASSISTANCE CONNECTING TO SOCIAL SECURITY \n\n\nFOR MORE INFORMATION:MARTY JARVEY 928-369-8455FISHERSFORVETERANS@GMAIL.COM
URL:https://azveterans.com/event/veterans-outreach-snowflake/2028-03-21/
LOCATION:CEDAR HILLS SENIOR CENTER\, 9419 E CONCHO HWY\, Snowflake\, AZ\, 85937\, United States
ORGANIZER;CN="FISHERS OF MEN FOR VETERANS":MAILTO:FISHERSFORVETERANS@GMAIL.COM
END:VEVENT
BEGIN:VEVENT
DTSTART;TZID=America/Phoenix:20280418T100000
DTEND;TZID=America/Phoenix:20280418T140000
DTSTAMP:20260420T134730
CREATED:20250417T174851Z
LAST-MODIFIED:20250417T183328Z
UID:10000125-1839664800-1839679200@azveterans.com
SUMMARY:VETERANS OUTREACH - Snowflake
DESCRIPTION:SERVICES TO BE OFFERED \n\n\nTRIAGE AND BASIC HEALTH SCREENINGS \n\n\nEMERGENCY FOOD BOXES \n\n\nVETERAN BENEFITS – COMPENSATION & PENSION \n\n\nMEDICARE SPECIALISTS \n\n\nVETERAN WORKFORCE \n\n\nHEALTH INSURANCE AND NUTRITION BENEFIT SPECIALIST \n\n\nASSISTANCE CONNECTING TO SOCIAL SECURITY \n\n\nFOR MORE INFORMATION:MARTY JARVEY 928-369-8455FISHERSFORVETERANS@GMAIL.COM
URL:https://azveterans.com/event/veterans-outreach-snowflake/2028-04-18/
LOCATION:CEDAR HILLS SENIOR CENTER\, 9419 E CONCHO HWY\, Snowflake\, AZ\, 85937\, United States
ORGANIZER;CN="FISHERS OF MEN FOR VETERANS":MAILTO:FISHERSFORVETERANS@GMAIL.COM
END:VEVENT
END:VCALENDAR