BEGIN:VCALENDAR
VERSION:2.0
PRODID:-//AZ Veterans - ECPv6.15.20//NONSGML v1.0//EN
CALSCALE:GREGORIAN
METHOD:PUBLISH
X-WR-CALNAME:AZ Veterans
X-ORIGINAL-URL:https://azveterans.com
X-WR-CALDESC:Events for AZ Veterans
REFRESH-INTERVAL;VALUE=DURATION:PT1H
X-Robots-Tag:noindex
X-PUBLISHED-TTL:PT1H
BEGIN:VTIMEZONE
TZID:America/Phoenix
BEGIN:STANDARD
TZOFFSETFROM:-0700
TZOFFSETTO:-0700
TZNAME:MST
DTSTART:20240101T000000
END:STANDARD
END:VTIMEZONE
BEGIN:VEVENT
DTSTART;TZID=America/Phoenix:20250705T080000
DTEND;TZID=America/Phoenix:20250705T130000
DTSTAMP:20260419T232059
CREATED:20250629T004443Z
LAST-MODIFIED:20250629T004443Z
UID:10001422-1751702400-1751720400@azveterans.com
SUMMARY:American Legion Post #115 / 145 Co Sponsor Ironwood Eagles Baseball Team
DESCRIPTION:American Legion Post #115 / 145 Co Sponsor Ironwood Eagles Baseball Team \nJULY 5th 2025 @ 8am – 1pm home game. Please come out and support these young men\, veterans\, and the greater military-connected community. \nConcessions stand proceeds are to support military veterans and their families. \n 
URL:https://azveterans.com/event/american-legion-post-115-145-co-sponsor-ironwood-eagles-baseball-team/
LOCATION:Ironwood High School\, 6051 W Sweetwater Ave\, Glendale\, 85304\, United States
ORGANIZER;CN="Daniel G. Fernandez Post 115":MAILTO:americanlegionpost115rgarcia@gmail.com
END:VEVENT
BEGIN:VEVENT
DTSTART;TZID=America/Phoenix:20250704T190000
DTEND;TZID=America/Phoenix:20250704T220000
DTSTAMP:20260419T232059
CREATED:20250419T043806Z
LAST-MODIFIED:20250419T043919Z
UID:10000284-1751655600-1751666400@azveterans.com
SUMMARY:Friday Night Karaoke - American Legion Post 138
DESCRIPTION:Friday Night Karaoke. Fun Time for All !! \nEvery Friday 7pm-10pm \n 
URL:https://azveterans.com/event/friday-night-karaoke-american-legion-post-138/2025-07-04/
LOCATION:American Legion Post 138\, 1264 W University Dr\, Mesa\, AZ\, 85201\, United States
ORGANIZER;CN="American Legion Post 138":MAILTO:firstvice@al138.org
END:VEVENT
BEGIN:VEVENT
DTSTART;TZID=America/Phoenix:20250704T120000
DTEND;TZID=America/Phoenix:20250704T170000
DTSTAMP:20260419T232059
CREATED:20250629T171451Z
LAST-MODIFIED:20250629T171451Z
UID:10001423-1751630400-1751648400@azveterans.com
SUMMARY:July 4th Party - AL Post 138
DESCRIPTION:4th of July starting at 12 NOON we will have hamburgers and hot dogs 50/50 and a silent action. If you items you want to donate or you want to make a gift basket please let Lawrence know.
URL:https://azveterans.com/event/july-4th-party-al-post-138/
LOCATION:American Legion Post 138\, 1264 W University Dr\, Mesa\, AZ\, 85201\, United States
ORGANIZER;CN="American Legion Post 138":MAILTO:firstvice@al138.org
END:VEVENT
BEGIN:VEVENT
DTSTART;TZID=America/Phoenix:20250704T074500
DTEND;TZID=America/Phoenix:20250704T090000
DTSTAMP:20260419T232059
CREATED:20250702T235154Z
LAST-MODIFIED:20250702T235154Z
UID:10001435-1751615100-1751619600@azveterans.com
SUMMARY:Coffee\, Camaraderie\, and Donuts
DESCRIPTION:“First Friday” event.  0745-0900.  The address is 6-Real Estate\, 4981 S Arizona Ave. #1 Chandler\, AZ. 85248.  If you could\, please RSVP to Gordon so he will know how many donuts to pick up\, Gordon 480-703-5274.
URL:https://azveterans.com/event/coffee-camaraderie-and-donuts/
LOCATION:6-Real Estate\, 4981 S Arizona Ave. #1\, Chandler\, 85248\, United States
ORGANIZER;CN="6-Real Estate":MAILTO:gleatherbarrow1881@gmail.com
END:VEVENT
BEGIN:VEVENT
DTSTART;TZID=America/Phoenix:20250703T180000
DTEND;TZID=America/Phoenix:20250703T190000
DTSTAMP:20260419T232059
CREATED:20250517T033712Z
LAST-MODIFIED:20250517T033712Z
UID:10000619-1751565600-1751569200@azveterans.com
SUMMARY:Female Veteran Support Circle
DESCRIPTION:Join us in a nurturing and empathetic environment designed specifically for veterans like you. Engage in meaningful discussions on topics that resonate with your experiences and connect with fellow veterans who comprehend the challenges you face. \nFemale Veteran Groups (2)
URL:https://azveterans.com/event/female-veteran-support-circle/2025-07-03/
LOCATION:Televeda – Virtual Platform\, AZ\, United States
ORGANIZER;CN="Televeda":MAILTO:admin@televeda.com
END:VEVENT
BEGIN:VEVENT
DTSTART;TZID=America/Phoenix:20250703T170000
DTEND;TZID=America/Phoenix:20250703T220000
DTSTAMP:20260419T232059
CREATED:20250609T005700Z
LAST-MODIFIED:20250609T010036Z
UID:10001261-1751562000-1751580000@azveterans.com
SUMMARY:Ladies Night\, QOH\, and Trivia!
DESCRIPTION:Gentlemen in Purple shirts and ALL ladies get $1 off their first drink!\n\n  \nQueen of Hearts is BACK!\n\n  \nOne Ticket for $5\, Three tickets for $10\, and Eight tickets for $20.\n\n  \nBuy tickets all week long and up until the drawing every Thursday\, right after the 7 O’clock Toast.\n\n  \nTrivia starts right after Queen of Hearts drawing!\n\nAmerican Legion Post 138 – Mesa
URL:https://azveterans.com/event/ladies-night-qoh-and-trivia/2025-07-03/
LOCATION:American Legion Post 138\, 1264 W University Dr\, Mesa\, AZ\, 85201\, United States
ORGANIZER;CN="American Legion Post 138":MAILTO:firstvice@al138.org
END:VEVENT
BEGIN:VEVENT
DTSTART;TZID=America/Phoenix:20250702T163000
DTEND;TZID=America/Phoenix:20250702T173000
DTSTAMP:20260419T232059
CREATED:20250511T004339Z
LAST-MODIFIED:20250511T004339Z
UID:10000535-1751473800-1751477400@azveterans.com
SUMMARY:Azura Vets Weekly Spotlight Podcast
DESCRIPTION:Weekly podcast with Nicole Pogue! \nThis is a weekly virtual event on YouTube!
URL:https://azveterans.com/event/azura-vets-weekly-spotlight-podcast/2025-07-02/
LOCATION:Defenders Den Wellness Lounge\, 165 North Centennial Way #110\, Mesa\, 85201\, United States
END:VEVENT
BEGIN:VEVENT
DTSTART;TZID=America/Phoenix:20250701T113000
DTEND;TZID=America/Phoenix:20250701T130000
DTSTAMP:20260419T232059
CREATED:20250502T035719Z
LAST-MODIFIED:20250630T181913Z
UID:10000484-1751369400-1751374800@azveterans.com
SUMMARY:SWVCC - East Valley Networking Luncheon
DESCRIPTION:LUNCH at Floridino’s in Chandler (Alma School and Ray) starts at 1130.  $22 per person.  We hope to see you there\, bring a friend and join us.  Go to www.swvcc.org to register so we can let the restaurant know how many are coming. \nAt the Southwest Veterans Chamber of Commerce\, you gain access to an exceptionally rewarding community full of networking opportunities\, rich education\, and professional business collaboration. \nFloridino’s Restaurant\n590 N. Alma School Rd.\nChandler\, AZ 85224 \n11:30 – 1:00 \nLunch: $22.00
URL:https://azveterans.com/event/svcc-east-valley-networking-luncheon/2025-07-01/
LOCATION:Floridino’s\, 590 Alma School Rd\, Chandler\, 85224\, United States
ORGANIZER;CN="Southwest Veterans Chamber of Commerce":MAILTO:t.sheets@swvcc.org
END:VEVENT
BEGIN:VEVENT
DTSTART;TZID=America/Phoenix:20250630T183000
DTEND;TZID=America/Phoenix:20250630T193000
DTSTAMP:20260419T232059
CREATED:20250603T205051Z
LAST-MODIFIED:20250603T205051Z
UID:10001116-1751308200-1751311800@azveterans.com
SUMMARY:BATTLEMIND
DESCRIPTION:“Battle mind” provides valuable insights into military perspectives\, how veterans navigate communication with civilian society\, the conflicts that may arise\, and practical solutions to bridge these gaps. \nREFERRAL CODE – HERO2024
URL:https://azveterans.com/event/battlemind/2025-06-30/
LOCATION:Televeda – Virtual Platform\, AZ\, United States
ORGANIZER;CN="Televeda":MAILTO:admin@televeda.com
END:VEVENT
BEGIN:VEVENT
DTSTART;TZID=America/Phoenix:20250630T173000
DTEND;TZID=America/Phoenix:20250630T183000
DTSTAMP:20260419T232059
CREATED:20250625T181143Z
LAST-MODIFIED:20250625T181143Z
UID:10001395-1751304600-1751308200@azveterans.com
SUMMARY:Guitars 4 Vets Graduation Event
DESCRIPTION:Come see some of your fellow Veterans graduate from Guitars 4 Vets an awesome Veteran Non-Profit!  The graduates will play 3 songs for the audience and then you will be able to mingle with other Veterans! \nGuitars 4 Vets Mission is:\n\nSharing the healing power of music\nWith our Veterans impacted by PTSD and other service-related trauma. \nCome at 530pm to the American Legion Post 91 – YOU DO NOT HAVE TO BE A MEMBER to come celebrate your fellow Vets!
URL:https://azveterans.com/event/guitars-4-vets-graduation-event/
LOCATION:American Legion Post 91\, 922 N. Alma School\, Chandler\, AZ\, 85224\, United States
ORGANIZER;CN="Frank Dugie":MAILTO:az.phoenix@guitarsforvets.org
END:VEVENT
BEGIN:VEVENT
DTSTART;TZID=America/Phoenix:20250627T190000
DTEND;TZID=America/Phoenix:20250627T220000
DTSTAMP:20260419T232059
CREATED:20250419T043806Z
LAST-MODIFIED:20250419T043919Z
UID:10000283-1751050800-1751061600@azveterans.com
SUMMARY:Friday Night Karaoke - American Legion Post 138
DESCRIPTION:Friday Night Karaoke. Fun Time for All !! \nEvery Friday 7pm-10pm \n 
URL:https://azveterans.com/event/friday-night-karaoke-american-legion-post-138/2025-06-27/
LOCATION:American Legion Post 138\, 1264 W University Dr\, Mesa\, AZ\, 85201\, United States
ORGANIZER;CN="American Legion Post 138":MAILTO:firstvice@al138.org
END:VEVENT
BEGIN:VEVENT
DTSTART;TZID=America/Phoenix:20250626T183000
DTEND;TZID=America/Phoenix:20250626T220000
DTSTAMP:20260419T232059
CREATED:20250430T035504Z
LAST-MODIFIED:20250430T035504Z
UID:10000434-1750962600-1750975200@azveterans.com
SUMMARY:The Sandbox
DESCRIPTION:🎙️ ANNOUNCEMENT: The Sandbox is Here 🇺🇸 Join us for the first-ever Sandbox Networking Event — a new monthly gathering led by veterans\, police\, firefighters & first responders. \nThis is where camaraderie\, purpose\, and community come back to life. 🗓️ Wednesday\, May 22 📍 Marley Park Community Center 🕕 6:30 PM – 10:00 PM \n🎟️ Free & open to veterans\, first responders\, and civic allies This month’s spotlight: 🎙️ Live Podcast Guest: USMC Veteran Joseph Warhol 🎗️ Nonprofit Highlight: The Home of Record Project — supporting veterans with housing\, healing\, and hope. ✅ Real Connection. Shared Purpose. \nGreat Mission. We’re picking up where the VFW left off — with the heart of the Lions Club and the mission that never ends. 📲 RSVP now. Show up. Dig in. https://eventhi.io/events/the-sandbox-11879
URL:https://azveterans.com/event/the-sandbox/2025-06-26/
LOCATION:Marley Park Heritage Clubs\, 15210 W Sweetwater Ave\, Surprise\, 85379\, United States
END:VEVENT
BEGIN:VEVENT
DTSTART;TZID=America/Phoenix:20250626T180000
DTEND;TZID=America/Phoenix:20250626T200000
DTSTAMP:20260419T232059
CREATED:20250517T032303Z
LAST-MODIFIED:20250517T032303Z
UID:10000588-1750960800-1750968000@azveterans.com
SUMMARY:Salute to Service Dinner - Tucson
DESCRIPTION:We are excited to be hosting our Annual Salute to Service Dinner in Tucson! We hope you will join us to hear testimonies from our veteran graduates and learn more about Soldier’s Best Friend’s mission. Grab a friend or two and join us for the evening. All proceeds from this event will go toward continuing to provide life-changing services at no cost to eligible veterans. \nTucson Salute To Service Dinner
URL:https://azveterans.com/event/salute-to-service-dinner-tucson/
LOCATION:VFW Post 549\, 8424 E Old Spanish Trail\, Tucson\, 85710\, United States
ORGANIZER;CN="Soldier's Best Friend":MAILTO:events@soldiersbestfriend.org
END:VEVENT
BEGIN:VEVENT
DTSTART;TZID=America/Phoenix:20250626T180000
DTEND;TZID=America/Phoenix:20250626T190000
DTSTAMP:20260419T232059
CREATED:20250517T033712Z
LAST-MODIFIED:20250517T033712Z
UID:10000618-1750960800-1750964400@azveterans.com
SUMMARY:Female Veteran Support Circle
DESCRIPTION:Join us in a nurturing and empathetic environment designed specifically for veterans like you. Engage in meaningful discussions on topics that resonate with your experiences and connect with fellow veterans who comprehend the challenges you face. \nFemale Veteran Groups (2)
URL:https://azveterans.com/event/female-veteran-support-circle/2025-06-26/
LOCATION:Televeda – Virtual Platform\, AZ\, United States
ORGANIZER;CN="Televeda":MAILTO:admin@televeda.com
END:VEVENT
BEGIN:VEVENT
DTSTART;TZID=America/Phoenix:20250626T170000
DTEND;TZID=America/Phoenix:20250626T220000
DTSTAMP:20260419T232059
CREATED:20250609T005700Z
LAST-MODIFIED:20250609T010036Z
UID:10001260-1750957200-1750975200@azveterans.com
SUMMARY:Ladies Night\, QOH\, and Trivia!
DESCRIPTION:Gentlemen in Purple shirts and ALL ladies get $1 off their first drink!\n\n  \nQueen of Hearts is BACK!\n\n  \nOne Ticket for $5\, Three tickets for $10\, and Eight tickets for $20.\n\n  \nBuy tickets all week long and up until the drawing every Thursday\, right after the 7 O’clock Toast.\n\n  \nTrivia starts right after Queen of Hearts drawing!\n\nAmerican Legion Post 138 – Mesa
URL:https://azveterans.com/event/ladies-night-qoh-and-trivia/2025-06-26/
LOCATION:American Legion Post 138\, 1264 W University Dr\, Mesa\, AZ\, 85201\, United States
ORGANIZER;CN="American Legion Post 138":MAILTO:firstvice@al138.org
END:VEVENT
BEGIN:VEVENT
DTSTART;TZID=America/Phoenix:20250625T163000
DTEND;TZID=America/Phoenix:20250625T173000
DTSTAMP:20260419T232059
CREATED:20250511T004339Z
LAST-MODIFIED:20250511T004339Z
UID:10000534-1750869000-1750872600@azveterans.com
SUMMARY:Azura Vets Weekly Spotlight Podcast
DESCRIPTION:Weekly podcast with Nicole Pogue! \nThis is a weekly virtual event on YouTube!
URL:https://azveterans.com/event/azura-vets-weekly-spotlight-podcast/2025-06-25/
LOCATION:Defenders Den Wellness Lounge\, 165 North Centennial Way #110\, Mesa\, 85201\, United States
END:VEVENT
BEGIN:VEVENT
DTSTART;TZID=America/Phoenix:20250624T163000
DTEND;TZID=America/Phoenix:20250624T180000
DTSTAMP:20260419T232059
CREATED:20250531T222743Z
LAST-MODIFIED:20250531T222743Z
UID:10000796-1750782600-1750788000@azveterans.com
SUMMARY:Veteran Learn-to-Play; Wheelchair Football
DESCRIPTION:Veteran Learn-to-Play; Wheelchair Football \nOur veteran learn-to-play clinic aims to teach you the ins and outs of Wheelchair Football. Joined by coaches of the Arizona Wheelchair Cardinals\, you’ll leave with an array of knowledge\, skill\, and love for the sport. \nALL abilities are welcome. \nFree for Military/Vets & families with memberships \nDate: June 3rd & June 24th\, 2025\nTime: 4:30pm – 6:00pm \nLocation: Ability360 Sports & Fitness Center \nQuestions? Please email Mary Kay Junis at marykayj@ability360.org
URL:https://azveterans.com/event/veteran-learn-to-play-wheelchair-football/2025-06-24/
LOCATION:Ability360 Sports & Fitness Center\, 5031 E Washington St\, Phoenix\, AZ\, 85034\, United States
ORGANIZER;CN="Mary Kay Junis":MAILTO:marykayj@ability360.org
END:VEVENT
BEGIN:VEVENT
DTSTART;TZID=America/Phoenix:20250624T111500
DTEND;TZID=America/Phoenix:20250624T130000
DTSTAMP:20260419T232059
CREATED:20250521T233240Z
LAST-MODIFIED:20250521T233240Z
UID:10000769-1750763700-1750770000@azveterans.com
SUMMARY:Southwest Veterans Chamber of Commerce
DESCRIPTION:SWVCC 4th Tuesday Luncheon at Maggiano’s in Scottsdale \n 
URL:https://azveterans.com/event/southwest-veterans-chamber-of-commerce/2025-06-24/
LOCATION:Maggiano’s Little Italy\, 16405 N. Scottsdale Rd\, Scottsdale\, 85254\, United States
ORGANIZER;CN="Tom Sheets":MAILTO:t.sheets@swvcc.org
END:VEVENT
BEGIN:VEVENT
DTSTART;TZID=America/Phoenix:20250623T183000
DTEND;TZID=America/Phoenix:20250623T193000
DTSTAMP:20260419T232059
CREATED:20250603T205051Z
LAST-MODIFIED:20250603T205051Z
UID:10001115-1750703400-1750707000@azveterans.com
SUMMARY:BATTLEMIND
DESCRIPTION:“Battle mind” provides valuable insights into military perspectives\, how veterans navigate communication with civilian society\, the conflicts that may arise\, and practical solutions to bridge these gaps. \nREFERRAL CODE – HERO2024
URL:https://azveterans.com/event/battlemind/2025-06-23/
LOCATION:Televeda – Virtual Platform\, AZ\, United States
ORGANIZER;CN="Televeda":MAILTO:admin@televeda.com
END:VEVENT
BEGIN:VEVENT
DTSTART;TZID=America/Phoenix:20250621T090000
DTEND;TZID=America/Phoenix:20250621T110000
DTSTAMP:20260419T232059
CREATED:20250612T211452Z
LAST-MODIFIED:20250612T211452Z
UID:10001365-1750496400-1750503600@azveterans.com
SUMMARY:3rd Saturday Brunch-East Valley Women Veterans
DESCRIPTION:Please RSVP by June 19th \nHi Ladies\, Our monthly brunch is coming up! Please note the new time for June’s brunch. When: June 21st from 9a-11a \nWhere: la Madeleine French Bakery & Cafe 2156 E Williams Field Rd\, Suite 101 Gilbert\, AZ 85295 Located in the San Tan Village. \nIf you’re able to make it\, please respond by June 19th to this email to make sure we have enough space for everyone. Looking forward to seeing you! \nEMAIL eastvalleywomenveterans@gmail.com to RSVP
URL:https://azveterans.com/event/3rd-saturday-brunch-east-valley-women-veterans/
LOCATION:La Madeleine French Bakery & Cafe\, 2156 East Williams Field Road\, Gilbert\, 85295\, United States
END:VEVENT
BEGIN:VEVENT
DTSTART;TZID=America/Phoenix:20250620T190000
DTEND;TZID=America/Phoenix:20250620T220000
DTSTAMP:20260419T232059
CREATED:20250419T043806Z
LAST-MODIFIED:20250419T043919Z
UID:10000282-1750446000-1750456800@azveterans.com
SUMMARY:Friday Night Karaoke - American Legion Post 138
DESCRIPTION:Friday Night Karaoke. Fun Time for All !! \nEvery Friday 7pm-10pm \n 
URL:https://azveterans.com/event/friday-night-karaoke-american-legion-post-138/2025-06-20/
LOCATION:American Legion Post 138\, 1264 W University Dr\, Mesa\, AZ\, 85201\, United States
ORGANIZER;CN="American Legion Post 138":MAILTO:firstvice@al138.org
END:VEVENT
BEGIN:VEVENT
DTSTART;TZID=America/Phoenix:20250620T090000
DTEND;TZID=America/Phoenix:20250620T130000
DTSTAMP:20260419T232059
CREATED:20250417T195949Z
LAST-MODIFIED:20250417T200041Z
UID:10000200-1750410000-1750424400@azveterans.com
SUMMARY:VETERANS OUTREACH - CONCHO
DESCRIPTION:THIS EVENT IS OPEN TO ALL VETERANS IN APACHE/NAVAJO COUNTIES \nTHIRD FRIDAY OF EACH MONTH9 am – 1 pm \nSERVICES TO BE OFFERED: \n\n\nTRIAGE AND BASIC HEALTH SCREENINGS \n\n\nEMERGENCY FOOD BOXES \n\n\nVETERAN BENEFITS – COMPENSATION & PENSION \n\n\nMEDICARE SPECIALISTS \n\n\nVETERANS WORKFORCE \n\n\nHEALTH INSURANCE AND NUTRITION BENEFIT SPECIALIST \n\n\nASSISTANCE CONNECTING TO SOCIAL SECURITY \n\n\nFOR MORE INFORMATION:MARTY JARVEY 928-369-8455FISHERSFORVETERANS@GMAIL.COM
URL:https://azveterans.com/event/veterans-outreach-concho/2025-06-20/
LOCATION:Concho Mellon Center\, 99 County Road 5050\, Concho\, AZ\, 85924\, United States
ORGANIZER;CN="FISHERS OF MEN FOR VETERANS":MAILTO:FISHERSFORVETERANS@GMAIL.COM
END:VEVENT
BEGIN:VEVENT
DTSTART;TZID=America/Phoenix:20250619T180000
DTEND;TZID=America/Phoenix:20250619T190000
DTSTAMP:20260419T232059
CREATED:20250517T033712Z
LAST-MODIFIED:20250517T033712Z
UID:10000617-1750356000-1750359600@azveterans.com
SUMMARY:Female Veteran Support Circle
DESCRIPTION:Join us in a nurturing and empathetic environment designed specifically for veterans like you. Engage in meaningful discussions on topics that resonate with your experiences and connect with fellow veterans who comprehend the challenges you face. \nFemale Veteran Groups (2)
URL:https://azveterans.com/event/female-veteran-support-circle/2025-06-19/
LOCATION:Televeda – Virtual Platform\, AZ\, United States
ORGANIZER;CN="Televeda":MAILTO:admin@televeda.com
END:VEVENT
BEGIN:VEVENT
DTSTART;TZID=America/Phoenix:20250619T170000
DTEND;TZID=America/Phoenix:20250619T220000
DTSTAMP:20260419T232059
CREATED:20250609T005700Z
LAST-MODIFIED:20250609T010036Z
UID:10001259-1750352400-1750370400@azveterans.com
SUMMARY:Ladies Night\, QOH\, and Trivia!
DESCRIPTION:Gentlemen in Purple shirts and ALL ladies get $1 off their first drink!\n\n  \nQueen of Hearts is BACK!\n\n  \nOne Ticket for $5\, Three tickets for $10\, and Eight tickets for $20.\n\n  \nBuy tickets all week long and up until the drawing every Thursday\, right after the 7 O’clock Toast.\n\n  \nTrivia starts right after Queen of Hearts drawing!\n\nAmerican Legion Post 138 – Mesa
URL:https://azveterans.com/event/ladies-night-qoh-and-trivia/2025-06-19/
LOCATION:American Legion Post 138\, 1264 W University Dr\, Mesa\, AZ\, 85201\, United States
ORGANIZER;CN="American Legion Post 138":MAILTO:firstvice@al138.org
END:VEVENT
BEGIN:VEVENT
DTSTART;TZID=America/Phoenix:20250618T180000
DTEND;TZID=America/Phoenix:20250618T193000
DTSTAMP:20260419T232059
CREATED:20250517T032925Z
LAST-MODIFIED:20250517T032925Z
UID:10000589-1750269600-1750275000@azveterans.com
SUMMARY:PTSD Peer Support Group (West Valley)
DESCRIPTION:PTSD Peer Support groups hosted by SBF. Any veteran or family member who is either living with PTSD or are supporting a veteran living with PTSD are welcome. Come build relationships while enjoying refreshments in an accepting and fun environment. \nWest Valley Peer Support
URL:https://azveterans.com/event/ptsd-peer-support-group-west-valley/2025-06-18/
LOCATION:Soldier’s Best Friend\, 14505 N. 75th. Ave.\, Peoria\, AZ\, 85381\, United States
ORGANIZER;CN="Soldier's Best Friend":MAILTO:events@soldiersbestfriend.org
END:VEVENT
BEGIN:VEVENT
DTSTART;TZID=America/Phoenix:20250618T163000
DTEND;TZID=America/Phoenix:20250618T173000
DTSTAMP:20260419T232059
CREATED:20250511T004339Z
LAST-MODIFIED:20250511T004339Z
UID:10000533-1750264200-1750267800@azveterans.com
SUMMARY:Azura Vets Weekly Spotlight Podcast
DESCRIPTION:Weekly podcast with Nicole Pogue! \nThis is a weekly virtual event on YouTube!
URL:https://azveterans.com/event/azura-vets-weekly-spotlight-podcast/2025-06-18/
LOCATION:Defenders Den Wellness Lounge\, 165 North Centennial Way #110\, Mesa\, 85201\, United States
END:VEVENT
BEGIN:VEVENT
DTSTART;TZID=America/Phoenix:20250617T183000
DTEND;TZID=America/Phoenix:20250617T193000
DTSTAMP:20260419T232059
CREATED:20250614T042617Z
LAST-MODIFIED:20250614T042617Z
UID:10001366-1750185000-1750188600@azveterans.com
SUMMARY:Financial Literacy Workshop for Veterans and First Responders
DESCRIPTION:Financial Readiness for Those Who Serve \nMILITARY & FIRST RESPONDERS\nFINANCIAL LITERACY WORKSHOP\nBecause protecting your future is just as important as protecting ours. \n\n📅 Event Details:\n➕ Date: June 17ᵗʰ\, 2025🕡 Time: 1830📍 Location: DM FOR DETAILS \n\n🪖 Who Should Attend:\n\n\nActive Duty \n\n\nVeterans \n\n\nPolice Officers \n\n\nFirefighters \n\n\nEMTs \n\n\nMilitary Spouses & Families \n\n\n\n📘 Learn How To:\n\n\nBuild and protect wealth for your family \n\n\nUnderstand life insurance and retirement benefits \n\n\nManage debt and boost your credit score \n\n\n\n📲 RSVP Today:\nTo register please contactPaola (480) 886-9353 \n\n“Financial freedom is your next mission.”
URL:https://azveterans.com/event/financial-literacy-workshop-for-veterans-and-first-responders/
END:VEVENT
BEGIN:VEVENT
DTSTART;TZID=America/Phoenix:20250617T173000
DTEND;TZID=America/Phoenix:20250617T190000
DTSTAMP:20260419T232059
CREATED:20250608T154733Z
LAST-MODIFIED:20250608T154733Z
UID:10001231-1750181400-1750186800@azveterans.com
SUMMARY:Monthly Meeting (MCL San Francisco Peaks - Flagstaff)
DESCRIPTION:Monthly MCL San Francisco Peaks meting every third Tuesday of each Month \n 
URL:https://azveterans.com/event/monthly-meeting-mcl-san-francisco-peaks-flagstaff/2025-06-17/
LOCATION:VFW Post 1709 District 2\, 409 W Santa Fe Ave\, Flagstaff\, 86001\, United States
END:VEVENT
BEGIN:VEVENT
DTSTART;TZID=America/Phoenix:20250617T100000
DTEND;TZID=America/Phoenix:20250617T140000
DTSTAMP:20260419T232059
CREATED:20250417T174851Z
LAST-MODIFIED:20250417T183328Z
UID:10000091-1750154400-1750168800@azveterans.com
SUMMARY:VETERANS OUTREACH - Snowflake
DESCRIPTION:SERVICES TO BE OFFERED \n\n\nTRIAGE AND BASIC HEALTH SCREENINGS \n\n\nEMERGENCY FOOD BOXES \n\n\nVETERAN BENEFITS – COMPENSATION & PENSION \n\n\nMEDICARE SPECIALISTS \n\n\nVETERAN WORKFORCE \n\n\nHEALTH INSURANCE AND NUTRITION BENEFIT SPECIALIST \n\n\nASSISTANCE CONNECTING TO SOCIAL SECURITY \n\n\nFOR MORE INFORMATION:MARTY JARVEY 928-369-8455FISHERSFORVETERANS@GMAIL.COM
URL:https://azveterans.com/event/veterans-outreach-snowflake/2025-06-17/
LOCATION:CEDAR HILLS SENIOR CENTER\, 9419 E CONCHO HWY\, Snowflake\, AZ\, 85937\, United States
ORGANIZER;CN="FISHERS OF MEN FOR VETERANS":MAILTO:FISHERSFORVETERANS@GMAIL.COM
END:VEVENT
BEGIN:VEVENT
DTSTART;TZID=America/Phoenix:20250617T073000
DTEND;TZID=America/Phoenix:20250617T083000
DTSTAMP:20260419T232059
CREATED:20250602T211052Z
LAST-MODIFIED:20250602T211052Z
UID:10000799-1750145400-1750149000@azveterans.com
SUMMARY:SWVCC - Morning Reveille - Gilbert
DESCRIPTION:C’mon! UP and at ’em! Come and join us for some good food\, good company\, and relaxed conversation before your day gets crazy hectic. Bring a friend!
URL:https://azveterans.com/event/swvcc-morning-reveille-gilbert-2/
LOCATION:Black Bear Diner\, 1809 E Baseline Rd.\, Gilbert\, 85233\, United States
ORGANIZER;CN="Southwest Veterans Chamber of Commerce":MAILTO:t.sheets@swvcc.org
END:VEVENT
END:VCALENDAR