BEGIN:VCALENDAR
VERSION:2.0
PRODID:-//AZ Veterans - ECPv6.15.20//NONSGML v1.0//EN
CALSCALE:GREGORIAN
METHOD:PUBLISH
X-WR-CALNAME:AZ Veterans
X-ORIGINAL-URL:https://azveterans.com
X-WR-CALDESC:Events for AZ Veterans
REFRESH-INTERVAL;VALUE=DURATION:PT1H
X-Robots-Tag:noindex
X-PUBLISHED-TTL:PT1H
BEGIN:VTIMEZONE
TZID:America/Phoenix
BEGIN:STANDARD
TZOFFSETFROM:-0700
TZOFFSETTO:-0700
TZNAME:MST
DTSTART:20240101T000000
END:STANDARD
END:VTIMEZONE
BEGIN:VEVENT
DTSTART;TZID=America/Phoenix:20250714T183000
DTEND;TZID=America/Phoenix:20250714T193000
DTSTAMP:20260419T215356
CREATED:20250603T205051Z
LAST-MODIFIED:20250603T205051Z
UID:10001118-1752517800-1752521400@azveterans.com
SUMMARY:BATTLEMIND
DESCRIPTION:“Battle mind” provides valuable insights into military perspectives\, how veterans navigate communication with civilian society\, the conflicts that may arise\, and practical solutions to bridge these gaps. \nREFERRAL CODE – HERO2024
URL:https://azveterans.com/event/battlemind/2025-07-14/
LOCATION:Televeda – Virtual Platform\, AZ\, United States
ORGANIZER;CN="Televeda":MAILTO:admin@televeda.com
END:VEVENT
BEGIN:VEVENT
DTSTART;TZID=America/Phoenix:20250714T180000
DTEND;TZID=America/Phoenix:20250714T200000
DTSTAMP:20260419T215356
CREATED:20250704T232056Z
LAST-MODIFIED:20250704T232056Z
UID:10001437-1752516000-1752523200@azveterans.com
SUMMARY:Monthly Meeting - VFW Post 1677
DESCRIPTION:Join us for our monthly meeting. Dinner will be served at 6pm and available for a $10 donation. \nBeverages available at the Canteen and there will be a 50-50 raffle. \nThe Second Monday of every month. 6pm Dinner 7pm Regular Meeting
URL:https://azveterans.com/event/monthly-meeting-vfw-post-1677/2025-07-14/
LOCATION:VFW Post 1677\, 111 E 2nd St\, Casa Grande\, AZ\, 85122\, United States
END:VEVENT
BEGIN:VEVENT
DTSTART;TZID=America/Phoenix:20250714T180000
DTEND;TZID=America/Phoenix:20250714T200000
DTSTAMP:20260419T215356
CREATED:20250419T225954Z
LAST-MODIFIED:20250419T230444Z
UID:10000382-1752516000-1752523200@azveterans.com
SUMMARY:Bingo Night!
DESCRIPTION:Join us for a fun filled\, family friendly\, night of bingo and entertainment at Chicken ‘n Pickle! Located in the Westgate Entertainment District\, we will be slinging gift cards and prizes for bingo winners from 6PM to 8PM on Monday\, April 28th! $5 = 1 Card $20 = 5 Cards Come dressed in your best patriotic outfit and get an additional card\, compliments of State 48 Veterans Association! If you’re not familiar with the venue\, Chicken ‘N Pickle has an incredible menu guaranteed to quench your hunger and thirst. \nCheck out their menu at www.chickennpickle.com/glendale-menu Come early or stick around after our event to try your hand at pickleball\, giant Jenga\, Battleship\, or Cornhole! \nAll proceeds from Bingo\, and a portion of food and drink sales from 6pm to 8pm\, are donated to our 501c3 to assist Veterans and their families in Arizona. What a great way to pay tribute to our BRAVEST! \n 
URL:https://azveterans.com/event/bingo-night/2025-07-14/
LOCATION:Chicken n Pickle Glendale\, 9330 W. Hanna Lane\, Glendale\, 85305\, United States
ORGANIZER;CN="State 48 Veterans Association":MAILTO:info@state48va.org
END:VEVENT
BEGIN:VEVENT
DTSTART;TZID=America/Phoenix:20250714T100000
DTEND;TZID=America/Phoenix:20250714T140000
DTSTAMP:20260419T215356
CREATED:20250417T184356Z
LAST-MODIFIED:20260224T175814Z
UID:10000128-1752487200-1752501600@azveterans.com
SUMMARY:VETERANS OUTREACH - Vernon\, AZ
DESCRIPTION:EVENT OPEN TO ALL VETERANS – VETERANS OUTREACH \nSERVICES TO BE OFFERED \n\n\nTRIAGE AND BASIC HEALTH SCREENINGS \n\n\nEMERGENCY FOOD BOXES \n\n\nVETERAN BENEFITS – COMPENSATION & PENSION \n\n\nMEDICARE SPECIALISTS \n\n\nVETERAN WORKFORCE \n\n\nHEALTH INSURANCE AND NUTRITION BENEFIT SPECIALIST \n\n\nASSISTANCE CONNECTING TO SOCIAL SECURITY \n\n\nFISHERS OF MEN FOR VETERANSChanging One Heart At A Time \nFOR MORE INFORMATION:MARTY JARVEY 928-369-8455FISHERSFORVETERANS@GMAIL.COM
URL:https://azveterans.com/event/veterans-outreach-vernon-az/2025-07-14/
LOCATION:STANFORD GENERAL STORE\, 4 APACHE\, COUNTY RD 8235\, Standford\, 85940\, United States
ORGANIZER;CN="FISHERS OF MEN FOR VETERANS":MAILTO:FISHERSFORVETERANS@GMAIL.COM
END:VEVENT
BEGIN:VEVENT
DTSTART;TZID=America/Phoenix:20250712T190000
DTEND;TZID=America/Phoenix:20250712T230000
DTSTAMP:20260419T215356
CREATED:20250504T011836Z
LAST-MODIFIED:20250511T210206Z
UID:10000554-1752346800-1752361200@azveterans.com
SUMMARY:Bike Night - VFW Post 1433
DESCRIPTION:Next Saturday! Come hang with your local Veterans MC Arizona
URL:https://azveterans.com/event/bike-night-vfw-post-1433/2025-07-12/
LOCATION:VFW Post 1433\, 7618 N 63rd Ave\, Glendale\, AZ\, 85301\, United States
END:VEVENT
BEGIN:VEVENT
DTSTART;TZID=America/Phoenix:20250712T180000
DTEND;TZID=America/Phoenix:20250712T210000
DTSTAMP:20260419T215356
CREATED:20250622T235638Z
LAST-MODIFIED:20250622T235847Z
UID:10001370-1752343200-1752354000@azveterans.com
SUMMARY:Embrace the Suck!
DESCRIPTION:A Drink and Cigar Event!  Present by CVA.
URL:https://azveterans.com/event/embrace-the-suck/
LOCATION:21 Degrees\, 9375 E Shea Blvd #175\, Scottsdale\, AZ\, 85260\, United States
ORGANIZER;CN="Concerned Veterans for America":MAILTO:ttaylor@cv4a.org
END:VEVENT
BEGIN:VEVENT
DTSTART;TZID=America/Phoenix:20250712T170000
DTEND;TZID=America/Phoenix:20250712T190000
DTSTAMP:20260419T215356
CREATED:20250627T041040Z
LAST-MODIFIED:20250627T041040Z
UID:10001397-1752339600-1752346800@azveterans.com
SUMMARY:DAV Steak Fry
DESCRIPTION:Come enjoy a steak dinner w/ baked potato and a garden salad!
URL:https://azveterans.com/event/dav-steak-fry/2025-07-12/
LOCATION:DAV Hall Chapter 20\, 8447 North 61st Avenue\, Glendale\, 85302\, United States
END:VEVENT
BEGIN:VEVENT
DTSTART;TZID=America/Phoenix:20250712T070000
DTEND;TZID=America/Phoenix:20250712T140000
DTSTAMP:20260419T215356
CREATED:20250630T165538Z
LAST-MODIFIED:20250630T165538Z
UID:10001424-1752303600-1752328800@azveterans.com
SUMMARY:Smiles For Freedom
DESCRIPTION:Free Dental Care – Manglesdorf Family Dentistry is proud to host our 1st Annual event for Veterans and first responders. \n*Reservations REQUIRED* Call (928) 718-2136 to reserve spot.
URL:https://azveterans.com/event/smiles-for-freedom/
LOCATION:Mangelsdorf Family Dentistry\, 2249 Hualapai Mountain Rd Suite A\, Kingman\, 86401\, United States
END:VEVENT
BEGIN:VEVENT
DTSTART;TZID=America/Phoenix:20250711T190000
DTEND;TZID=America/Phoenix:20250711T220000
DTSTAMP:20260419T215356
CREATED:20250419T043806Z
LAST-MODIFIED:20250419T043919Z
UID:10000285-1752260400-1752271200@azveterans.com
SUMMARY:Friday Night Karaoke - American Legion Post 138
DESCRIPTION:Friday Night Karaoke. Fun Time for All !! \nEvery Friday 7pm-10pm \n 
URL:https://azveterans.com/event/friday-night-karaoke-american-legion-post-138/2025-07-11/
LOCATION:American Legion Post 138\, 1264 W University Dr\, Mesa\, AZ\, 85201\, United States
ORGANIZER;CN="American Legion Post 138":MAILTO:firstvice@al138.org
END:VEVENT
BEGIN:VEVENT
DTSTART;TZID=America/Phoenix:20250711T170000
DTEND;TZID=America/Phoenix:20250711T200000
DTSTAMP:20260419T215356
CREATED:20250625T211653Z
LAST-MODIFIED:20250625T211653Z
UID:10001396-1752253200-1752264000@azveterans.com
SUMMARY:VFW Dinner
DESCRIPTION:Pulled pork sandwich with cowboy beans and other sides. $8 per plate. Additional sandwich $5.
URL:https://azveterans.com/event/vfw-dinner/
LOCATION:VFW Post 1433\, 7618 N 63rd Ave\, Glendale\, AZ\, 85301\, United States
ORGANIZER;CN="VFW Riders White Tank Riders":MAILTO:qm@vfwpost1433.org
END:VEVENT
BEGIN:VEVENT
DTSTART;TZID=America/Phoenix:20250710T180000
DTEND;TZID=America/Phoenix:20250710T190000
DTSTAMP:20260419T215356
CREATED:20250517T033712Z
LAST-MODIFIED:20250517T033712Z
UID:10000620-1752170400-1752174000@azveterans.com
SUMMARY:Female Veteran Support Circle
DESCRIPTION:Join us in a nurturing and empathetic environment designed specifically for veterans like you. Engage in meaningful discussions on topics that resonate with your experiences and connect with fellow veterans who comprehend the challenges you face. \nFemale Veteran Groups (2)
URL:https://azveterans.com/event/female-veteran-support-circle/2025-07-10/
LOCATION:Televeda – Virtual Platform\, AZ\, United States
ORGANIZER;CN="Televeda":MAILTO:admin@televeda.com
END:VEVENT
BEGIN:VEVENT
DTSTART;TZID=America/Phoenix:20250710T170000
DTEND;TZID=America/Phoenix:20250710T220000
DTSTAMP:20260419T215356
CREATED:20250609T005700Z
LAST-MODIFIED:20250609T010036Z
UID:10001262-1752166800-1752184800@azveterans.com
SUMMARY:Ladies Night\, QOH\, and Trivia!
DESCRIPTION:Gentlemen in Purple shirts and ALL ladies get $1 off their first drink!\n\n  \nQueen of Hearts is BACK!\n\n  \nOne Ticket for $5\, Three tickets for $10\, and Eight tickets for $20.\n\n  \nBuy tickets all week long and up until the drawing every Thursday\, right after the 7 O’clock Toast.\n\n  \nTrivia starts right after Queen of Hearts drawing!\n\nAmerican Legion Post 138 – Mesa
URL:https://azveterans.com/event/ladies-night-qoh-and-trivia/2025-07-10/
LOCATION:American Legion Post 138\, 1264 W University Dr\, Mesa\, AZ\, 85201\, United States
ORGANIZER;CN="American Legion Post 138":MAILTO:firstvice@al138.org
END:VEVENT
BEGIN:VEVENT
DTSTART;TZID=America/Phoenix:20250710T150000
DTEND;TZID=America/Phoenix:20250710T220000
DTSTAMP:20260419T215356
CREATED:20250611T233825Z
LAST-MODIFIED:20250611T233825Z
UID:10001364-1752159600-1752184800@azveterans.com
SUMMARY:Texas Roadhouse (Westgate) Dine To Donate
DESCRIPTION:We are excited to share that U.S.VETS Phoenix has coordinated a fundraiser at Texas Roadhouse in Glendale (Westgate) on Thursday\, July 10\, from 3:00 PM to 10:00 PM. Please help us spread the word! Attached is the official flyer—feel free to share it with friends\, family\, and your networks. On the day of the event\, we will have a U.S.VETS Phoenix table set up onsite to engage with attendees and highlight the work we do. \nPlease be sure to show the flyer when dining in or ordering takeout to support the fundraiser.
URL:https://azveterans.com/event/texas-roadhouse-westgate-dine-to-donate/
LOCATION:Texas Roadhouse – Westgate\, 6648 N 95th Ave\, Glendale\, 85305\, United States
END:VEVENT
BEGIN:VEVENT
DTSTART;TZID=America/Phoenix:20250709T163000
DTEND;TZID=America/Phoenix:20250709T173000
DTSTAMP:20260419T215356
CREATED:20250511T004339Z
LAST-MODIFIED:20250511T004339Z
UID:10000536-1752078600-1752082200@azveterans.com
SUMMARY:Azura Vets Weekly Spotlight Podcast
DESCRIPTION:Weekly podcast with Nicole Pogue! \nThis is a weekly virtual event on YouTube!
URL:https://azveterans.com/event/azura-vets-weekly-spotlight-podcast/2025-07-09/
LOCATION:Defenders Den Wellness Lounge\, 165 North Centennial Way #110\, Mesa\, 85201\, United States
END:VEVENT
BEGIN:VEVENT
DTSTART;TZID=America/Phoenix:20250709T100000
DTEND;TZID=America/Phoenix:20250709T110000
DTSTAMP:20260419T215356
CREATED:20250623T000848Z
LAST-MODIFIED:20250623T000848Z
UID:10001371-1752055200-1752058800@azveterans.com
SUMMARY:Veterans Support Group by Veteran's Affinity
DESCRIPTION:Join us at the Avondale Senior Center for our Veterans Support Group by Veteran’s Affinity! This monthly meetup\, held every second Wednesday of the month\, provides a supportive space for veterans and their caregivers to come together\, share stories\, and uplift one another. Whether you’re seeking friendship\, resources\, or simply a listening ear\, this is the perfect place to connect and find support.\n\nJoin us at 10:00 a.m. at the Avondale Senior Center\, located at 995 E. Riley Drive\, Avondale\, AZ 85323. We look forward to welcoming you to a space of camaraderie and care!
URL:https://azveterans.com/event/veterans-support-group-by-veterans-affinity/2025-07-09/
LOCATION:Avondale Senior Center\, 995 E Riley Dr\, Avondale\, 85323\, United States
END:VEVENT
BEGIN:VEVENT
DTSTART;TZID=America/Phoenix:20250708T120000
DTEND;TZID=America/Phoenix:20250708T220000
DTSTAMP:20260419T215356
CREATED:20250707T191241Z
LAST-MODIFIED:20250707T191241Z
UID:10001461-1751976000-1752012000@azveterans.com
SUMMARY:Arts In Service Class Registration Opens
DESCRIPTION:Mesa Arts Center is pleased to present Arts in Service\, which provides creative pathways for veterans and service members to use studio arts experiences in reaching their personal goals\, whether those are finding a supportive community\, stress relief\, working toward overall health and wellness\, or pursuing career interests in art-making. \nFall 2024 Arts in Service Registration starts Tuesday\, July 9th at 12pm Students are encouraged to sign up online at https://mesaartscenter.com/classes/artsinservice \nTo register over the phone please call (480) 644-6500 Registration is available in-person at our Box Office located at 1 E Main Street Mesa\, AZ 85201. We ask that students arrive no earlier than 11:45 AM to register.
URL:https://azveterans.com/event/arts-in-service-class-registration-opens/
LOCATION:Mesa Arts Center\, 1 E Main St\, Mesa\, AZ\, 85201\, United States
END:VEVENT
BEGIN:VEVENT
DTSTART;TZID=America/Phoenix:20250707T183000
DTEND;TZID=America/Phoenix:20250707T193000
DTSTAMP:20260419T215356
CREATED:20250603T205051Z
LAST-MODIFIED:20250603T205051Z
UID:10001117-1751913000-1751916600@azveterans.com
SUMMARY:BATTLEMIND
DESCRIPTION:“Battle mind” provides valuable insights into military perspectives\, how veterans navigate communication with civilian society\, the conflicts that may arise\, and practical solutions to bridge these gaps. \nREFERRAL CODE – HERO2024
URL:https://azveterans.com/event/battlemind/2025-07-07/
LOCATION:Televeda – Virtual Platform\, AZ\, United States
ORGANIZER;CN="Televeda":MAILTO:admin@televeda.com
END:VEVENT
BEGIN:VEVENT
DTSTART;TZID=America/Phoenix:20250707T170000
DTEND;TZID=America/Phoenix:20250707T193000
DTSTAMP:20260419T215356
CREATED:20250703T160602Z
LAST-MODIFIED:20250703T160602Z
UID:10001436-1751907600-1751916600@azveterans.com
SUMMARY:East Valley Women Veterans First Monday Outing
DESCRIPTION:Hi Ladies\, We’re having our First Monday Outing on July 7th with another t-shirt making opportunity and potluck! We will once again be doing t-shirts with our EVWV logo. \nPLEASE bring a t-shirt to put our logo on (washed without fabric softener). Join us for a fun evening with friends\, camaraderie\, and potluck. \nPlease bring a dish to share. When: July 7th from 5p – 7:30p \nWhere: Azura Vets Coalition Defender’s Den 165 N Centennial Way #110 Mesa\, AZ 85201 \nRSVP: Respond to this email if you plan to attend with what dish you will be bringing. Please contact me if you have any questions. See you on the 7th!
URL:https://azveterans.com/event/east-valley-women-veterans-first-monday-outing/
LOCATION:Azura Vets Coalition\, Defenders Den\, 165 N. Centennial Way #101\, Mesa\, AZ\, 85201\, United States
ORGANIZER;CN="East Valley Women Veterans":MAILTO:eastvalleywomenveterans@gmail.com
END:VEVENT
BEGIN:VEVENT
DTSTART;TZID=America/Phoenix:20250707T163000
DTEND;TZID=America/Phoenix:20250707T183000
DTSTAMP:20260419T215356
CREATED:20250618T231232Z
LAST-MODIFIED:20250618T231232Z
UID:10001368-1751905800-1751913000@azveterans.com
SUMMARY:Family Bowling Night for Veterans
DESCRIPTION:Join Home Base Arizona for a fun\, family-friendly and FREE evening of bowling! We’re proud to partner with Valors Veterans Community AZ to host this special event for Veterans and their Families at AMF Bowling Co. on Monday\, July 7\, from 4:30-6:30 p.m.\n\n\n\nWhether you’re a seasoned bowler or just in it for the fun\, this is a great way to unwind\, connect with fellow Veterans and spend quality time with your family!\n\n\n\nSpots are limited. To learn more and request to participate\, please visit https://hbp.partners.org/eventReg/advEvent.php?loc=AZ&id=337
URL:https://azveterans.com/event/family-bowling-night-for-veterans/
LOCATION:AMF Tempe Village Lanes\, 4407 S Rural Rd\, Tempe\, 85282\, United States
END:VEVENT
BEGIN:VEVENT
DTSTART;TZID=America/Phoenix:20250706T100000
DTEND;TZID=America/Phoenix:20250706T130000
DTSTAMP:20260419T215356
CREATED:20250429T151057Z
LAST-MODIFIED:20250429T151057Z
UID:10000406-1751796000-1751806800@azveterans.com
SUMMARY:Women Veterans - Building Connections Brunch
DESCRIPTION:West Valley Women Veterans – Building Connections Brunch Attention Women Service Members & Veterans – All Eras\, All Branches! Join Us for Our Monthly Building Connections Brunch: Connect with fellow women service members and veterans in a welcoming and supportive environment! This exclusive gathering is a chance to celebrate your service\, share stories\, and build lasting connections with those who truly understand your journey. Event Details: When: First Sunday of every month at 10 a.m. Where: Brothers Family Restaurant (Starting January 5\, 2025) What: A casual brunch featuring great food\, meaningful conversations\, and camaraderie. Why Attend? • Celebrate your service and achievements. • Build a network of like-minded women who share your experiences. • Enjoy a delicious meal in a private room designed to foster connection. • Feel empowered\, uplifted\, and part of a strong\, supportive community. Important Notes: • All attendees are responsible for their own food and drink.
URL:https://azveterans.com/event/women-veterans-building-connections-brunch/2025-07-06/
LOCATION:Brothers Family Restaurant\, 8466 W Peoria Ave #1\, Peoria\, 85345\, United States
END:VEVENT
BEGIN:VEVENT
DTSTART;TZID=America/Phoenix:20250705T080000
DTEND;TZID=America/Phoenix:20250705T130000
DTSTAMP:20260419T215356
CREATED:20250629T004443Z
LAST-MODIFIED:20250629T004443Z
UID:10001422-1751702400-1751720400@azveterans.com
SUMMARY:American Legion Post #115 / 145 Co Sponsor Ironwood Eagles Baseball Team
DESCRIPTION:American Legion Post #115 / 145 Co Sponsor Ironwood Eagles Baseball Team \nJULY 5th 2025 @ 8am – 1pm home game. Please come out and support these young men\, veterans\, and the greater military-connected community. \nConcessions stand proceeds are to support military veterans and their families. \n 
URL:https://azveterans.com/event/american-legion-post-115-145-co-sponsor-ironwood-eagles-baseball-team/
LOCATION:Ironwood High School\, 6051 W Sweetwater Ave\, Glendale\, 85304\, United States
ORGANIZER;CN="Daniel G. Fernandez Post 115":MAILTO:americanlegionpost115rgarcia@gmail.com
END:VEVENT
BEGIN:VEVENT
DTSTART;TZID=America/Phoenix:20250704T190000
DTEND;TZID=America/Phoenix:20250704T220000
DTSTAMP:20260419T215356
CREATED:20250419T043806Z
LAST-MODIFIED:20250419T043919Z
UID:10000284-1751655600-1751666400@azveterans.com
SUMMARY:Friday Night Karaoke - American Legion Post 138
DESCRIPTION:Friday Night Karaoke. Fun Time for All !! \nEvery Friday 7pm-10pm \n 
URL:https://azveterans.com/event/friday-night-karaoke-american-legion-post-138/2025-07-04/
LOCATION:American Legion Post 138\, 1264 W University Dr\, Mesa\, AZ\, 85201\, United States
ORGANIZER;CN="American Legion Post 138":MAILTO:firstvice@al138.org
END:VEVENT
BEGIN:VEVENT
DTSTART;TZID=America/Phoenix:20250704T120000
DTEND;TZID=America/Phoenix:20250704T170000
DTSTAMP:20260419T215356
CREATED:20250629T171451Z
LAST-MODIFIED:20250629T171451Z
UID:10001423-1751630400-1751648400@azveterans.com
SUMMARY:July 4th Party - AL Post 138
DESCRIPTION:4th of July starting at 12 NOON we will have hamburgers and hot dogs 50/50 and a silent action. If you items you want to donate or you want to make a gift basket please let Lawrence know.
URL:https://azveterans.com/event/july-4th-party-al-post-138/
LOCATION:American Legion Post 138\, 1264 W University Dr\, Mesa\, AZ\, 85201\, United States
ORGANIZER;CN="American Legion Post 138":MAILTO:firstvice@al138.org
END:VEVENT
BEGIN:VEVENT
DTSTART;TZID=America/Phoenix:20250704T074500
DTEND;TZID=America/Phoenix:20250704T090000
DTSTAMP:20260419T215356
CREATED:20250702T235154Z
LAST-MODIFIED:20250702T235154Z
UID:10001435-1751615100-1751619600@azveterans.com
SUMMARY:Coffee\, Camaraderie\, and Donuts
DESCRIPTION:“First Friday” event.  0745-0900.  The address is 6-Real Estate\, 4981 S Arizona Ave. #1 Chandler\, AZ. 85248.  If you could\, please RSVP to Gordon so he will know how many donuts to pick up\, Gordon 480-703-5274.
URL:https://azveterans.com/event/coffee-camaraderie-and-donuts/
LOCATION:6-Real Estate\, 4981 S Arizona Ave. #1\, Chandler\, 85248\, United States
ORGANIZER;CN="6-Real Estate":MAILTO:gleatherbarrow1881@gmail.com
END:VEVENT
BEGIN:VEVENT
DTSTART;TZID=America/Phoenix:20250703T180000
DTEND;TZID=America/Phoenix:20250703T190000
DTSTAMP:20260419T215356
CREATED:20250517T033712Z
LAST-MODIFIED:20250517T033712Z
UID:10000619-1751565600-1751569200@azveterans.com
SUMMARY:Female Veteran Support Circle
DESCRIPTION:Join us in a nurturing and empathetic environment designed specifically for veterans like you. Engage in meaningful discussions on topics that resonate with your experiences and connect with fellow veterans who comprehend the challenges you face. \nFemale Veteran Groups (2)
URL:https://azveterans.com/event/female-veteran-support-circle/2025-07-03/
LOCATION:Televeda – Virtual Platform\, AZ\, United States
ORGANIZER;CN="Televeda":MAILTO:admin@televeda.com
END:VEVENT
BEGIN:VEVENT
DTSTART;TZID=America/Phoenix:20250703T170000
DTEND;TZID=America/Phoenix:20250703T220000
DTSTAMP:20260419T215356
CREATED:20250609T005700Z
LAST-MODIFIED:20250609T010036Z
UID:10001261-1751562000-1751580000@azveterans.com
SUMMARY:Ladies Night\, QOH\, and Trivia!
DESCRIPTION:Gentlemen in Purple shirts and ALL ladies get $1 off their first drink!\n\n  \nQueen of Hearts is BACK!\n\n  \nOne Ticket for $5\, Three tickets for $10\, and Eight tickets for $20.\n\n  \nBuy tickets all week long and up until the drawing every Thursday\, right after the 7 O’clock Toast.\n\n  \nTrivia starts right after Queen of Hearts drawing!\n\nAmerican Legion Post 138 – Mesa
URL:https://azveterans.com/event/ladies-night-qoh-and-trivia/2025-07-03/
LOCATION:American Legion Post 138\, 1264 W University Dr\, Mesa\, AZ\, 85201\, United States
ORGANIZER;CN="American Legion Post 138":MAILTO:firstvice@al138.org
END:VEVENT
BEGIN:VEVENT
DTSTART;TZID=America/Phoenix:20250702T163000
DTEND;TZID=America/Phoenix:20250702T173000
DTSTAMP:20260419T215356
CREATED:20250511T004339Z
LAST-MODIFIED:20250511T004339Z
UID:10000535-1751473800-1751477400@azveterans.com
SUMMARY:Azura Vets Weekly Spotlight Podcast
DESCRIPTION:Weekly podcast with Nicole Pogue! \nThis is a weekly virtual event on YouTube!
URL:https://azveterans.com/event/azura-vets-weekly-spotlight-podcast/2025-07-02/
LOCATION:Defenders Den Wellness Lounge\, 165 North Centennial Way #110\, Mesa\, 85201\, United States
END:VEVENT
BEGIN:VEVENT
DTSTART;TZID=America/Phoenix:20250701T113000
DTEND;TZID=America/Phoenix:20250701T130000
DTSTAMP:20260419T215356
CREATED:20250502T035719Z
LAST-MODIFIED:20250630T181913Z
UID:10000484-1751369400-1751374800@azveterans.com
SUMMARY:SWVCC - East Valley Networking Luncheon
DESCRIPTION:LUNCH at Floridino’s in Chandler (Alma School and Ray) starts at 1130.  $22 per person.  We hope to see you there\, bring a friend and join us.  Go to www.swvcc.org to register so we can let the restaurant know how many are coming. \nAt the Southwest Veterans Chamber of Commerce\, you gain access to an exceptionally rewarding community full of networking opportunities\, rich education\, and professional business collaboration. \nFloridino’s Restaurant\n590 N. Alma School Rd.\nChandler\, AZ 85224 \n11:30 – 1:00 \nLunch: $22.00
URL:https://azveterans.com/event/svcc-east-valley-networking-luncheon/2025-07-01/
LOCATION:Floridino’s\, 590 Alma School Rd\, Chandler\, 85224\, United States
ORGANIZER;CN="Southwest Veterans Chamber of Commerce":MAILTO:t.sheets@swvcc.org
END:VEVENT
BEGIN:VEVENT
DTSTART;TZID=America/Phoenix:20250630T183000
DTEND;TZID=America/Phoenix:20250630T193000
DTSTAMP:20260419T215356
CREATED:20250603T205051Z
LAST-MODIFIED:20250603T205051Z
UID:10001116-1751308200-1751311800@azveterans.com
SUMMARY:BATTLEMIND
DESCRIPTION:“Battle mind” provides valuable insights into military perspectives\, how veterans navigate communication with civilian society\, the conflicts that may arise\, and practical solutions to bridge these gaps. \nREFERRAL CODE – HERO2024
URL:https://azveterans.com/event/battlemind/2025-06-30/
LOCATION:Televeda – Virtual Platform\, AZ\, United States
ORGANIZER;CN="Televeda":MAILTO:admin@televeda.com
END:VEVENT
BEGIN:VEVENT
DTSTART;TZID=America/Phoenix:20250630T173000
DTEND;TZID=America/Phoenix:20250630T183000
DTSTAMP:20260419T215356
CREATED:20250625T181143Z
LAST-MODIFIED:20250625T181143Z
UID:10001395-1751304600-1751308200@azveterans.com
SUMMARY:Guitars 4 Vets Graduation Event
DESCRIPTION:Come see some of your fellow Veterans graduate from Guitars 4 Vets an awesome Veteran Non-Profit!  The graduates will play 3 songs for the audience and then you will be able to mingle with other Veterans! \nGuitars 4 Vets Mission is:\n\nSharing the healing power of music\nWith our Veterans impacted by PTSD and other service-related trauma. \nCome at 530pm to the American Legion Post 91 – YOU DO NOT HAVE TO BE A MEMBER to come celebrate your fellow Vets!
URL:https://azveterans.com/event/guitars-4-vets-graduation-event/
LOCATION:American Legion Post 91\, 922 N. Alma School\, Chandler\, AZ\, 85224\, United States
ORGANIZER;CN="Frank Dugie":MAILTO:az.phoenix@guitarsforvets.org
END:VEVENT
END:VCALENDAR